BEGIN:VCALENDAR
VERSION:2.0
PRODID:-//Killarney Advertiser - ECPv6.8.2.1//NONSGML v1.0//EN
CALSCALE:GREGORIAN
METHOD:PUBLISH
X-WR-CALNAME:Killarney Advertiser
X-ORIGINAL-URL:https://killarneyadvertiser.ie
X-WR-CALDESC:Events for Killarney Advertiser
REFRESH-INTERVAL;VALUE=DURATION:PT1H
X-Robots-Tag:noindex
X-PUBLISHED-TTL:PT1H
BEGIN:VTIMEZONE
TZID:Europe/Dublin
BEGIN:STANDARD
TZOFFSETFROM:+0000
TZOFFSETTO:+0100
TZNAME:IST
DTSTART:20230326T010000
END:STANDARD
BEGIN:DAYLIGHT
TZOFFSETFROM:+0100
TZOFFSETTO:+0000
TZNAME:GMT
DTSTART:20231029T010000
END:DAYLIGHT
END:VTIMEZONE
BEGIN:VEVENT
DTSTART;TZID=Europe/Dublin:20230120T220000
DTEND;TZID=Europe/Dublin:20230121T000000
DTSTAMP:20260421T152051
CREATED:20230118T162244Z
LAST-MODIFIED:20230118T162244Z
UID:51765-1674252000-1674259200@killarneyadvertiser.ie
SUMMARY:Live Music
DESCRIPTION:Live music in the main bar with Ivan Ryan from 10pm \n\n        \n            Attachments\n        4th July 2023 A3 Poster (605 kB)
URL:https://killarneyadvertiser.ie/whats-on-killarney/live-music-79/
LOCATION:Scotts Bar and Courtyard\, Scotts Street\, Killarney\, V93 CF30\, Ireland
CATEGORIES:Live Music
ATTACH;FMTTYPE=image/jpeg:https://killarneyadvertiser.ie/wp-content/uploads/2023/01/320968705_955797619135415_3532986240274536505_n.jpg
ORGANIZER;CN="Scotts Bar and Courtyard":MAILTO:info@scottshotelkillarney.com
END:VEVENT
BEGIN:VEVENT
DTSTART;TZID=Europe/Dublin:20230121T210000
DTEND;TZID=Europe/Dublin:20230122T000000
DTSTAMP:20260421T152051
CREATED:20230119T112559Z
LAST-MODIFIED:20230119T112559Z
UID:51793-1674334800-1674345600@killarneyadvertiser.ie
SUMMARY:Live Music
DESCRIPTION:Live music in Scotts Bar and Courtyard kicking off from 9pm with Brightside the band in the courtyard and in the main bar from 10pm with Ivan Ryan \n\n        \n            Attachments\n        4th July 2023 A3 Poster (605 kB)
URL:https://killarneyadvertiser.ie/whats-on-killarney/live-music-80/
LOCATION:Scotts Bar and Courtyard\, Scotts Street\, Killarney\, V93 CF30\, Ireland
CATEGORIES:Live Music
ATTACH;FMTTYPE=image/jpeg:https://killarneyadvertiser.ie/wp-content/uploads/2023/01/scotts-courtyard-music.jpg
ORGANIZER;CN="Scotts Bar and Courtyard":MAILTO:info@scottshotelkillarney.com
END:VEVENT
END:VCALENDAR