BEGIN:VCALENDAR
VERSION:2.0
PRODID:-//Killarney Advertiser - ECPv6.8.2.1//NONSGML v1.0//EN
CALSCALE:GREGORIAN
METHOD:PUBLISH
X-ORIGINAL-URL:https://killarneyadvertiser.ie
X-WR-CALDESC:Events for Killarney Advertiser
REFRESH-INTERVAL;VALUE=DURATION:PT1H
X-Robots-Tag:noindex
X-PUBLISHED-TTL:PT1H
BEGIN:VTIMEZONE
TZID:Europe/Dublin
BEGIN:STANDARD
TZOFFSETFROM:+0000
TZOFFSETTO:+0100
TZNAME:IST
DTSTART:20230326T010000
END:STANDARD
BEGIN:DAYLIGHT
TZOFFSETFROM:+0100
TZOFFSETTO:+0000
TZNAME:GMT
DTSTART:20231029T010000
END:DAYLIGHT
END:VTIMEZONE
BEGIN:VEVENT
DTSTART;TZID=Europe/Dublin:20230106T210000
DTEND;TZID=Europe/Dublin:20230107T000000
DTSTAMP:20260421T170212
CREATED:20230103T162738Z
LAST-MODIFIED:20230103T162738Z
UID:51482-1673038800-1673049600@killarneyadvertiser.ie
SUMMARY:Live Music
DESCRIPTION:Live music in Scotts bar and Courtyard with Alan Flynn in the Courtyard from 9pm and Ivan Ryan in the main bar from 10pm \n\n        \n            Attachments\n        4th July 2023 A3 Poster (605 kB)
URL:https://killarneyadvertiser.ie/whats-on-killarney/live-music-76/
LOCATION:Scotts Bar and Courtyard\, Scotts Street\, Killarney\, V93 CF30\, Ireland
CATEGORIES:Live Music
ATTACH;FMTTYPE=image/jpeg:https://killarneyadvertiser.ie/wp-content/uploads/2023/01/190510_COMMERCIAL_ScottsLowRes_47.jpg
ORGANIZER;CN="Scotts Bar and Courtyard":MAILTO:info@scottshotelkillarney.com
END:VEVENT
BEGIN:VEVENT
DTSTART;TZID=Europe/Dublin:20230107T210000
DTEND;TZID=Europe/Dublin:20230108T000000
DTSTAMP:20260421T170212
CREATED:20230104T102805Z
LAST-MODIFIED:20230104T102805Z
UID:51488-1673125200-1673136000@killarneyadvertiser.ie
SUMMARY:Live Music
DESCRIPTION:Live music in the Courtyard from 9pm with Brightside the Band\, Ivan Ryan live in the main bar from 10pm \n\n        \n            Attachments\n        4th July 2023 A3 Poster (605 kB)
URL:https://killarneyadvertiser.ie/whats-on-killarney/live-music-77/
LOCATION:Scotts Bar and Courtyard\, Scotts Street\, Killarney\, V93 CF30\, Ireland
CATEGORIES:Live Music
ATTACH;FMTTYPE=image/png:https://killarneyadvertiser.ie/wp-content/uploads/2023/01/81893847_1699902753479352_6977235867693744128_n.png
ORGANIZER;CN="Scotts Bar and Courtyard":MAILTO:info@scottshotelkillarney.com
END:VEVENT
END:VCALENDAR