BEGIN:VCALENDAR
VERSION:2.0
PRODID:-//Killarney Advertiser - ECPv6.8.2.1//NONSGML v1.0//EN
CALSCALE:GREGORIAN
METHOD:PUBLISH
X-WR-CALNAME:Killarney Advertiser
X-ORIGINAL-URL:https://killarneyadvertiser.ie
X-WR-CALDESC:Events for Killarney Advertiser
REFRESH-INTERVAL;VALUE=DURATION:PT1H
X-Robots-Tag:noindex
X-PUBLISHED-TTL:PT1H
BEGIN:VTIMEZONE
TZID:Europe/Dublin
BEGIN:STANDARD
TZOFFSETFROM:+0000
TZOFFSETTO:+0100
TZNAME:IST
DTSTART:20220327T010000
END:STANDARD
BEGIN:DAYLIGHT
TZOFFSETFROM:+0100
TZOFFSETTO:+0000
TZNAME:GMT
DTSTART:20221030T010000
END:DAYLIGHT
END:VTIMEZONE
BEGIN:VEVENT
DTSTART;VALUE=DATE:20221117
DTEND;VALUE=DATE:20221118
DTSTAMP:20260421T123335
CREATED:20221028T110643Z
LAST-MODIFIED:20221028T110643Z
UID:49801-1668643200-1668729599@killarneyadvertiser.ie
SUMMARY:Dine in Killarney
DESCRIPTION:Come and dine in Killarney with participating restaurants offering a special 3-course menu for just Eur30 on Thursday 17th and 24th of November. \nBook directly with your restaurant of choice quoting ‘Dine in Killarney’ \nChoose from Bricin\, Cronins Restauran\, Garret’s\, Hannigan’s @ The International Hotel\, Harrow\, Hilliard’s\, Kayne’s Bar & Brasserie\, Murphy Brownes\, Murphy’s\, O’Donoghue Public House\, The Arbutus Hotel\, The Candle Room @ Killarney Royal\, The Flesk Restaurant (Main Street)\, The Garden Room @ Great Southern Killarney\, The Mill Bar & Brasserie @ Heights Hotel\, The Porterhouse Killarney \nDine in Killarney is part of the annual Christmas in Killarney Festival 2022. \n\n        \n            Attachments\n        4th July 2023 A3 Poster (605 kB)
URL:https://killarneyadvertiser.ie/whats-on-killarney/dine-in-killarney/2022-11-17/
CATEGORIES:Food & Drink
ATTACH;FMTTYPE=image/jpeg:https://killarneyadvertiser.ie/wp-content/uploads/2022/10/Christmas-Dining.jpg
END:VEVENT
BEGIN:VEVENT
DTSTART;TZID=Europe/Dublin:20221118T193000
DTEND;TZID=Europe/Dublin:20221118T223000
DTSTAMP:20260421T123335
CREATED:20221014T141007Z
LAST-MODIFIED:20221014T141007Z
UID:49332-1668799800-1668810600@killarneyadvertiser.ie
SUMMARY:Ardal O'Hanlon - The Showing Off Must Go On
DESCRIPTION:Ardal is conflicted. Where he comes from there is nothing worse than showing off. It’s right up there with arson or murder. Yet he shows off as a way of life. Three questions. Why? Why? Why? \nBut just when he thought he’d made sense of the world\, when he’d finally found wisdom and peace\, the world went mad again\, fell off its axis. And you can’t just stand idly by. \nIn an age of raging populism\, angry identity politics\, the end of truth\, the collapsing middle ground\, and peak avocado\, Ardal\, an otherwise gentle voice of reason is forced to rejoin the fray. Terrified of being on the wrong side of history and keen to prove his age\, race\, gender and class don’t necessarily define him as a person\, he turns to comedy\, comedy as ever being the best\, most therapeutic emergency response to extreme events there is. \nArdal O’Hanlon\, star of such shows as Father Ted and Death in Paradise\, and recently seen in Taskmaster and Would I Lie to You\, continues to tour his acclaimed (and very silly) live show worldwide. \n\n        \n            Attachments\n        4th July 2023 A3 Poster (605 kB)
URL:https://killarneyadvertiser.ie/whats-on-killarney/ardal-ohanlon-the-showing-off-must-go-on/
LOCATION:Gleneagle INEC Arena\, Muckross Road\, Killarney\, V93 V6WF\, Ireland
CATEGORIES:Arts
ATTACH;FMTTYPE=image/jpeg:https://killarneyadvertiser.ie/wp-content/uploads/2022/10/Ardal-OHanlon-Web-Images-440-x-300.jpg
ORGANIZER;CN="Gleneagle INEC Arena":MAILTO:info@inec.ie
END:VEVENT
BEGIN:VEVENT
DTSTART;TZID=Europe/Dublin:20221118T210000
DTEND;TZID=Europe/Dublin:20221118T230000
DTSTAMP:20260421T123335
CREATED:20220706T115528Z
LAST-MODIFIED:20221116T094028Z
UID:47967-1668805200-1668812400@killarneyadvertiser.ie
SUMMARY:Café Du Parc at Dark
DESCRIPTION:Come and sit with friends in the warm relaxed atmosphere of the Cafe du Parc bar. From 5pm daily enjoy uncomplicated yet moreish dishes from our bar bites menu. Share food with friends and enjoy seasonal cocktails in an intimate and funky setting. Our dj’s play a mix of old school jams and funky beats and the best of local talent plays live on a regular basis. We have a great selection of seasonal cocktails as well as craft beers\, gins and whiskeys. \n\n        \n            Attachments\n        4th July 2023 A3 Poster (605 kB)
URL:https://killarneyadvertiser.ie/whats-on-killarney/cafe-du-parc-at-dark-2022-11-18/
LOCATION:Café Du Parc\, Killarney Plaza Hotel & Spa\, Kenmare Place\, Killarney\, Co. Kerry\, V93X3VW\, Ireland
CATEGORIES:Food & Drink
ATTACH;FMTTYPE=image/jpeg:https://killarneyadvertiser.ie/wp-content/uploads/2022/07/IMG_5331.jpg
END:VEVENT
BEGIN:VEVENT
DTSTART;TZID=Europe/Dublin:20221118T210000
DTEND;TZID=Europe/Dublin:20221119T000000
DTSTAMP:20260421T123335
CREATED:20221114T123953Z
LAST-MODIFIED:20221114T123953Z
UID:50278-1668805200-1668816000@killarneyadvertiser.ie
SUMMARY:Live Music
DESCRIPTION:Live music from 9pm in the Courtyard with Alan Flynn and in the main bar from 10pm with Ivan Ryan \n\n        \n            Attachments\n        4th July 2023 A3 Poster (605 kB)
URL:https://killarneyadvertiser.ie/whats-on-killarney/live-music-72/
LOCATION:Scotts Bar and Courtyard\, Scotts Street\, Killarney\, V93 CF30\, Ireland
CATEGORIES:Live Music
ATTACH;FMTTYPE=image/jpeg:https://killarneyadvertiser.ie/wp-content/uploads/2022/11/190129_COMMERCIAL_ScottsHotel_10-scaled.jpg
ORGANIZER;CN="Scotts Bar and Courtyard":MAILTO:info@scottshotelkillarney.com
END:VEVENT
BEGIN:VEVENT
DTSTART;TZID=Europe/Dublin:20221119T150000
DTEND;TZID=Europe/Dublin:20221119T230000
DTSTAMP:20260421T123335
CREATED:20220706T115528Z
LAST-MODIFIED:20221116T094133Z
UID:47968-1668870000-1668898800@killarneyadvertiser.ie
SUMMARY:Café Du Parc at Dark
DESCRIPTION:Come and sit with friends in the warm relaxed atmosphere of the Cafe du Parc bar. From 5pm daily enjoy uncomplicated yet moreish dishes from our bar bites menu. Share food with friends and enjoy seasonal cocktails in an intimate and funky setting. Our dj’s play a mix of old school jams and funky beats and the best of local talent plays live on a regular basis. We have a great selection of seasonal cocktails as well as craft beers\, gins and whiskeys. \n\n        \n            Attachments\n        4th July 2023 A3 Poster (605 kB)
URL:https://killarneyadvertiser.ie/whats-on-killarney/cafe-du-parc-at-dark-2022-11-19/
LOCATION:Café Du Parc\, Killarney Plaza Hotel & Spa\, Kenmare Place\, Killarney\, Co. Kerry\, V93X3VW\, Ireland
CATEGORIES:Food & Drink
ATTACH;FMTTYPE=image/jpeg:https://killarneyadvertiser.ie/wp-content/uploads/2022/07/IMG_5331.jpg
END:VEVENT
BEGIN:VEVENT
DTSTART;TZID=Europe/Dublin:20221119T190000
DTEND;TZID=Europe/Dublin:20221119T223000
DTSTAMP:20260421T123335
CREATED:20221014T141516Z
LAST-MODIFIED:20221014T141516Z
UID:49334-1668884400-1668897000@killarneyadvertiser.ie
SUMMARY:Pat & Faye Shortt 'Well'
DESCRIPTION:Comic father and daughter duo Pat Shortt & Faye Shortt bring their hilarious new show Well to the Gleneagle INEC Arena.  Since collaborating\, they have written and performed two hilarious online shows\, The Wellness Hour With Paaah and Sile and Pat Shortt’s Comedy Heads. \nNow the pair bring their madcap characters to the stage in Well. \nThe show follows the unfortunate demise of a dad and daughter Country and Irish music duo as they attempt to ascend the heights of their local music scene by playing a gig in the town’s hotel. \nWell showcases the extraordinary comedy talents of this funny pairing and their exceptional ability to bring humour to the most everyday situation with an array of superbly funny characters.  \nA show not to be missed. Well\, you have been warned! \n\n        \n            Attachments\n        4th July 2023 A3 Poster (605 kB)
URL:https://killarneyadvertiser.ie/whats-on-killarney/pat-faye-shortt-well/
LOCATION:Gleneagle INEC Arena\, Muckross Road\, Killarney\, V93 V6WF\, Ireland
CATEGORIES:Concert,Arts
ATTACH;FMTTYPE=image/jpeg:https://killarneyadvertiser.ie/wp-content/uploads/2022/10/Pat-and-Faye-Shortt-Jan-2022-Web-Image-440x300-1.jpg
ORGANIZER;CN="Gleneagle INEC Arena":MAILTO:info@inec.ie
END:VEVENT
BEGIN:VEVENT
DTSTART;TZID=Europe/Dublin:20221119T210000
DTEND;TZID=Europe/Dublin:20221119T230000
DTSTAMP:20260421T123335
CREATED:20220706T120347Z
LAST-MODIFIED:20221116T094338Z
UID:48075-1668891600-1668898800@killarneyadvertiser.ie
SUMMARY:Local Pianist - Sean Tracey
DESCRIPTION:Plaza’s Piano Bar brings class and warmth to any party or event. With beautiful interiors\, and views of Killarney National Park\, enjoy melodies from our Resident Piano Bar player as you enjoy our carefully selected drink options. The Piano Bar can accommodate events for up to 100 guests. \n\n        \n            Attachments\n        4th July 2023 A3 Poster (605 kB)
URL:https://killarneyadvertiser.ie/whats-on-killarney/local-pianist-2022-11-19/
CATEGORIES:Live Music
ATTACH;FMTTYPE=image/jpeg:https://killarneyadvertiser.ie/wp-content/uploads/2022/07/download-3.jpg
END:VEVENT
BEGIN:VEVENT
DTSTART;TZID=Europe/Dublin:20221120T110000
DTEND;TZID=Europe/Dublin:20221120T150000
DTSTAMP:20260421T123335
CREATED:20220810T133240Z
LAST-MODIFIED:20221116T094219Z
UID:48029-1668942000-1668956400@killarneyadvertiser.ie
SUMMARY:Funky Brunch
DESCRIPTION:Cafe du Parc has become a renowned destination in Killarney town for our funky brunch. Listen to soulful tunes by our resident dj (11am – 3pm) while enjoying an extensive brunch menu including pancakes\, Eggs Benedict\, along with coffees\, juices\, mimosas and much more. Make your time with us more special by trying our bottomless brunch available from 12pm to 2pm. A great place to wind down the weekend or ‘something different’ as a special occasion. \n\n        \n            Attachments\n        4th July 2023 A3 Poster (605 kB)
URL:https://killarneyadvertiser.ie/whats-on-killarney/funky-brunch-2022-11-20/
LOCATION:Café Du Parc\, Killarney Plaza Hotel & Spa\, Kenmare Place\, Killarney\, Co. Kerry\, V93X3VW\, Ireland
CATEGORIES:Live Music,Food & Drink
ATTACH;FMTTYPE=image/jpeg:https://killarneyadvertiser.ie/wp-content/uploads/2022/08/IMG_5369-1.jpg
END:VEVENT
END:VCALENDAR