BEGIN:VCALENDAR
VERSION:2.0
PRODID:-//Killarney Advertiser - ECPv6.8.2.1//NONSGML v1.0//EN
CALSCALE:GREGORIAN
METHOD:PUBLISH
X-WR-CALNAME:Killarney Advertiser
X-ORIGINAL-URL:https://killarneyadvertiser.ie
X-WR-CALDESC:Events for Killarney Advertiser
REFRESH-INTERVAL;VALUE=DURATION:PT1H
X-Robots-Tag:noindex
X-PUBLISHED-TTL:PT1H
BEGIN:VTIMEZONE
TZID:Europe/Dublin
BEGIN:STANDARD
TZOFFSETFROM:+0000
TZOFFSETTO:+0100
TZNAME:IST
DTSTART:20220327T010000
END:STANDARD
BEGIN:DAYLIGHT
TZOFFSETFROM:+0100
TZOFFSETTO:+0000
TZNAME:GMT
DTSTART:20221030T010000
END:DAYLIGHT
TZID:Europe/Paris
BEGIN:DAYLIGHT
TZOFFSETFROM:+0100
TZOFFSETTO:+0200
TZNAME:CEST
DTSTART:20220327T010000
END:DAYLIGHT
BEGIN:STANDARD
TZOFFSETFROM:+0200
TZOFFSETTO:+0100
TZNAME:CET
DTSTART:20221030T010000
END:STANDARD
END:VTIMEZONE
BEGIN:VEVENT
DTSTART;TZID=Europe/Dublin:20221030T230000
DTEND;TZID=Europe/Dublin:20221031T010000
DTSTAMP:20260421T094923
CREATED:20221019T142408Z
LAST-MODIFIED:20221019T143426Z
UID:49396-1667170800-1667178000@killarneyadvertiser.ie
SUMMARY:Dreams of Freedom
DESCRIPTION:Dreams Of Freedom are a Ballad Folk and Rebel band who hail from Co Kerry in the southwest of Ireland. Dreams Of Freedom strive on their commitment to carrying on the proud culture and traditions of Ireland through songs and stories. Having a great time and enjoying the experience of one of our gigs is very much our number one priority. Dreams Of Freedom work hard promoting the culture of Ireland through songs and music. This is one of their passions\, telling the story of Irish history through song and music and in their own small part trying to preserve the long history of Ireland\, from Famines and Rebellions to old stories and songs. When you step into a Dreams Of Freedom gig you will be met with instant energy and desire\, you will feel the true spirit of Ireland’s songs and music and you will see what bringing these songs to you means too them. So go find a Dreams Of Freedom gig and experience the excitement for yourself. See them perform in the INEC Backstage Bar \n\n        \n            Attachments\n        4th July 2023 A3 Poster (605 kB)
URL:https://killarneyadvertiser.ie/whats-on-killarney/dreams-of-freedom/
LOCATION:Gleneagle INEC Arena\, Muckross Road\, Killarney\, V93 V6WF\, Ireland
CATEGORIES:Live Music,Sport
ATTACH;FMTTYPE=image/jpeg:https://killarneyadvertiser.ie/wp-content/uploads/2022/10/The-Gleneagle-Killarney-Lake-Tours-SEM-1200-x-1200-Logo-1-10.jpg
ORGANIZER;CN="Gleneagle INEC Arena":MAILTO:info@inec.ie
END:VEVENT
BEGIN:VEVENT
DTSTART;TZID=Europe/Dublin:20221104T210000
DTEND;TZID=Europe/Dublin:20221104T230000
DTSTAMP:20260421T094923
CREATED:20220706T115528Z
LAST-MODIFIED:20221104T102209Z
UID:47961-1667595600-1667602800@killarneyadvertiser.ie
SUMMARY:Café Du Parc at Dark
DESCRIPTION:Come and sit with friends in the warm relaxed atmosphere of the Cafe du Parc bar. From 5pm daily enjoy uncomplicated yet moreish dishes from our bar bites menu. Share food with friends and enjoy seasonal cocktails in an intimate and funky setting. Our dj’s play a mix of old school jams and funky beats and the best of local talent plays live on a regular basis. We have a great selection of seasonal cocktails as well as craft beers\, gins and whiskeys. \n\n        \n            Attachments\n        4th July 2023 A3 Poster (605 kB)
URL:https://killarneyadvertiser.ie/whats-on-killarney/cafe-du-parc-at-dark-2022-11-04/
LOCATION:Café Du Parc\, Killarney Plaza Hotel & Spa\, Kenmare Place\, Killarney\, Co. Kerry\, V93X3VW\, Ireland
CATEGORIES:Food & Drink
ATTACH;FMTTYPE=image/jpeg:https://killarneyadvertiser.ie/wp-content/uploads/2022/07/IMG_5331.jpg
END:VEVENT
BEGIN:VEVENT
DTSTART;TZID=Europe/Dublin:20221105T210000
DTEND;TZID=Europe/Dublin:20221105T230000
DTSTAMP:20260421T094923
CREATED:20220706T115528Z
LAST-MODIFIED:20221104T102235Z
UID:47962-1667682000-1667689200@killarneyadvertiser.ie
SUMMARY:Café Du Parc at Dark
DESCRIPTION:Come and sit with friends in the warm relaxed atmosphere of the Cafe du Parc bar. From 5pm daily enjoy uncomplicated yet moreish dishes from our bar bites menu. Share food with friends and enjoy seasonal cocktails in an intimate and funky setting. Our dj’s play a mix of old school jams and funky beats and the best of local talent plays live on a regular basis. We have a great selection of seasonal cocktails as well as craft beers\, gins and whiskeys. \n\n        \n            Attachments\n        4th July 2023 A3 Poster (605 kB)
URL:https://killarneyadvertiser.ie/whats-on-killarney/cafe-du-parc-at-dark-2022-11-05/
LOCATION:Café Du Parc\, Killarney Plaza Hotel & Spa\, Kenmare Place\, Killarney\, Co. Kerry\, V93X3VW\, Ireland
CATEGORIES:Food & Drink
ATTACH;FMTTYPE=image/jpeg:https://killarneyadvertiser.ie/wp-content/uploads/2022/07/IMG_5331.jpg
END:VEVENT
BEGIN:VEVENT
DTSTART;TZID=Europe/Dublin:20221106T110000
DTEND;TZID=Europe/Dublin:20221106T150000
DTSTAMP:20260421T094923
CREATED:20220810T133240Z
LAST-MODIFIED:20221104T102323Z
UID:48023-1667732400-1667746800@killarneyadvertiser.ie
SUMMARY:Funky Brunch
DESCRIPTION:Cafe du Parc has become a renowned destination in Killarney town for our funky brunch. Listen to soulful tunes by our resident dj (11am – 3pm) while enjoying an extensive brunch menu including pancakes\, Eggs Benedict\, along with coffees\, juices\, mimosas and much more. Make your time with us more special by trying our bottomless brunch available from 12pm to 2pm. A great place to wind down the weekend or ‘something different’ as a special occasion. \n\n        \n            Attachments\n        4th July 2023 A3 Poster (605 kB)
URL:https://killarneyadvertiser.ie/whats-on-killarney/funky-brunch-2022-11-06/
LOCATION:Café Du Parc\, Killarney Plaza Hotel & Spa\, Kenmare Place\, Killarney\, Co. Kerry\, V93X3VW\, Ireland
CATEGORIES:Live Music,Food & Drink
ATTACH;FMTTYPE=image/jpeg:https://killarneyadvertiser.ie/wp-content/uploads/2022/08/IMG_5369-1.jpg
END:VEVENT
BEGIN:VEVENT
DTSTART;TZID=Europe/Dublin:20221106T200000
DTEND;TZID=Europe/Dublin:20221106T223000
DTSTAMP:20260421T094923
CREATED:20221014T140650Z
LAST-MODIFIED:20221014T140650Z
UID:49330-1667764800-1667773800@killarneyadvertiser.ie
SUMMARY:Lyra
DESCRIPTION:Lyra is a singer/songwriter from Cork who’s voice and on stage presence is truly at home on a global stage.  Her songs have been used on worldwide ad campaigns for Van Moof\, Guinness\, Disney+ and have featured  in “Grey’s Anatomy” and “Love Island”. \nA unique talent\, she manages to produce a sound that captures the Celtic heart of music along with a blood flow of pop\, haunting powerful ballads. Her songwriting comes from the heart and she has written about heartbreak\, family\, falling in love\, regret\, and revenge. \nIn 2021 Lyra took her live show on tour and played multiple festivals and shows across the UK and Ireland.  She has performed on “The Late Late Show”\, “Tommy Tiernan”\, “Heart of Saturday Night”\, and “The Big Deal”. \nChosen by RTÉ to ring in New Year’s Eve 2021 and 2022 with “New Day” and “We Are Beautiful.”  Lyra also performed and co-wrote with Bill Whelan the closing song “Light me up” for Riverdance\, The Movie\, which has had a worldwide release on Netflix. \nLyra is writing and recording her forthcoming album\,  her current single with Irish DJ & Producer John Gibbons “Edge of Seventeen” achieved # 1 spot on Shazam Charts and holding inside # the top 5 of the Irish Breakers Chart. Her previous single “Lose My Mind” (with Shane Codd) has been LYRA’s biggest success to date\, spending over six months in the national airplay charts Top 100. \n\n        \n            Attachments\n        4th July 2023 A3 Poster (605 kB)
URL:https://killarneyadvertiser.ie/whats-on-killarney/lyra/
LOCATION:Gleneagle INEC Arena\, Muckross Road\, Killarney\, V93 V6WF\, Ireland
CATEGORIES:Live Music,Concert
ATTACH;FMTTYPE=image/jpeg:https://killarneyadvertiser.ie/wp-content/uploads/2022/10/Lyra-Web-Images-440-x-300.jpg
ORGANIZER;CN="Gleneagle INEC Arena":MAILTO:info@inec.ie
END:VEVENT
BEGIN:VEVENT
DTSTART;TZID=Europe/Dublin:20221106T213000
DTEND;TZID=Europe/Dublin:20221106T233000
DTSTAMP:20260421T094923
CREATED:20221102T111346Z
LAST-MODIFIED:20221102T111346Z
UID:49912-1667770200-1667777400@killarneyadvertiser.ie
SUMMARY:Mick Flavin Dance
DESCRIPTION:Mick Flavin Dance in the Gleneagle Ballroom as part of the Irish Country Music week. \n\n        \n            Attachments\n        4th July 2023 A3 Poster (605 kB)
URL:https://killarneyadvertiser.ie/whats-on-killarney/mick-flavin-dance-3/
LOCATION:Gleneagle INEC Arena\, Muckross Road\, Killarney\, V93 V6WF\, Ireland
ATTACH;FMTTYPE=image/jpeg:https://killarneyadvertiser.ie/wp-content/uploads/2022/11/The-Gleneagle-Killarney-Lake-Tours-SEM-1200-x-1200-Logo.jpg
ORGANIZER;CN="Gleneagle INEC Arena":MAILTO:info@inec.ie
END:VEVENT
BEGIN:VEVENT
DTSTART;TZID=Europe/Paris:20221106T213000
DTEND;TZID=Europe/Paris:20221106T233000
DTSTAMP:20260421T094923
CREATED:20221102T121034Z
LAST-MODIFIED:20221102T121034Z
UID:49907-1667770200-1667777400@killarneyadvertiser.ie
SUMMARY:Mick Flavin Dance
DESCRIPTION:Irish Country Music Week with Mick Flavin in the Gleneagle Ballroom. \n\n        \n            Attachments\n        4th July 2023 A3 Poster (605 kB)
URL:https://killarneyadvertiser.ie/whats-on-killarney/mick-flavin-dance-2/
LOCATION:Gleneagle INEC Arena\, Muckross Road\, Killarney\, V93 V6WF\, Ireland
CATEGORIES:Live Music,Concert
ATTACH;FMTTYPE=image/jpeg:https://killarneyadvertiser.ie/wp-content/uploads/2022/11/The-Gleneagle-Killarney-Lake-Tours-SEM-1200-x-1200-Logo-1.jpg
ORGANIZER;CN="Gleneagle INEC Arena":MAILTO:info@inec.ie
END:VEVENT
END:VCALENDAR