BEGIN:VCALENDAR
VERSION:2.0
PRODID:-//Killarney Advertiser - ECPv6.8.2.1//NONSGML v1.0//EN
CALSCALE:GREGORIAN
METHOD:PUBLISH
X-ORIGINAL-URL:https://killarneyadvertiser.ie
X-WR-CALDESC:Events for Killarney Advertiser
REFRESH-INTERVAL;VALUE=DURATION:PT1H
X-Robots-Tag:noindex
X-PUBLISHED-TTL:PT1H
BEGIN:VTIMEZONE
TZID:Europe/Dublin
BEGIN:STANDARD
TZOFFSETFROM:+0000
TZOFFSETTO:+0100
TZNAME:IST
DTSTART:20220327T010000
END:STANDARD
BEGIN:DAYLIGHT
TZOFFSETFROM:+0100
TZOFFSETTO:+0000
TZNAME:GMT
DTSTART:20221030T010000
END:DAYLIGHT
END:VTIMEZONE
BEGIN:VEVENT
DTSTART;TZID=Europe/Dublin:20221019T213000
DTEND;TZID=Europe/Dublin:20221019T233000
DTSTAMP:20260421T110648
CREATED:20221019T140744Z
LAST-MODIFIED:20221019T140744Z
UID:49390-1666215000-1666222200@killarneyadvertiser.ie
SUMMARY:Michael Collins Dance
DESCRIPTION:Dancing with Michael Collins in the Gleneagle Ballroom \n\n        \n            Attachments\n        4th July 2023 A3 Poster (605 kB)
URL:https://killarneyadvertiser.ie/whats-on-killarney/michael-collins-dance-4/
LOCATION:Gleneagle INEC Arena\, Muckross Road\, Killarney\, V93 V6WF\, Ireland
CATEGORIES:Live Music
ATTACH;FMTTYPE=image/jpeg:https://killarneyadvertiser.ie/wp-content/uploads/2022/10/The-Gleneagle-Killarney-Lake-Tours-SEM-1200-x-1200-Logo-1-7.jpg
ORGANIZER;CN="Gleneagle INEC Arena":MAILTO:info@inec.ie
END:VEVENT
BEGIN:VEVENT
DTSTART;TZID=Europe/Dublin:20221021T193000
DTEND;TZID=Europe/Dublin:20221021T223000
DTSTAMP:20260421T110648
CREATED:20221014T134538Z
LAST-MODIFIED:20221014T134538Z
UID:49315-1666380600-1666391400@killarneyadvertiser.ie
SUMMARY:Pillow Queens
DESCRIPTION:Pillow Queens formed in Winter 2016 with the immediate release of their demo EP Calm Girls\, which sparked a successful string of UK & Irish dates & festival appearances.  \nTheir second EP State of the State made its way onto BBC 6 Music’s playlists\, with Steve Lamacq calling them “deceptively infectious\, with sharp hooks and sharp nails”. The lead single Favourite picked up lots of great support on the UK’s national airwaves\, including plays on BBC RADIO 1\, BBC Introducing\, RADIO X & Amazing Radio.  \nAfter two more UK tours\, and two sellout hometown gigs\, the band soon found themselves more and more comfortable on bigger stages\, opening for the likes of American Football and Pussy Riot\, capping off Summer 2018 with a stadium performance opening for Idles & Future Islands. \n\n        \n            Attachments\n        4th July 2023 A3 Poster (605 kB)
URL:https://killarneyadvertiser.ie/whats-on-killarney/pillow-queens/
LOCATION:Gleneagle INEC Arena\, Muckross Road\, Killarney\, V93 V6WF\, Ireland
CATEGORIES:Live Music,Concert
ATTACH;FMTTYPE=image/jpeg:https://killarneyadvertiser.ie/wp-content/uploads/2022/10/Pillow-Queens-Web-Images-440-x-300.jpg
ORGANIZER;CN="Gleneagle INEC Arena":MAILTO:info@inec.ie
END:VEVENT
BEGIN:VEVENT
DTSTART;TZID=Europe/Dublin:20221021T194500
DTEND;TZID=Europe/Dublin:20221022T020000
DTSTAMP:20260421T110648
CREATED:20220729T084706Z
LAST-MODIFIED:20221013T152427Z
UID:48206-1666381500-1666404000@killarneyadvertiser.ie
SUMMARY:Rocking Jimmy & Tracey - Live Irish Folk Music
DESCRIPTION:Steeped in history and tradition\, we’re bringing back old pub ways to Killarney town for you to experience authentic traditional Irish pub life. Pull up a stool at the bar\, or relax into a cozy corner in one of our snugs. \nTradition is craft and design passed through the generations\, and we’re honoring that by serving you dishes as they were intended to be made and enjoyed. Underneath it all\, O’Donoghue Public House is a place to enjoy a creamy pint after an exhilarating day\, and we haven’t forgotten about the craft of draught. Guinness is what we’re good at\, and we hear it’s good for you too. \nEnjoy Live Irish Folk Music 7 nights a week with us! \n\n        \n            Attachments\n        4th July 2023 A3 Poster (605 kB)
URL:https://killarneyadvertiser.ie/whats-on-killarney/live-irish-folk-music-2022-10-21/
LOCATION:O’Donoghue Public House\, O'Donoghue Public House\, College St\, Killarney\, Co. Kerry\, V93 HP7A\, Ireland
CATEGORIES:Live Music
ATTACH;FMTTYPE=image/jpeg:https://killarneyadvertiser.ie/wp-content/uploads/2022/07/ODonoghue-Public-House-00001-1.jpg
END:VEVENT
BEGIN:VEVENT
DTSTART;TZID=Europe/Dublin:20221022T193000
DTEND;TZID=Europe/Dublin:20221022T220000
DTSTAMP:20260421T110648
CREATED:20221014T134723Z
LAST-MODIFIED:20221014T134723Z
UID:49317-1666467000-1666476000@killarneyadvertiser.ie
SUMMARY:The Handyman
DESCRIPTION:The Handyman – written and performed by Seamus O’Rourke Hugh Spotten is the local Handyman. He is about to receive an award for his contribution to the community… but all is not what it seems in a small town\, falling in on itself. Seamus O’Rourke explores friendship\, relationships and how best to get noticed on your last day. The Handyman is hilariously funny\, yet a poignant poetic look at small-town life in rural Ireland. \n\n        \n            Attachments\n        4th July 2023 A3 Poster (605 kB)
URL:https://killarneyadvertiser.ie/whats-on-killarney/the-handyman/
LOCATION:Gleneagle INEC Arena\, Muckross Road\, Killarney\, V93 V6WF\, Ireland
CATEGORIES:Live Music,Concert
ATTACH;FMTTYPE=image/jpeg:https://killarneyadvertiser.ie/wp-content/uploads/2022/10/The-Handyman-Web-Images-440-x-300.jpg
ORGANIZER;CN="Gleneagle INEC Arena":MAILTO:info@inec.ie
END:VEVENT
BEGIN:VEVENT
DTSTART;TZID=Europe/Dublin:20221022T194500
DTEND;TZID=Europe/Dublin:20221023T020000
DTSTAMP:20260421T110648
CREATED:20220729T084706Z
LAST-MODIFIED:20221013T152701Z
UID:48207-1666467900-1666490400@killarneyadvertiser.ie
SUMMARY:Rocking Jimmy & Tracey - Live Irish Folk Music
DESCRIPTION:Steeped in history and tradition\, we’re bringing back old pub ways to Killarney town for you to experience authentic traditional Irish pub life. Pull up a stool at the bar\, or relax into a cozy corner in one of our snugs. \nTradition is craft and design passed through the generations\, and we’re honoring that by serving you dishes as they were intended to be made and enjoyed. Underneath it all\, O’Donoghue Public House is a place to enjoy a creamy pint after an exhilarating day\, and we haven’t forgotten about the craft of draught. Guinness is what we’re good at\, and we hear it’s good for you too. \nEnjoy Live Irish Folk Music 7 nights a week with us! \n\n        \n            Attachments\n        4th July 2023 A3 Poster (605 kB)
URL:https://killarneyadvertiser.ie/whats-on-killarney/live-irish-folk-music-2022-10-22/
LOCATION:O’Donoghue Public House\, O'Donoghue Public House\, College St\, Killarney\, Co. Kerry\, V93 HP7A\, Ireland
CATEGORIES:Live Music
ATTACH;FMTTYPE=image/jpeg:https://killarneyadvertiser.ie/wp-content/uploads/2022/07/ODonoghue-Public-House-00001-1.jpg
END:VEVENT
BEGIN:VEVENT
DTSTART;TZID=Europe/Dublin:20221022T210000
DTEND;TZID=Europe/Dublin:20221023T000000
DTSTAMP:20260421T110648
CREATED:20221014T144254Z
LAST-MODIFIED:20221014T144254Z
UID:49344-1666472400-1666483200@killarneyadvertiser.ie
SUMMARY:Derek Ryan Dance
DESCRIPTION:Dance the night away with Derek Ryan in the Gleneagle Ballroom on October 22nd. \n\n        \n            Attachments\n        4th July 2023 A3 Poster (605 kB)
URL:https://killarneyadvertiser.ie/whats-on-killarney/derek-ryan-dance-5/
LOCATION:Gleneagle INEC Arena\, Muckross Road\, Killarney\, V93 V6WF\, Ireland
CATEGORIES:Live Music,Concert
ATTACH;FMTTYPE=image/jpeg:https://killarneyadvertiser.ie/wp-content/uploads/2022/10/Derek-Ryan-Web-Images-440-x-300.jpg
ORGANIZER;CN="Gleneagle INEC Arena":MAILTO:info@inec.ie
END:VEVENT
BEGIN:VEVENT
DTSTART;TZID=Europe/Dublin:20221023T140000
DTEND;TZID=Europe/Dublin:20221023T200000
DTSTAMP:20260421T110648
CREATED:20220810T113125Z
LAST-MODIFIED:20221013T152225Z
UID:49020-1666533600-1666555200@killarneyadvertiser.ie
SUMMARY:Live Music at Scruffy's
DESCRIPTION:Scruffy’s is a fun and happening bar in the heart of Killarney where the craic is guaranteed. \nBy day\, Scruffy’s is a casual\, fuss free spot for a few drinks and a tasty bite to eat\, with friends. By night\, the late-night venue comes alive with a party atmosphere\, welcoming live music with some of the best DJs and musicians around. \nWe offer casual street-style food from spicy wings to stack your own burgers\, loaded fries\, and BBQ ribs. Nachos are made ideal for sharing and the perfect combo to a bucket of cold beers. \n\n        \n            Attachments\n        4th July 2023 A3 Poster (605 kB)
URL:https://killarneyadvertiser.ie/whats-on-killarney/live-music-at-scruffys-2022-10-23/
LOCATION:Scruffys Bar\, Plunkett St.\, Killarney\, Co. Kerry\, Ireland
CATEGORIES:Live Music,Food & Drink
ATTACH;FMTTYPE=image/jpeg:https://killarneyadvertiser.ie/wp-content/uploads/2022/08/The-Towers-Hotel-Scruffys.jpg
END:VEVENT
BEGIN:VEVENT
DTSTART;TZID=Europe/Dublin:20221023T210000
DTEND;TZID=Europe/Dublin:20221023T230000
DTSTAMP:20260421T110648
CREATED:20220729T084706Z
LAST-MODIFIED:20221013T152745Z
UID:48424-1666558800-1666566000@killarneyadvertiser.ie
SUMMARY:Rocking Jimmy & Tracey - Live Irish Folk Music
DESCRIPTION:Steeped in history and tradition\, we’re bringing back old pub ways to Killarney town for you to experience authentic traditional Irish pub life. Pull up a stool at the bar\, or relax into a cozy corner in one of our snugs. \nTradition is craft and design passed through the generations\, and we’re honoring that by serving you dishes as they were intended to be made and enjoyed. Underneath it all\, O’Donoghue Public House is a place to enjoy a creamy pint after an exhilarating day\, and we haven’t forgotten about the craft of draught. Guinness is what we’re good at\, and we hear it’s good for you too. \nEnjoy Live Irish Folk Music 7 nights a week with us! \n\n        \n            Attachments\n        4th July 2023 A3 Poster (605 kB)
URL:https://killarneyadvertiser.ie/whats-on-killarney/live-irish-folk-music-2022-10-23/
LOCATION:O’Donoghue Public House\, O'Donoghue Public House\, College St\, Killarney\, Co. Kerry\, V93 HP7A\, Ireland
CATEGORIES:Live Music
ATTACH;FMTTYPE=image/jpeg:https://killarneyadvertiser.ie/wp-content/uploads/2022/07/ODonoghue-Public-House-00001-1.jpg
END:VEVENT
END:VCALENDAR