BEGIN:VCALENDAR
VERSION:2.0
PRODID:-//Killarney Advertiser - ECPv6.8.2.1//NONSGML v1.0//EN
CALSCALE:GREGORIAN
METHOD:PUBLISH
X-ORIGINAL-URL:https://killarneyadvertiser.ie
X-WR-CALDESC:Events for Killarney Advertiser
REFRESH-INTERVAL;VALUE=DURATION:PT1H
X-Robots-Tag:noindex
X-PUBLISHED-TTL:PT1H
BEGIN:VTIMEZONE
TZID:Europe/Dublin
BEGIN:STANDARD
TZOFFSETFROM:+0000
TZOFFSETTO:+0100
TZNAME:IST
DTSTART:20220327T010000
END:STANDARD
BEGIN:DAYLIGHT
TZOFFSETFROM:+0100
TZOFFSETTO:+0000
TZNAME:GMT
DTSTART:20221030T010000
END:DAYLIGHT
END:VTIMEZONE
BEGIN:VEVENT
DTSTART;TZID=Europe/Dublin:20220919T213000
DTEND;TZID=Europe/Dublin:20220919T233000
DTSTAMP:20260421T095334
CREATED:20220913T110201Z
LAST-MODIFIED:20220913T115850Z
UID:48564-1663623000-1663630200@killarneyadvertiser.ie
SUMMARY:Neily O'Connor
DESCRIPTION:Neily O’Connor performs in the Gleneagle Ballroom. \n\n        \n            Attachments\n        4th July 2023 A3 Poster (605 kB)
URL:https://killarneyadvertiser.ie/whats-on-killarney/neily-oconnor-2/
LOCATION:Gleneagle INEC Arena\, Muckross Road\, Killarney\, V93 V6WF\, Ireland
CATEGORIES:Concert,Live Music
ATTACH;FMTTYPE=image/jpeg:https://killarneyadvertiser.ie/wp-content/uploads/2022/09/The-Gleneagle-Killarney-Lake-Tours-SEM-1200-x-1200-Logo-1-1.jpg
ORGANIZER;CN="Gleneagle INEC Arena":MAILTO:info@inec.ie
END:VEVENT
BEGIN:VEVENT
DTSTART;TZID=Europe/Dublin:20220920T213000
DTEND;TZID=Europe/Dublin:20220920T233000
DTSTAMP:20260421T095334
CREATED:20220913T110611Z
LAST-MODIFIED:20220913T110611Z
UID:48567-1663709400-1663716600@killarneyadvertiser.ie
SUMMARY:Muriel O'Connor & Fran Curry
DESCRIPTION:Muriel O’Connor and Fran Curry perform in the Gleneagle Ballroom \n\n        \n            Attachments\n        4th July 2023 A3 Poster (605 kB)
URL:https://killarneyadvertiser.ie/whats-on-killarney/muriel-oconnor-fran-curry/
LOCATION:Gleneagle INEC Arena\, Muckross Road\, Killarney\, V93 V6WF\, Ireland
CATEGORIES:Concert,Live Music
ATTACH;FMTTYPE=image/jpeg:https://killarneyadvertiser.ie/wp-content/uploads/2022/09/The-Gleneagle-Killarney-Lake-Tours-SEM-1200-x-1200-Logo-1-2.jpg
ORGANIZER;CN="Gleneagle INEC Arena":MAILTO:info@inec.ie
END:VEVENT
BEGIN:VEVENT
DTSTART;TZID=Europe/Dublin:20220921T210000
DTEND;TZID=Europe/Dublin:20220921T230000
DTSTAMP:20260421T095334
CREATED:20220921T112334Z
LAST-MODIFIED:20220921T112334Z
UID:48746-1663794000-1663801200@killarneyadvertiser.ie
SUMMARY:Live Music
DESCRIPTION:Enjoy the Craic and Ceol in Scotts Courtyard with live music from 9pm with Ivan Ryan \n\n        \n            Attachments\n        4th July 2023 A3 Poster (605 kB)
URL:https://killarneyadvertiser.ie/whats-on-killarney/live-music-55/
LOCATION:Scotts Bar and Courtyard\, Scotts Street\, Killarney\, V93 CF30\, Ireland
CATEGORIES:Live Music
ATTACH;FMTTYPE=image/jpeg:https://killarneyadvertiser.ie/wp-content/uploads/2022/09/190510_HOTEL_ScottsHotel_40-scaled.jpg
ORGANIZER;CN="Scotts Bar and Courtyard":MAILTO:info@scottshotelkillarney.com
END:VEVENT
BEGIN:VEVENT
DTSTART;TZID=Europe/Dublin:20220921T213000
DTEND;TZID=Europe/Dublin:20220921T233000
DTSTAMP:20260421T095334
CREATED:20220913T110915Z
LAST-MODIFIED:20220913T110915Z
UID:48569-1663795800-1663803000@killarneyadvertiser.ie
SUMMARY:Eddie Keogh
DESCRIPTION:Eddie Keogh performs in the Gleneagle Ballroom on September 21st \n\n        \n            Attachments\n        4th July 2023 A3 Poster (605 kB)
URL:https://killarneyadvertiser.ie/whats-on-killarney/eddie-keogh-4/
LOCATION:Gleneagle INEC Arena\, Muckross Road\, Killarney\, V93 V6WF\, Ireland
CATEGORIES:Concert,Live Music
ATTACH;FMTTYPE=image/jpeg:https://killarneyadvertiser.ie/wp-content/uploads/2022/09/The-Gleneagle-Killarney-Lake-Tours-SEM-1200-x-1200-Logo-1-3.jpg
ORGANIZER;CN="Gleneagle INEC Arena":MAILTO:info@inec.ie
END:VEVENT
BEGIN:VEVENT
DTSTART;TZID=Europe/Dublin:20220922T210000
DTEND;TZID=Europe/Dublin:20220922T230000
DTSTAMP:20260421T095334
CREATED:20220921T112502Z
LAST-MODIFIED:20220921T112502Z
UID:48748-1663880400-1663887600@killarneyadvertiser.ie
SUMMARY:Live Music
DESCRIPTION:Live music in the Courtyard from 9pm with Ivan Ryan \n\n        \n            Attachments\n        4th July 2023 A3 Poster (605 kB)
URL:https://killarneyadvertiser.ie/whats-on-killarney/live-music-56/
LOCATION:Scotts Bar and Courtyard\, Scotts Street\, Killarney\, V93 CF30\, Ireland
CATEGORIES:Live Music
ATTACH;FMTTYPE=image/jpeg:https://killarneyadvertiser.ie/wp-content/uploads/2022/09/190510_HOTEL_ScottsHotel_47-1-scaled.jpg
ORGANIZER;CN="Scotts Bar and Courtyard":MAILTO:info@scottshotelkillarney.com
END:VEVENT
BEGIN:VEVENT
DTSTART;TZID=Europe/Dublin:20220922T213000
DTEND;TZID=Europe/Dublin:20220922T233000
DTSTAMP:20260421T095334
CREATED:20220729T084706Z
LAST-MODIFIED:20220922T160217Z
UID:48125-1663882200-1663889400@killarneyadvertiser.ie
SUMMARY:Gearoid & Eddie - Live Irish Folk Music
DESCRIPTION:Steeped in history and tradition\, we’re bringing back old pub ways to Killarney town for you to experience authentic traditional Irish pub life. Pull up a stool at the bar\, or relax into a cozy corner in one of our snugs. \nTradition is craft and design passed through the generations\, and we’re honoring that by serving you dishes as they were intended to be made and enjoyed. Underneath it all\, O’Donoghue Public House is a place to enjoy a creamy pint after an exhilarating day\, and we haven’t forgotten about the craft of draught. Guinness is what we’re good at\, and we hear it’s good for you too. \nEnjoy Live Irish Folk Music 7 nights a week with us! \n\n        \n            Attachments\n        4th July 2023 A3 Poster (605 kB)
URL:https://killarneyadvertiser.ie/whats-on-killarney/live-irish-folk-music-2022-09-22/
LOCATION:O’Donoghue Public House\, O'Donoghue Public House\, College St\, Killarney\, Co. Kerry\, V93 HP7A\, Ireland
CATEGORIES:Live Music
ATTACH;FMTTYPE=image/jpeg:https://killarneyadvertiser.ie/wp-content/uploads/2022/07/ODonoghue-Public-House-00001-1.jpg
END:VEVENT
BEGIN:VEVENT
DTSTART;TZID=Europe/Dublin:20220922T213000
DTEND;TZID=Europe/Dublin:20220922T233000
DTSTAMP:20260421T095334
CREATED:20220913T111044Z
LAST-MODIFIED:20220913T111044Z
UID:48571-1663882200-1663889400@killarneyadvertiser.ie
SUMMARY:Michael Collins Dance
DESCRIPTION:Dance in the Gleneagle Ballroom with Michael Collins on September 22nd. \n\n        \n            Attachments\n        4th July 2023 A3 Poster (605 kB)
URL:https://killarneyadvertiser.ie/whats-on-killarney/michael-collins-dance/
LOCATION:Gleneagle INEC Arena\, Muckross Road\, Killarney\, V93 V6WF\, Ireland
CATEGORIES:Concert,Live Music
ATTACH;FMTTYPE=image/jpeg:https://killarneyadvertiser.ie/wp-content/uploads/2022/09/The-Gleneagle-Killarney-Lake-Tours-SEM-1200-x-1200-Logo-3.jpg
ORGANIZER;CN="Gleneagle INEC Arena":MAILTO:info@inec.ie
END:VEVENT
BEGIN:VEVENT
DTSTART;TZID=Europe/Dublin:20220923T190000
DTEND;TZID=Europe/Dublin:20220923T223000
DTSTAMP:20260421T095334
CREATED:20220913T105159Z
LAST-MODIFIED:20220913T105159Z
UID:48555-1663959600-1663972200@killarneyadvertiser.ie
SUMMARY:Deirdre O'Kane 'Demented'
DESCRIPTION:There’s a point beyond burnout where all you can do is laugh\, and funny woman Deirdre O’Kane has well and truly reached it. Catch her brilliant new stand-up show\, Demented\, at the Gleneagle INEC Club on September 23rd.    \n\n        \n            Attachments\n        4th July 2023 A3 Poster (605 kB)
URL:https://killarneyadvertiser.ie/whats-on-killarney/deirdre-okane-demented/
LOCATION:Gleneagle INEC Arena\, Muckross Road\, Killarney\, V93 V6WF\, Ireland
CATEGORIES:Concert
ATTACH;FMTTYPE=image/jpeg:https://killarneyadvertiser.ie/wp-content/uploads/2022/09/Deirdre-OKane-Demented-440-x-300.jpg
ORGANIZER;CN="Gleneagle INEC Arena":MAILTO:info@inec.ie
END:VEVENT
BEGIN:VEVENT
DTSTART;TZID=Europe/Dublin:20220923T193000
DTEND;TZID=Europe/Dublin:20220924T003000
DTSTAMP:20260421T095334
CREATED:20220729T084706Z
LAST-MODIFIED:20220922T160323Z
UID:48194-1663961400-1663979400@killarneyadvertiser.ie
SUMMARY:Cathal Flaherty and Rocking Jimmy & Daragh - Live Irish Folk Music
DESCRIPTION:Steeped in history and tradition\, we’re bringing back old pub ways to Killarney town for you to experience authentic traditional Irish pub life. Pull up a stool at the bar\, or relax into a cozy corner in one of our snugs. \nTradition is craft and design passed through the generations\, and we’re honoring that by serving you dishes as they were intended to be made and enjoyed. Underneath it all\, O’Donoghue Public House is a place to enjoy a creamy pint after an exhilarating day\, and we haven’t forgotten about the craft of draught. Guinness is what we’re good at\, and we hear it’s good for you too. \nEnjoy Live Irish Folk Music 7 nights a week with us! \n\n        \n            Attachments\n        4th July 2023 A3 Poster (605 kB)
URL:https://killarneyadvertiser.ie/whats-on-killarney/live-irish-folk-music-2022-09-23/
LOCATION:O’Donoghue Public House\, O'Donoghue Public House\, College St\, Killarney\, Co. Kerry\, V93 HP7A\, Ireland
CATEGORIES:Live Music
ATTACH;FMTTYPE=image/jpeg:https://killarneyadvertiser.ie/wp-content/uploads/2022/07/ODonoghue-Public-House-00001-1.jpg
END:VEVENT
BEGIN:VEVENT
DTSTART;TZID=Europe/Dublin:20220923T210000
DTEND;TZID=Europe/Dublin:20220924T000000
DTSTAMP:20260421T095334
CREATED:20220921T112739Z
LAST-MODIFIED:20220921T112739Z
UID:48750-1663966800-1663977600@killarneyadvertiser.ie
SUMMARY:Live Music
DESCRIPTION:Get your weekend started in the heart of Killarney town centre with live music from 9pm in the Courtyard with Alan Flynn and in the main bar from 10pm with Ivan Ryan \n\n        \n            Attachments\n        4th July 2023 A3 Poster (605 kB)
URL:https://killarneyadvertiser.ie/whats-on-killarney/live-music-57/
LOCATION:Scotts Bar and Courtyard\, Scotts Street\, Killarney\, V93 CF30\, Ireland
CATEGORIES:Live Music
ATTACH;FMTTYPE=image/jpeg:https://killarneyadvertiser.ie/wp-content/uploads/2022/09/190510_HOTEL_ScottsHotel_42-scaled.jpg
ORGANIZER;CN="Scotts Bar and Courtyard":MAILTO:info@scottshotelkillarney.com
END:VEVENT
BEGIN:VEVENT
DTSTART;TZID=Europe/Dublin:20220924T193000
DTEND;TZID=Europe/Dublin:20220925T003000
DTSTAMP:20260421T095334
CREATED:20220729T084706Z
LAST-MODIFIED:20220922T160355Z
UID:48195-1664047800-1664065800@killarneyadvertiser.ie
SUMMARY:Petewoodmac & Brian and Gearoid & Eddie - Live Irish Folk Music
DESCRIPTION:Steeped in history and tradition\, we’re bringing back old pub ways to Killarney town for you to experience authentic traditional Irish pub life. Pull up a stool at the bar\, or relax into a cozy corner in one of our snugs. \nTradition is craft and design passed through the generations\, and we’re honoring that by serving you dishes as they were intended to be made and enjoyed. Underneath it all\, O’Donoghue Public House is a place to enjoy a creamy pint after an exhilarating day\, and we haven’t forgotten about the craft of draught. Guinness is what we’re good at\, and we hear it’s good for you too. \nEnjoy Live Irish Folk Music 7 nights a week with us! \n\n        \n            Attachments\n        4th July 2023 A3 Poster (605 kB)
URL:https://killarneyadvertiser.ie/whats-on-killarney/live-irish-folk-music-2022-09-24/
LOCATION:O’Donoghue Public House\, O'Donoghue Public House\, College St\, Killarney\, Co. Kerry\, V93 HP7A\, Ireland
CATEGORIES:Live Music
ATTACH;FMTTYPE=image/jpeg:https://killarneyadvertiser.ie/wp-content/uploads/2022/07/ODonoghue-Public-House-00001-1.jpg
END:VEVENT
BEGIN:VEVENT
DTSTART;TZID=Europe/Dublin:20220924T210000
DTEND;TZID=Europe/Dublin:20220925T000000
DTSTAMP:20260421T095334
CREATED:20220921T113010Z
LAST-MODIFIED:20220921T113010Z
UID:48753-1664053200-1664064000@killarneyadvertiser.ie
SUMMARY:Live Music
DESCRIPTION:Live music in the Courtyard with Zedz Dead from 9pm and trad session in the main bar from 10pm \n\n        \n            Attachments\n        4th July 2023 A3 Poster (605 kB)
URL:https://killarneyadvertiser.ie/whats-on-killarney/live-music-58/
LOCATION:Scotts Bar and Courtyard\, Scotts Street\, Killarney\, V93 CF30\, Ireland
CATEGORIES:Live Music
ATTACH;FMTTYPE=image/jpeg:https://killarneyadvertiser.ie/wp-content/uploads/2022/09/190510_HOTEL_ScottsHotel_48-1-scaled.jpg
ORGANIZER;CN="Scotts Bar and Courtyard":MAILTO:info@scottshotelkillarney.com
END:VEVENT
BEGIN:VEVENT
DTSTART;TZID=Europe/Dublin:20220925T183000
DTEND;TZID=Europe/Dublin:20220925T230000
DTSTAMP:20260421T095334
CREATED:20220729T084706Z
LAST-MODIFIED:20220922T160434Z
UID:48420-1664130600-1664146800@killarneyadvertiser.ie
SUMMARY:Rocking Jimmy - Live Irish Folk Music
DESCRIPTION:Steeped in history and tradition\, we’re bringing back old pub ways to Killarney town for you to experience authentic traditional Irish pub life. Pull up a stool at the bar\, or relax into a cozy corner in one of our snugs. \nTradition is craft and design passed through the generations\, and we’re honoring that by serving you dishes as they were intended to be made and enjoyed. Underneath it all\, O’Donoghue Public House is a place to enjoy a creamy pint after an exhilarating day\, and we haven’t forgotten about the craft of draught. Guinness is what we’re good at\, and we hear it’s good for you too. \nEnjoy Live Irish Folk Music 7 nights a week with us! \n\n        \n            Attachments\n        4th July 2023 A3 Poster (605 kB)
URL:https://killarneyadvertiser.ie/whats-on-killarney/live-irish-folk-music-2022-09-25/
LOCATION:O’Donoghue Public House\, O'Donoghue Public House\, College St\, Killarney\, Co. Kerry\, V93 HP7A\, Ireland
CATEGORIES:Live Music
ATTACH;FMTTYPE=image/jpeg:https://killarneyadvertiser.ie/wp-content/uploads/2022/07/ODonoghue-Public-House-00001-1.jpg
END:VEVENT
BEGIN:VEVENT
DTSTART;TZID=Europe/Dublin:20220925T200000
DTEND;TZID=Europe/Dublin:20220925T230000
DTSTAMP:20260421T095334
CREATED:20220921T113208Z
LAST-MODIFIED:20220922T160929Z
UID:48755-1664136000-1664146800@killarneyadvertiser.ie
SUMMARY:Live Music
DESCRIPTION:Chill out on Sunday evening with Alan Flynn in the Courtyard from 8pm and Ivan Ryan in the main bar from 9pm \n\n        \n            Attachments\n        4th July 2023 A3 Poster (605 kB)
URL:https://killarneyadvertiser.ie/whats-on-killarney/live-music-59/
LOCATION:Scotts Bar and Courtyard\, Scotts Street\, Killarney\, V93 CF30\, Ireland
ATTACH;FMTTYPE=image/jpeg:https://killarneyadvertiser.ie/wp-content/uploads/2022/09/190129_COMMERCIAL_ScottsHotel_10-scaled.jpg
ORGANIZER;CN="Scotts Bar and Courtyard":MAILTO:info@scottshotelkillarney.com
END:VEVENT
END:VCALENDAR