BEGIN:VCALENDAR
VERSION:2.0
PRODID:-//Killarney Advertiser - ECPv6.8.2.1//NONSGML v1.0//EN
CALSCALE:GREGORIAN
METHOD:PUBLISH
X-ORIGINAL-URL:https://killarneyadvertiser.ie
X-WR-CALDESC:Events for Killarney Advertiser
REFRESH-INTERVAL;VALUE=DURATION:PT1H
X-Robots-Tag:noindex
X-PUBLISHED-TTL:PT1H
BEGIN:VTIMEZONE
TZID:Europe/Dublin
BEGIN:STANDARD
TZOFFSETFROM:+0000
TZOFFSETTO:+0100
TZNAME:IST
DTSTART:20220327T010000
END:STANDARD
BEGIN:DAYLIGHT
TZOFFSETFROM:+0100
TZOFFSETTO:+0000
TZNAME:GMT
DTSTART:20221030T010000
END:DAYLIGHT
END:VTIMEZONE
BEGIN:VEVENT
DTSTART;TZID=Europe/Dublin:20220823T193000
DTEND;TZID=Europe/Dublin:20220823T213000
DTSTAMP:20260421T065219
CREATED:20220810T113125Z
LAST-MODIFIED:20220823T090600Z
UID:47229-1661283000-1661290200@killarneyadvertiser.ie
SUMMARY:Live Music at Scruffy's
DESCRIPTION:Scruffy’s is a fun and happening bar in the heart of Killarney where the craic is guaranteed. \nBy day\, Scruffy’s is a casual\, fuss free spot for a few drinks and a tasty bite to eat\, with friends. By night\, the late-night venue comes alive with a party atmosphere\, welcoming live music with some of the best DJs and musicians around. \nWe offer casual street-style food from spicy wings to stack your own burgers\, loaded fries\, and BBQ ribs. Nachos are made ideal for sharing and the perfect combo to a bucket of cold beers. \n\n        \n            Attachments\n        4th July 2023 A3 Poster (605 kB)
URL:https://killarneyadvertiser.ie/whats-on-killarney/live-music-at-scruffys-2022-08-23/
LOCATION:Scruffys Bar\, Plunkett St.\, Killarney\, Co. Kerry\, Ireland
CATEGORIES:Live Music,Food & Drink
ATTACH;FMTTYPE=image/jpeg:https://killarneyadvertiser.ie/wp-content/uploads/2022/08/The-Towers-Hotel-Scruffys.jpg
END:VEVENT
BEGIN:VEVENT
DTSTART;TZID=Europe/Dublin:20220824T213000
DTEND;TZID=Europe/Dublin:20220824T233000
DTSTAMP:20260421T065219
CREATED:20220810T113125Z
LAST-MODIFIED:20220823T090553Z
UID:47218-1661376600-1661383800@killarneyadvertiser.ie
SUMMARY:Live Music at Scruffy's
DESCRIPTION:Scruffy’s is a fun and happening bar in the heart of Killarney where the craic is guaranteed. \nBy day\, Scruffy’s is a casual\, fuss free spot for a few drinks and a tasty bite to eat\, with friends. By night\, the late-night venue comes alive with a party atmosphere\, welcoming live music with some of the best DJs and musicians around. \nWe offer casual street-style food from spicy wings to stack your own burgers\, loaded fries\, and BBQ ribs. Nachos are made ideal for sharing and the perfect combo to a bucket of cold beers. \n\n        \n            Attachments\n        4th July 2023 A3 Poster (605 kB)
URL:https://killarneyadvertiser.ie/whats-on-killarney/live-music-at-scruffys-2022-08-24/
LOCATION:Scruffys Bar\, Plunkett St.\, Killarney\, Co. Kerry\, Ireland
CATEGORIES:Live Music,Food & Drink
ATTACH;FMTTYPE=image/jpeg:https://killarneyadvertiser.ie/wp-content/uploads/2022/08/The-Towers-Hotel-Scruffys.jpg
END:VEVENT
BEGIN:VEVENT
DTSTART;TZID=Europe/Dublin:20220825T190000
DTEND;TZID=Europe/Dublin:20220825T220000
DTSTAMP:20260421T065219
CREATED:20220824T101708Z
LAST-MODIFIED:20220824T101708Z
UID:47576-1661454000-1661464800@killarneyadvertiser.ie
SUMMARY:Daniel O'Donnell
DESCRIPTION:Daniel O’Donnell returns for 4 shows only this August 25th – 28th to the Gleneagle INEC Arena.  \n\n        \n            Attachments\n        4th July 2023 A3 Poster (605 kB)
URL:https://killarneyadvertiser.ie/whats-on-killarney/daniel-odonnell/2022-08-25/
LOCATION:Gleneagle INEC Arena\, Muckross Road\, Killarney\, V93 V6WF\, Ireland
CATEGORIES:Live Music,Concert
ATTACH;FMTTYPE=image/jpeg:https://killarneyadvertiser.ie/wp-content/uploads/2022/08/Daniel-O-Donnell-August-2022-275x275-1.jpg
ORGANIZER;CN="Gleneagle INEC Arena":MAILTO:info@inec.ie
END:VEVENT
BEGIN:VEVENT
DTSTART;TZID=Europe/Dublin:20220825T220000
DTEND;TZID=Europe/Dublin:20220826T000000
DTSTAMP:20260421T065219
CREATED:20220824T101945Z
LAST-MODIFIED:20220824T101945Z
UID:47582-1661464800-1661472000@killarneyadvertiser.ie
SUMMARY:Dancing to Stuart Moyles
DESCRIPTION:Dancing to Stuart Moyles in the Gleneagle Ballroom.  Free for Daniel O’Donnell ticket holders otherwise €10 on the door. \n\n        \n            Attachments\n        4th July 2023 A3 Poster (605 kB)
URL:https://killarneyadvertiser.ie/whats-on-killarney/dancing-to-stuart-moyles/
LOCATION:Gleneagle INEC Arena\, Muckross Road\, Killarney\, V93 V6WF\, Ireland
CATEGORIES:Live Music
ATTACH;FMTTYPE=image/jpeg:https://killarneyadvertiser.ie/wp-content/uploads/2022/08/INEC-Daniel-ODonnell-Post-Show-Thursday.jpg
ORGANIZER;CN="Gleneagle INEC Arena":MAILTO:info@inec.ie
END:VEVENT
BEGIN:VEVENT
DTSTART;TZID=Europe/Dublin:20220825T233000
DTEND;TZID=Europe/Dublin:20220826T013000
DTSTAMP:20260421T065219
CREATED:20220824T102531Z
LAST-MODIFIED:20220824T102531Z
UID:47592-1661470200-1661477400@killarneyadvertiser.ie
SUMMARY:Late Night Piano Bar
DESCRIPTION:Late night piano bar with John MaGann in the Gleneagle Green Room \n\n        \n            Attachments\n        4th July 2023 A3 Poster (605 kB)
URL:https://killarneyadvertiser.ie/whats-on-killarney/late-night-piano-bar-14/
LOCATION:Gleneagle INEC Arena\, Muckross Road\, Killarney\, V93 V6WF\, Ireland
CATEGORIES:Live Music
ATTACH;FMTTYPE=image/jpeg:https://killarneyadvertiser.ie/wp-content/uploads/2022/08/INEC-Daniel-ODonnell-Post-Show-Thursday-1.jpg
ORGANIZER;CN="Gleneagle INEC Arena":MAILTO:info@inec.ie
END:VEVENT
BEGIN:VEVENT
DTSTART;TZID=Europe/Dublin:20220826T220000
DTEND;TZID=Europe/Dublin:20220827T000000
DTSTAMP:20260421T065219
CREATED:20220824T102102Z
LAST-MODIFIED:20220824T102102Z
UID:47585-1661551200-1661558400@killarneyadvertiser.ie
SUMMARY:Dancing with Peter Burke
DESCRIPTION:Dancing to Peter Burke in the Gleneagle Ballroom.  Free for Daniel O’Donnell ticket holders otherwise €10 on the door. \n\n        \n            Attachments\n        4th July 2023 A3 Poster (605 kB)
URL:https://killarneyadvertiser.ie/whats-on-killarney/dancing-with-peter-burke-2/
LOCATION:Gleneagle INEC Arena\, Muckross Road\, Killarney\, V93 V6WF\, Ireland
CATEGORIES:Live Music
ATTACH;FMTTYPE=image/jpeg:https://killarneyadvertiser.ie/wp-content/uploads/2022/08/INEC-Daniel-ODonnell-Post-Friday.jpg
ORGANIZER;CN="Gleneagle INEC Arena":MAILTO:info@inec.ie
END:VEVENT
BEGIN:VEVENT
DTSTART;TZID=Europe/Dublin:20220826T233000
DTEND;TZID=Europe/Dublin:20220827T013000
DTSTAMP:20260421T065219
CREATED:20220824T102856Z
LAST-MODIFIED:20220824T102856Z
UID:47596-1661556600-1661563800@killarneyadvertiser.ie
SUMMARY:Marc Roberts
DESCRIPTION:Late night entertainment with Marc Roberts in the Gleneagle Green Room. \n\n        \n            Attachments\n        4th July 2023 A3 Poster (605 kB)
URL:https://killarneyadvertiser.ie/whats-on-killarney/marc-roberts/
LOCATION:Gleneagle INEC Arena\, Muckross Road\, Killarney\, V93 V6WF\, Ireland
CATEGORIES:Live Music
ATTACH;FMTTYPE=image/jpeg:https://killarneyadvertiser.ie/wp-content/uploads/2022/08/INEC-Daniel-ODonnell-Post-Friday-1.jpg
ORGANIZER;CN="Gleneagle INEC Arena":MAILTO:info@inec.ie
END:VEVENT
BEGIN:VEVENT
DTSTART;TZID=Europe/Dublin:20220827T220000
DTEND;TZID=Europe/Dublin:20220828T000000
DTSTAMP:20260421T065219
CREATED:20220824T102228Z
LAST-MODIFIED:20220824T102228Z
UID:47588-1661637600-1661644800@killarneyadvertiser.ie
SUMMARY:Dancing with Michael Collins
DESCRIPTION:Dancing to Michael Collins in the Gleneagle Ballroom.  Free for Daniel O’Donnell ticket holders otherwise €10 on the door. \n\n        \n            Attachments\n        4th July 2023 A3 Poster (605 kB)
URL:https://killarneyadvertiser.ie/whats-on-killarney/dancing-with-michael-collins/
LOCATION:Gleneagle INEC Arena\, Muckross Road\, Killarney\, V93 V6WF\, Ireland
CATEGORIES:Live Music
ATTACH;FMTTYPE=image/jpeg:https://killarneyadvertiser.ie/wp-content/uploads/2022/08/INEC-Daniel-ODonnell-Post-Saturday.jpg
ORGANIZER;CN="Gleneagle INEC Arena":MAILTO:info@inec.ie
END:VEVENT
BEGIN:VEVENT
DTSTART;TZID=Europe/Dublin:20220827T233000
DTEND;TZID=Europe/Dublin:20220828T013000
DTSTAMP:20260421T065219
CREATED:20220824T103026Z
LAST-MODIFIED:20220824T103026Z
UID:47598-1661643000-1661650200@killarneyadvertiser.ie
SUMMARY:Marc Roberts
DESCRIPTION:Late night music with Marc Roberts in the Gleneagle Green Room. \n\n        \n            Attachments\n        4th July 2023 A3 Poster (605 kB)
URL:https://killarneyadvertiser.ie/whats-on-killarney/marc-roberts-2/
LOCATION:Gleneagle INEC Arena\, Muckross Road\, Killarney\, V93 V6WF\, Ireland
CATEGORIES:Live Music
ATTACH;FMTTYPE=image/jpeg:https://killarneyadvertiser.ie/wp-content/uploads/2022/08/INEC-Daniel-ODonnell-Post-Saturday-1.jpg
ORGANIZER;CN="Gleneagle INEC Arena":MAILTO:info@inec.ie
END:VEVENT
BEGIN:VEVENT
DTSTART;TZID=Europe/Dublin:20220828T220000
DTEND;TZID=Europe/Dublin:20220829T000000
DTSTAMP:20260421T065219
CREATED:20220824T102350Z
LAST-MODIFIED:20220824T102350Z
UID:47590-1661724000-1661731200@killarneyadvertiser.ie
SUMMARY:Dancing with Bernie Heaney
DESCRIPTION:Dancing to Bernie Heaney in the Gleneagle Ballroom.  Free for Daniel O’Donnell ticket holders otherwise €10 on the door. \n\n        \n            Attachments\n        4th July 2023 A3 Poster (605 kB)
URL:https://killarneyadvertiser.ie/whats-on-killarney/dancing-with-bernie-heaney/
LOCATION:Gleneagle INEC Arena\, Muckross Road\, Killarney\, V93 V6WF\, Ireland
CATEGORIES:Live Music
ATTACH;FMTTYPE=image/jpeg:https://killarneyadvertiser.ie/wp-content/uploads/2022/08/INEC-Daniel-ODonnell-Post-Show-Sunday.jpg
ORGANIZER;CN="Gleneagle INEC Arena":MAILTO:info@inec.ie
END:VEVENT
BEGIN:VEVENT
DTSTART;TZID=Europe/Dublin:20220828T233000
DTEND;TZID=Europe/Dublin:20220829T013000
DTSTAMP:20260421T065219
CREATED:20220824T102659Z
LAST-MODIFIED:20220824T102659Z
UID:47594-1661729400-1661736600@killarneyadvertiser.ie
SUMMARY:Late Night Piano Bar
DESCRIPTION:Late night Piano Bar with John MaGann in the Gleneagle Green Room. \n\n        \n            Attachments\n        4th July 2023 A3 Poster (605 kB)
URL:https://killarneyadvertiser.ie/whats-on-killarney/late-night-piano-bar-15/
LOCATION:Gleneagle INEC Arena\, Muckross Road\, Killarney\, V93 V6WF\, Ireland
CATEGORIES:Live Music
ATTACH;FMTTYPE=image/jpeg:https://killarneyadvertiser.ie/wp-content/uploads/2022/08/INEC-Daniel-ODonnell-Post-Show-Sunday-1.jpg
ORGANIZER;CN="Gleneagle INEC Arena":MAILTO:info@inec.ie
END:VEVENT
END:VCALENDAR