BEGIN:VCALENDAR
VERSION:2.0
PRODID:-//Killarney Advertiser - ECPv6.8.2.1//NONSGML v1.0//EN
CALSCALE:GREGORIAN
METHOD:PUBLISH
X-ORIGINAL-URL:https://killarneyadvertiser.ie
X-WR-CALDESC:Events for Killarney Advertiser
REFRESH-INTERVAL;VALUE=DURATION:PT1H
X-Robots-Tag:noindex
X-PUBLISHED-TTL:PT1H
BEGIN:VTIMEZONE
TZID:Europe/Dublin
BEGIN:STANDARD
TZOFFSETFROM:+0000
TZOFFSETTO:+0100
TZNAME:IST
DTSTART:20220327T010000
END:STANDARD
BEGIN:DAYLIGHT
TZOFFSETFROM:+0100
TZOFFSETTO:+0000
TZNAME:GMT
DTSTART:20221030T010000
END:DAYLIGHT
END:VTIMEZONE
BEGIN:VEVENT
DTSTART;TZID=Europe/Dublin:20220816T150000
DTEND;TZID=Europe/Dublin:20220816T170000
DTSTAMP:20260421T065219
CREATED:20220811T094824Z
LAST-MODIFIED:20220811T104615Z
UID:47170-1660662000-1660669200@killarneyadvertiser.ie
SUMMARY:Work & Study Open Day
DESCRIPTION:Work Study Open Day|16th of August | 3 pm | Killarney Plaza Hotel & Spa Earn while you learn with flexible\, accredited\, and funded options available with the O’Donoghue Ring Collection and Munster Technological University. Topics of the open day include: Chef Career Opportunities: From Certificate in Culinary Arts to Sou Chef Apprenticeship Earn while You Learn Hospitality Course Options O’ Donoghue Ring Collection Trainee Management Development Programme \n\n        \n            Attachments\n        4th July 2023 A3 Poster (605 kB)
URL:https://killarneyadvertiser.ie/whats-on-killarney/work-study-open-day/
LOCATION:Plaza Hotel & Spa\, Kenmare Pl\, Killarney\, Kerry\, Ireland
CATEGORIES:Conference
ATTACH;FMTTYPE=image/png:https://killarneyadvertiser.ie/wp-content/uploads/2022/08/Open-Evening.png
END:VEVENT
BEGIN:VEVENT
DTSTART;TZID=Europe/Dublin:20220817T213000
DTEND;TZID=Europe/Dublin:20220817T233000
DTSTAMP:20260421T065219
CREATED:20220809T103452Z
LAST-MODIFIED:20220809T103452Z
UID:46977-1660771800-1660779000@killarneyadvertiser.ie
SUMMARY:Aidan Moynihan
DESCRIPTION:Aidan Moynihan performs in the Gleneagle Backstage Bar \n\n        \n            Attachments\n        4th July 2023 A3 Poster (605 kB)
URL:https://killarneyadvertiser.ie/whats-on-killarney/aidan-moynihan-20/
LOCATION:Gleneagle INEC Arena\, Muckross Road\, Killarney\, V93 V6WF\, Ireland
CATEGORIES:Live Music
ATTACH;FMTTYPE=image/jpeg:https://killarneyadvertiser.ie/wp-content/uploads/2022/08/The-Gleneagle-Killarney-Lake-Tours-SEM-1200-x-1200-Logo-3.jpg
ORGANIZER;CN="Gleneagle INEC Arena":MAILTO:info@inec.ie
END:VEVENT
BEGIN:VEVENT
DTSTART;TZID=Europe/Dublin:20220818T193000
DTEND;TZID=Europe/Dublin:20220818T223000
DTSTAMP:20260421T065219
CREATED:20220809T103746Z
LAST-MODIFIED:20220809T103746Z
UID:46979-1660851000-1660861800@killarneyadvertiser.ie
SUMMARY:Celtic Woman
DESCRIPTION:Live at the Gleneagle INEC Arena\n18th\, 19th & 20th August 2022 \nGrammy nominated global music sensation Celtic Woman is thrilled to return in 2022 with a brand-new show Postcards from Ireland. \nFollowing a four-month tour of North America this Spring/Summer\, Celtic Woman bring their Postcards From Ireland show home for 3 dates in the Gleneagle INEC Arena\, Co. Kerry on 18th\, 19th & 20th August 2022.  \nThis is a welcome return to Kerry for Celtic Woman\, who filmed two videos for their Postcards From Ireland DVD/TV Special last year at Muckross Abbey and Inch Beach. \nPostcards from Ireland celebrates the rich musical and cultural heritage of Ireland; taking audiences on a journey of story and song from across the Emerald Isle.  \nThis stunning show features Celtic Woman performing their greatest hits plus brand-new songs from their Postcards From Ireland album\, DVD and TV Special. \nEmbrace an evening of angelic voices\, breath-taking harmonies and instrumental virtuosity\, transporting you from your theatre seat through the lush landscapes of Ireland.  \nCeltic Woman’s fresh fusion of traditional Irish music and contemporary songcraft celebrates Ireland’s ancient heritage while reflecting the vibrant spirit of modern Ireland. \nWith Irish dancers\, bagpipers and an array of traditional Irish instruments – including the bodhrán\, tin whistle and uilleann pipes – this dynamic and multi-talented group has captivated audiences all around the world. \nSee this very special show Postcards from Ireland\, and experience the beauty of Ireland brought to life by Celtic Woman.  \nThe DVD and CD to compliment the show are both available now. \n•	17-year legacy\n•	Over 2 billion global combined streams\n•	Grammy nomination – Best World Music Album\n•	4 million concert tickets sold\n•	10 million global album equivalent sales / Platinum in 9 countries\n•	12 consecutive Billboard number ones / 6 time Billboard World Music Artist\n•	850k+ FB followers / 70K+ IG / 700k+ YT subscribers \nTickets from 33.20 are on sale now and available from www.inec.ie or www.ticketmaster.ie \n\n        \n            Attachments\n        4th July 2023 A3 Poster (605 kB)
URL:https://killarneyadvertiser.ie/whats-on-killarney/celtic-woman/2022-08-18/
LOCATION:Gleneagle INEC Arena\, Muckross Road\, Killarney\, V93 V6WF\, Ireland
CATEGORIES:Live Music,Concert
ATTACH;FMTTYPE=image/jpeg:https://killarneyadvertiser.ie/wp-content/uploads/2022/08/Celtic-Woman-Web-Images-420-x-273.jpg
ORGANIZER;CN="Gleneagle INEC Arena":MAILTO:info@inec.ie
END:VEVENT
BEGIN:VEVENT
DTSTART;TZID=Europe/Dublin:20220818T203000
DTEND;TZID=Europe/Dublin:20220818T230000
DTSTAMP:20260421T065219
CREATED:20220701T142841Z
LAST-MODIFIED:20220701T142841Z
UID:45989-1660854600-1660863600@killarneyadvertiser.ie
SUMMARY:Derek Ryan Dance
DESCRIPTION:Dance with Derek Ryan in the Gleneagle Ballroom as part of Live at the Gleneagle Killarney. \n\n        \n            Attachments\n        4th July 2023 A3 Poster (605 kB)
URL:https://killarneyadvertiser.ie/whats-on-killarney/derek-ryan-dance-3/
LOCATION:Gleneagle INEC Arena\, Muckross Road\, Killarney\, V93 V6WF\, Ireland
CATEGORIES:Live Music
ATTACH;FMTTYPE=image/jpeg:https://killarneyadvertiser.ie/wp-content/uploads/2022/07/Derek-Ryan-Live-at-The-Gleneagle-440-x-300-2.jpg
ORGANIZER;CN="Gleneagle INEC Arena":MAILTO:info@inec.ie
END:VEVENT
BEGIN:VEVENT
DTSTART;TZID=Europe/Dublin:20220818T233000
DTEND;TZID=Europe/Dublin:20220819T010000
DTSTAMP:20260421T065219
CREATED:20220809T104121Z
LAST-MODIFIED:20220809T104121Z
UID:46983-1660865400-1660870800@killarneyadvertiser.ie
SUMMARY:Late Night Piano Bar
DESCRIPTION:Late Night piano bar with John McGann in the Gleneagle Green Room \n\n        \n            Attachments\n        4th July 2023 A3 Poster (605 kB)
URL:https://killarneyadvertiser.ie/whats-on-killarney/late-night-piano-bar-13/2022-08-18/
LOCATION:Gleneagle INEC Arena\, Muckross Road\, Killarney\, V93 V6WF\, Ireland
CATEGORIES:Live Music
ATTACH;FMTTYPE=image/jpeg:https://killarneyadvertiser.ie/wp-content/uploads/2022/08/The-Gleneagle-Killarney-Lake-Tours-SEM-1200-x-1200-Logo-4.jpg
ORGANIZER;CN="Gleneagle INEC Arena":MAILTO:info@inec.ie
END:VEVENT
BEGIN:VEVENT
DTSTART;TZID=Europe/Dublin:20220819T203000
DTEND;TZID=Europe/Dublin:20220819T223000
DTSTAMP:20260421T065219
CREATED:20220809T104558Z
LAST-MODIFIED:20220809T104558Z
UID:46988-1660941000-1660948200@killarneyadvertiser.ie
SUMMARY:Tonight's the Night - Rod Stewart Tribute
DESCRIPTION:Ireland’s No.1 Rod Stewart Tribute show ‘Tonight’s the Night’ have been wowing audiences far and wide. \nThey have been selling out theatres across Ireland and England and filling ballrooms in hotels up and down the country. \nA seven-piece Live show supported by talented backing dancers\, Lee Hedley is a very well respected frontman and knows how to connect with a live audience. \nWith reputedly the best sounding\, most natural Rod voice in the world\, costume changes and songs from Rod Stewart’s huge catalogue he will have you dancing in the aisles and singing along from the first song. \nA 2 hour roller coaster of Rod Stewart’s greatest songs this is rapidly becoming one of the most sought after tribute shows in the UK and Ireland. \n\n        \n            Attachments\n        4th July 2023 A3 Poster (605 kB)
URL:https://killarneyadvertiser.ie/whats-on-killarney/tonights-the-night-rod-stewart-tribute/
LOCATION:Gleneagle INEC Arena\, Muckross Road\, Killarney\, V93 V6WF\, Ireland
CATEGORIES:Live Music,Concert
ATTACH;FMTTYPE=image/jpeg:https://killarneyadvertiser.ie/wp-content/uploads/2022/08/Rod-Stewart-Live-at-The-Gleneagle-420-x-273.jpg
ORGANIZER;CN="Gleneagle INEC Arena":MAILTO:info@inec.ie
END:VEVENT
BEGIN:VEVENT
DTSTART;TZID=Europe/Dublin:20220820T203000
DTEND;TZID=Europe/Dublin:20220820T230000
DTSTAMP:20260421T065219
CREATED:20220701T144342Z
LAST-MODIFIED:20220701T144342Z
UID:45999-1661027400-1661036400@killarneyadvertiser.ie
SUMMARY:Gina and the Champions
DESCRIPTION:Gina and the Champions performs in the Gleneagle Ballroom as part of Live at the Gleneagle Killarney. \n\n        \n            Attachments\n        4th July 2023 A3 Poster (605 kB)
URL:https://killarneyadvertiser.ie/whats-on-killarney/gina-and-the-champions-3/
LOCATION:Gleneagle INEC Arena\, Muckross Road\, Killarney\, V93 V6WF\, Ireland
CATEGORIES:Live Music,Concert
ATTACH;FMTTYPE=image/jpeg:https://killarneyadvertiser.ie/wp-content/uploads/2022/07/Gina-The-Champions-Web-Images-440-x-300-1-2.jpg
ORGANIZER;CN="Gleneagle INEC Arena":MAILTO:info@inec.ie
END:VEVENT
END:VCALENDAR