BEGIN:VCALENDAR
VERSION:2.0
PRODID:-//Killarney Advertiser - ECPv6.8.2.1//NONSGML v1.0//EN
CALSCALE:GREGORIAN
METHOD:PUBLISH
X-WR-CALNAME:Killarney Advertiser
X-ORIGINAL-URL:https://killarneyadvertiser.ie
X-WR-CALDESC:Events for Killarney Advertiser
REFRESH-INTERVAL;VALUE=DURATION:PT1H
X-Robots-Tag:noindex
X-PUBLISHED-TTL:PT1H
BEGIN:VTIMEZONE
TZID:Europe/Dublin
BEGIN:STANDARD
TZOFFSETFROM:+0000
TZOFFSETTO:+0100
TZNAME:IST
DTSTART:20220327T010000
END:STANDARD
BEGIN:DAYLIGHT
TZOFFSETFROM:+0100
TZOFFSETTO:+0000
TZNAME:GMT
DTSTART:20221030T010000
END:DAYLIGHT
END:VTIMEZONE
BEGIN:VEVENT
DTSTART;TZID=Europe/Dublin:20220725T180000
DTEND;TZID=Europe/Dublin:20220725T220000
DTSTAMP:20260421T051324
CREATED:20220720T093955Z
LAST-MODIFIED:20220720T093955Z
UID:46427-1658772000-1658786400@killarneyadvertiser.ie
SUMMARY:BBQ at Scruffy's
DESCRIPTION:Enjoy all your favorite BBQ vibes with us at Scruffy’s. \nScruffy’s is a fun and happening bar in the heart of Killarney where the craic is guaranteed. By day\, Scruffy’s is a casual\, fuss free spot for a few drinks and a tasty bite to eat\, with friends .\nBy night\, the late-night venue comes alive with a party atmosphere\, welcoming live music with some of the best DJs and musicians around.\nWe offer casual street-style food from spicy wings to stack your own burgers\, loaded fries\, and BBQ ribs. Nachos are made ideal for sharing and the perfect combo to a bucket of cold beers. \n\n        \n            Attachments\n        4th July 2023 A3 Poster (605 kB)
URL:https://killarneyadvertiser.ie/whats-on-killarney/bbq-at-scruffys/
LOCATION:Scruffys Bar\, Plunkett St.\, Killarney\, Co. Kerry\, Ireland
ATTACH;FMTTYPE=image/jpeg:https://killarneyadvertiser.ie/wp-content/uploads/2022/07/The-Towers-Hotel-00055a-1.jpg
END:VEVENT
BEGIN:VEVENT
DTSTART;TZID=Europe/Dublin:20220727T210000
DTEND;TZID=Europe/Dublin:20220727T230000
DTSTAMP:20260421T051324
CREATED:20220719T144030Z
LAST-MODIFIED:20220719T144030Z
UID:46416-1658955600-1658962800@killarneyadvertiser.ie
SUMMARY:Aidan Moynihan
DESCRIPTION:Aidan Moynihan performs in the Backstage Stage Bar. \n\n        \n            Attachments\n        4th July 2023 A3 Poster (605 kB)
URL:https://killarneyadvertiser.ie/whats-on-killarney/aidan-moynihan-18/
LOCATION:Gleneagle INEC Arena\, Muckross Road\, Killarney\, V93 V6WF\, Ireland
CATEGORIES:Live Music,Concert
ATTACH;FMTTYPE=image/jpeg:https://killarneyadvertiser.ie/wp-content/uploads/2022/07/Gleneagle-Hotel-INEC-All-Ireland-Final-Post-1080-x-1080-3.jpg
ORGANIZER;CN="Gleneagle INEC Arena":MAILTO:info@inec.ie
END:VEVENT
BEGIN:VEVENT
DTSTART;TZID=Europe/Dublin:20220728T233000
DTEND;TZID=Europe/Dublin:20220729T233000
DTSTAMP:20260421T051324
CREATED:20220719T144343Z
LAST-MODIFIED:20220719T144343Z
UID:46418-1659051000-1659137400@killarneyadvertiser.ie
SUMMARY:Late Night Piano Bar
DESCRIPTION:Late Night Piano Bar with John McGann in the Gleneagle Green Room \n\n        \n            Attachments\n        4th July 2023 A3 Poster (605 kB)
URL:https://killarneyadvertiser.ie/whats-on-killarney/late-night-piano-bar-6/2022-07-28/
LOCATION:Gleneagle INEC Arena\, Muckross Road\, Killarney\, V93 V6WF\, Ireland
CATEGORIES:Live Music,Concert
ATTACH;FMTTYPE=image/jpeg:https://killarneyadvertiser.ie/wp-content/uploads/2022/07/Gleneagle-Hotel-INEC-All-Ireland-Final-Post-1080-x-1080-3-1.jpg
ORGANIZER;CN="Gleneagle INEC Arena":MAILTO:info@inec.ie
END:VEVENT
BEGIN:VEVENT
DTSTART;TZID=Europe/Dublin:20220728T233000
DTEND;TZID=Europe/Dublin:20220729T233000
DTSTAMP:20260421T051324
CREATED:20220727T143132Z
LAST-MODIFIED:20220727T143132Z
UID:46539-1659051000-1659137400@killarneyadvertiser.ie
SUMMARY:Late Night Piano Bar
DESCRIPTION:Late night Piano Bar with John McGann in the Gleneagle Green Room \n\n        \n            Attachments\n        4th July 2023 A3 Poster (605 kB)
URL:https://killarneyadvertiser.ie/whats-on-killarney/late-night-piano-bar-7/
LOCATION:Gleneagle INEC Arena\, Muckross Road\, Killarney\, V93 V6WF\, Ireland
CATEGORIES:Live Music,Concert
ATTACH;FMTTYPE=image/jpeg:https://killarneyadvertiser.ie/wp-content/uploads/2022/07/The-Gleneagle-Killarney-Lake-Tours-SEM-1200-x-1200-Logo-2.jpg
ORGANIZER;CN="Gleneagle INEC Arena":MAILTO:info@inec.ie
END:VEVENT
BEGIN:VEVENT
DTSTART;TZID=Europe/Dublin:20220729T203000
DTEND;TZID=Europe/Dublin:20220729T230000
DTSTAMP:20260421T051324
CREATED:20220727T142349Z
LAST-MODIFIED:20220727T142349Z
UID:46533-1659126600-1659135600@killarneyadvertiser.ie
SUMMARY:Live Forever Oasis Tribute with the Complete Stone Roses
DESCRIPTION:Live Forever are the definitive tribute to the iconic Manchester Super group Oasis. Brought together with a purpose and passion to perform the crowd rousing hits\, B-sides & album tracks of Oasis on their local pub scene\, A decade later this unrivalled tribute band are now consistently selling out major venues and festivals nationwide & beyond. This record-breaking tribute band are also officially the most followed Oasis Tribute band on social media on the planet! \nComplete Stone Roses\nThe Complete Stone Roses are one of the UK’s most well-known\, most seen\, and most successful tribute bands. Selling out venues across the UK and Ireland regularly\, they have helped to carry on the music of one of the UK’s most influential bands – The Stone Roses. \n\n        \n            Attachments\n        4th July 2023 A3 Poster (605 kB)
URL:https://killarneyadvertiser.ie/whats-on-killarney/live-forever-oasis-tribute-with-the-complete-stone-roses/
LOCATION:Gleneagle INEC Arena\, Muckross Road\, Killarney\, V93 V6WF\, Ireland
CATEGORIES:Live Music,Concert
ATTACH;FMTTYPE=image/jpeg:https://killarneyadvertiser.ie/wp-content/uploads/2022/07/Oasis-Live-Forever-440-x-300-1.jpg
ORGANIZER;CN="Gleneagle INEC Arena":MAILTO:info@inec.ie
END:VEVENT
BEGIN:VEVENT
DTSTART;TZID=Europe/Dublin:20220729T203000
DTEND;TZID=Europe/Dublin:20220729T233000
DTSTAMP:20260421T051324
CREATED:20220727T142116Z
LAST-MODIFIED:20220727T142116Z
UID:46531-1659126600-1659137400@killarneyadvertiser.ie
SUMMARY:The Tumbling Paddies
DESCRIPTION:The Tumbling Paddies is country-folk and pop group from Co. Fermanagh consisting of six males\, aged from eighteen to twenty-two-years-old.\nThey play the Gleneagle Ballroom tonight as part of Live at the Gleneagle Killarney \n\n        \n            Attachments\n        4th July 2023 A3 Poster (605 kB)
URL:https://killarneyadvertiser.ie/whats-on-killarney/the-tumbling-paddies/
LOCATION:Gleneagle INEC Arena\, Muckross Road\, Killarney\, V93 V6WF\, Ireland
CATEGORIES:Live Music,Concert
ATTACH;FMTTYPE=image/jpeg:https://killarneyadvertiser.ie/wp-content/uploads/2022/07/The-Tumbling-Paddies-Live-at-The-Gleneagle-440-x-300.jpg
ORGANIZER;CN="Gleneagle INEC Arena":MAILTO:info@inec.ie
END:VEVENT
BEGIN:VEVENT
DTSTART;TZID=Europe/Dublin:20220730T203000
DTEND;TZID=Europe/Dublin:20220730T233000
DTSTAMP:20260421T051324
CREATED:20220727T141847Z
LAST-MODIFIED:20220727T141847Z
UID:46529-1659213000-1659223800@killarneyadvertiser.ie
SUMMARY:Abbaesque
DESCRIPTION:Leading tribute band Abbaesque perform tonight as part of Live at the Gleneagle Killarney \n\n        \n            Attachments\n        4th July 2023 A3 Poster (605 kB)
URL:https://killarneyadvertiser.ie/whats-on-killarney/abbaesque/
LOCATION:Gleneagle INEC Arena\, Muckross Road\, Killarney\, V93 V6WF\, Ireland
CATEGORIES:Live Music,Concert
ATTACH;FMTTYPE=image/jpeg:https://killarneyadvertiser.ie/wp-content/uploads/2022/07/Abbaesque-Web-Images-440-x-300.jpg
ORGANIZER;CN="Gleneagle INEC Arena":MAILTO:info@inec.ie
END:VEVENT
BEGIN:VEVENT
DTSTART;TZID=Europe/Dublin:20220730T233000
DTEND;TZID=Europe/Dublin:20220731T233000
DTSTAMP:20260421T051324
CREATED:20220727T143231Z
LAST-MODIFIED:20220727T143231Z
UID:46541-1659223800-1659310200@killarneyadvertiser.ie
SUMMARY:Late Night Piano Bar
DESCRIPTION:Late night Piano Bar with john McGann in the Gleneagle Green room \n\n        \n            Attachments\n        4th July 2023 A3 Poster (605 kB)
URL:https://killarneyadvertiser.ie/whats-on-killarney/late-night-piano-bar-8/
LOCATION:Gleneagle INEC Arena\, Muckross Road\, Killarney\, V93 V6WF\, Ireland
ATTACH;FMTTYPE=image/jpeg:https://killarneyadvertiser.ie/wp-content/uploads/2022/07/The-Gleneagle-Killarney-Lake-Tours-SEM-1200-x-1200-Logo-2-1.jpg
ORGANIZER;CN="Gleneagle INEC Arena":MAILTO:info@inec.ie
END:VEVENT
BEGIN:VEVENT
DTSTART;TZID=Europe/Dublin:20220731T200000
DTEND;TZID=Europe/Dublin:20220731T230000
DTSTAMP:20260421T051324
CREATED:20220727T142643Z
LAST-MODIFIED:20220727T142643Z
UID:46535-1659297600-1659308400@killarneyadvertiser.ie
SUMMARY:The Whistlin' Donkeys
DESCRIPTION:The Whistlin’ Donkeys\, an Irish Folk band hailing from County Tyrone have made quite a name for themselves over the past 10 years. Having brought many of venues and festivals to a standstill with their excellent rendition of Bees Wing to raising the roof with Maniac 2000\, The Whistlin’ Donkeys unique spin on Irish folk music mixed with elements of traditional Irish with Celtic rock have gained them thousands of followers both at home and abroad. The band have toured extensively over the past 5 years entertaining huge crowds in the Ireland\, England\, USA\, Canada and across Europe. The band consists of Fergal McAloon\, lead vocals\, bodhrán; Stephen Corrigan\, acoustic guitar\, backing vocals; Tomás Quinn\, banjo; Michael Kerr\, fiddle\, backing vocals; Danny McCormick\, bass guitar\, backing vocals; Oscar Bradley\, drums and percussion. \n\n        \n            Attachments\n        4th July 2023 A3 Poster (605 kB)
URL:https://killarneyadvertiser.ie/whats-on-killarney/the-whistlin-donkeys/
LOCATION:Gleneagle INEC Arena\, Muckross Road\, Killarney\, V93 V6WF\, Ireland
CATEGORIES:Live Music,Concert
ATTACH;FMTTYPE=image/jpeg:https://killarneyadvertiser.ie/wp-content/uploads/2022/07/The-Whistlin-Donkeys-July-22-440-x-300.jpg
ORGANIZER;CN="Gleneagle INEC Arena":MAILTO:info@inec.ie
END:VEVENT
BEGIN:VEVENT
DTSTART;TZID=Europe/Dublin:20220731T233000
DTEND;TZID=Europe/Dublin:20220801T010000
DTSTAMP:20260421T051324
CREATED:20220727T143431Z
LAST-MODIFIED:20220727T143431Z
UID:46543-1659310200-1659315600@killarneyadvertiser.ie
SUMMARY:Late Night Piano Bar
DESCRIPTION:Late night Piano Bar with John McGann in the Gleneagle Green Room \n\n        \n            Attachments\n        4th July 2023 A3 Poster (605 kB)
URL:https://killarneyadvertiser.ie/whats-on-killarney/late-night-piano-bar-9/
LOCATION:Gleneagle INEC Arena\, Muckross Road\, Killarney\, V93 V6WF\, Ireland
ATTACH;FMTTYPE=image/jpeg:https://killarneyadvertiser.ie/wp-content/uploads/2022/07/The-Gleneagle-Killarney-Lake-Tours-SEM-1200-x-1200-Logo-2-2.jpg
ORGANIZER;CN="Gleneagle INEC Arena":MAILTO:info@inec.ie
END:VEVENT
END:VCALENDAR