BEGIN:VCALENDAR
VERSION:2.0
PRODID:-//Killarney Advertiser - ECPv6.8.2.1//NONSGML v1.0//EN
CALSCALE:GREGORIAN
METHOD:PUBLISH
X-WR-CALNAME:Killarney Advertiser
X-ORIGINAL-URL:https://killarneyadvertiser.ie
X-WR-CALDESC:Events for Killarney Advertiser
REFRESH-INTERVAL;VALUE=DURATION:PT1H
X-Robots-Tag:noindex
X-PUBLISHED-TTL:PT1H
BEGIN:VTIMEZONE
TZID:Europe/Dublin
BEGIN:STANDARD
TZOFFSETFROM:+0000
TZOFFSETTO:+0100
TZNAME:IST
DTSTART:20220327T010000
END:STANDARD
BEGIN:DAYLIGHT
TZOFFSETFROM:+0100
TZOFFSETTO:+0000
TZNAME:GMT
DTSTART:20221030T010000
END:DAYLIGHT
END:VTIMEZONE
BEGIN:VEVENT
DTSTART;TZID=Europe/Dublin:20220711T203000
DTEND;TZID=Europe/Dublin:20220711T230000
DTSTAMP:20260421T051331
CREATED:20220701T140939Z
LAST-MODIFIED:20220701T140939Z
UID:45960-1657571400-1657580400@killarneyadvertiser.ie
SUMMARY:Michael English in Concert
DESCRIPTION:Michael English performs in the Gleneagle Hotel Ballroom as part of Live at the Gleneagle Killarney.   \n\n        \n            Attachments\n        4th July 2023 A3 Poster (605 kB)
URL:https://killarneyadvertiser.ie/whats-on-killarney/michael-english-in-concert-2/2022-07-11/
LOCATION:Gleneagle INEC Arena\, Muckross Road\, Killarney\, V93 V6WF\, Ireland
CATEGORIES:Live Music,Concert
ATTACH;FMTTYPE=image/jpeg:https://killarneyadvertiser.ie/wp-content/uploads/2022/07/Michael-English-Live-at-The-Gleneagle-Web-Images-440-x-300.jpg
ORGANIZER;CN="Gleneagle INEC Arena":MAILTO:info@inec.ie
END:VEVENT
BEGIN:VEVENT
DTSTART;TZID=Europe/Dublin:20220713T210000
DTEND;TZID=Europe/Dublin:20220713T230000
DTSTAMP:20260421T051331
CREATED:20220701T141937Z
LAST-MODIFIED:20220701T141937Z
UID:45983-1657746000-1657753200@killarneyadvertiser.ie
SUMMARY:Aidan Moynihan
DESCRIPTION:Aidan Moynihan performs in the Gleneagle Backstage Bar \n\n        \n            Attachments\n        4th July 2023 A3 Poster (605 kB)
URL:https://killarneyadvertiser.ie/whats-on-killarney/aidan-moynihan-17/
LOCATION:Gleneagle INEC Arena\, Muckross Road\, Killarney\, V93 V6WF\, Ireland
CATEGORIES:Live Music
ATTACH;FMTTYPE=image/jpeg:https://killarneyadvertiser.ie/wp-content/uploads/2022/07/The-Backstage-Bar-Logo.jpg
ORGANIZER;CN="Gleneagle INEC Arena":MAILTO:info@inec.ie
END:VEVENT
BEGIN:VEVENT
DTSTART;TZID=Europe/Dublin:20220713T210000
DTEND;TZID=Europe/Dublin:20220713T230000
DTSTAMP:20260421T051331
CREATED:20220713T150006Z
LAST-MODIFIED:20220713T150006Z
UID:46307-1657746000-1657753200@killarneyadvertiser.ie
SUMMARY:Live Music
DESCRIPTION:Live music in the Courtyard from 9pm with Spailpin \n\n        \n            Attachments\n        4th July 2023 A3 Poster (605 kB)
URL:https://killarneyadvertiser.ie/whats-on-killarney/live-music-44/
LOCATION:Scotts Bar and Courtyard\, Scotts Street\, Killarney\, V93 CF30\, Ireland
ORGANIZER;CN="Scotts Bar and Courtyard":MAILTO:info@scottshotelkillarney.com
END:VEVENT
BEGIN:VEVENT
DTSTART;TZID=Europe/Dublin:20220714T080000
DTEND;TZID=Europe/Dublin:20220714T203000
DTSTAMP:20260421T051331
CREATED:20220701T142224Z
LAST-MODIFIED:20220701T142224Z
UID:45985-1657785600-1657830600@killarneyadvertiser.ie
SUMMARY:Derek Ryan Dance
DESCRIPTION:Dancing with Derek Ryan in the Gleneagle Ballroom as part of Live at the Gleneagle Killarney. \n\n        \n            Attachments\n        4th July 2023 A3 Poster (605 kB)
URL:https://killarneyadvertiser.ie/whats-on-killarney/derek-ryan-dance/
LOCATION:Gleneagle INEC Arena\, Muckross Road\, Killarney\, V93 V6WF\, Ireland
CATEGORIES:Live Music,Concert
ATTACH;FMTTYPE=image/jpeg:https://killarneyadvertiser.ie/wp-content/uploads/2022/07/Derek-Ryan-Live-at-The-Gleneagle-440-x-300.jpg
ORGANIZER;CN="Gleneagle INEC Arena":MAILTO:info@inec.ie
END:VEVENT
BEGIN:VEVENT
DTSTART;TZID=Europe/Dublin:20220714T210000
DTEND;TZID=Europe/Dublin:20220714T230000
DTSTAMP:20260421T051331
CREATED:20220713T150301Z
LAST-MODIFIED:20220713T150301Z
UID:46308-1657832400-1657839600@killarneyadvertiser.ie
SUMMARY:Live Music
DESCRIPTION:Live Music from 9pm in the Courtyard with Alan Flynn \n\n        \n            Attachments\n        4th July 2023 A3 Poster (605 kB)
URL:https://killarneyadvertiser.ie/whats-on-killarney/live-music-45/
LOCATION:Scotts Bar and Courtyard\, Scotts Street\, Killarney\, V93 CF30\, Ireland
ORGANIZER;CN="Scotts Bar and Courtyard":MAILTO:info@scottshotelkillarney.com
END:VEVENT
BEGIN:VEVENT
DTSTART;TZID=Europe/Dublin:20220714T233000
DTEND;TZID=Europe/Dublin:20220714T233000
DTSTAMP:20260421T051331
CREATED:20220701T143516Z
LAST-MODIFIED:20220701T143516Z
UID:45991-1657841400-1657841400@killarneyadvertiser.ie
SUMMARY:Late Night Piano Bar
DESCRIPTION:Late-night Piano Bar in the Gleneagle Green Room with JOhn McGann \n\n        \n            Attachments\n        4th July 2023 A3 Poster (605 kB)
URL:https://killarneyadvertiser.ie/whats-on-killarney/late-night-piano-bar/
CATEGORIES:Live Music
ATTACH;FMTTYPE=image/jpeg:https://killarneyadvertiser.ie/wp-content/uploads/2022/07/Gleneagle-Hotel-Logo-850-x-235-1.jpg
ORGANIZER;CN="Gleneagle INEC Arena":MAILTO:info@inec.ie
END:VEVENT
BEGIN:VEVENT
DTSTART;VALUE=DATE:20220715
DTEND;VALUE=DATE:20220716
DTSTAMP:20260421T051331
CREATED:20220706T103612Z
LAST-MODIFIED:20220706T103612Z
UID:46012-1657843200-1657929599@killarneyadvertiser.ie
SUMMARY:Rosé Ladies Day Event
DESCRIPTION:Rosé the day away in true Café du Parc Chic whilst enjoying Funky Brunch\, Beats and Rosé Flights. Chance of winning incredible prizes! \nAbout this event\nMake the most of Ladies Day with a glamourous outing at the inaugural Rosé on the Terrace x Ladies Day event taking place at Café du Parc. \nSip your way through a flight of four different rosé wines\, including cult favorites like Whispering Angel and Domaine de l’Ile Rosé Chanel. Indulge in brunch alongside\, followed by admission to the racecourse. Elevate your experience with a Jaunting Cart to the track and the option to add on a post-race cocktail with some light bites and a guaranteed seat for those tired feet. \nThere’ll be some fabulous prizes for the best dressed\, judged by award-winning designer Sinead Keary and live entertainment from Café Du Parc’s resident DJ. \nLadies Day Rosé Brunch any time between 11am-1pm \nKillarney Races: Ladies Day 1pm – 6pm \nPost-Race Day Cocktails & Nibbles 5-7pm \nDress Code: Café Du Parc chic with a touch of Ladies’ Day dazzle but most importantly come in whatever makes you feel awesome (hats optional). \nFirst Prize: A Suite Stay in The Killarney Plaza Hotel & Spa\, including cocktails and dinner in Café du Parc\, a Signature Serail treatment for two people\, and brunch on both mornings. \nSecond Prize: A ‘Funky Brunch’ and bubbles for six people in Café du Parc \nThird Prize: Dinner and drinks for four people in O’Donoghue Public House \nTo avoid disappointment\, it is recommended to book now. \n\n        \n            Attachments\n        4th July 2023 A3 Poster (605 kB)
URL:https://killarneyadvertiser.ie/whats-on-killarney/rose-ladies-day-event/
CATEGORIES:Live Music,Expo,Community
ATTACH;FMTTYPE=image/jpeg:https://killarneyadvertiser.ie/wp-content/uploads/2022/07/Untitled-design.jpg
END:VEVENT
BEGIN:VEVENT
DTSTART;TZID=Europe/Dublin:20220715T190000
DTEND;TZID=Europe/Dublin:20220715T220000
DTSTAMP:20260421T051331
CREATED:20220701T143742Z
LAST-MODIFIED:20220701T143742Z
UID:45993-1657911600-1657922400@killarneyadvertiser.ie
SUMMARY:Tommy Tiernan 'Tomfoolery'
DESCRIPTION:TOMMY TIERNAN’S brand new show ‘tomfoolery’ sees the now 50-year-old comedian back onstage with an exhilarating mix of the highly personal and flamboyant storytelling that audiences have come to love. Renowned for his no holds barred approach to the art of stand-up\, this promises to be a delightful trip through the mouth and mind of one of the world’s most respected comic performers. Age has not dulled him\, In fact he seems more full of fire and mischief now than he ever was. He wonders aloud about God\, sex\, and family in a way that seems equally sacred and profane at the same time. His stories and ideas are as full of drama as they are of wit and fun. His legendary record-breaking ticket sales extend across the world. The Star of Channel 4’s hit show Derry Girls and Live at the Apollo (BBC) and the host of his own highly critically praised improvised chat show on Ireland’s RTE 1.   \n\n        \n            Attachments\n        4th July 2023 A3 Poster (605 kB)
URL:https://killarneyadvertiser.ie/whats-on-killarney/tommy-tiernan-tomfoolery/
LOCATION:Gleneagle INEC Arena\, Muckross Road\, Killarney\, V93 V6WF\, Ireland
CATEGORIES:Concert
ATTACH;FMTTYPE=image/jpeg:https://killarneyadvertiser.ie/wp-content/uploads/2022/07/Tommy-Tiernan-Web-Images-440-x-300.jpg
ORGANIZER;CN="Gleneagle INEC Arena":MAILTO:info@inec.ie
END:VEVENT
BEGIN:VEVENT
DTSTART;TZID=Europe/Dublin:20220715T203000
DTEND;TZID=Europe/Dublin:20220715T230000
DTSTAMP:20260421T051331
CREATED:20220701T144110Z
LAST-MODIFIED:20220701T144110Z
UID:45995-1657917000-1657926000@killarneyadvertiser.ie
SUMMARY:Gina and the Champions
DESCRIPTION:Gina and the Champions perform in the Gleneagle Ballroom as part of Live at the Gleneagle Killarney. She also performs on August 1st and August 20th. \n\n        \n            Attachments\n        4th July 2023 A3 Poster (605 kB)
URL:https://killarneyadvertiser.ie/whats-on-killarney/gina-and-the-champions/
CATEGORIES:Live Music,Concert
ATTACH;FMTTYPE=image/jpeg:https://killarneyadvertiser.ie/wp-content/uploads/2022/07/Gina-The-Champions-Web-Images-440-x-300-1.jpg
ORGANIZER;CN="Gleneagle INEC Arena":MAILTO:info@inec.ie
END:VEVENT
BEGIN:VEVENT
DTSTART;TZID=Europe/Dublin:20220715T210000
DTEND;TZID=Europe/Dublin:20220716T120000
DTSTAMP:20260421T051331
CREATED:20220713T145233Z
LAST-MODIFIED:20220713T145233Z
UID:46305-1657918800-1657972800@killarneyadvertiser.ie
SUMMARY:Live Music
DESCRIPTION:Live music in our Courtyard With Alternative Route 9-11pm and Ivan Ryan in the main bar from 10pm \n\n        \n            Attachments\n        4th July 2023 A3 Poster (605 kB)
URL:https://killarneyadvertiser.ie/whats-on-killarney/live-music-42/
LOCATION:Scotts Bar and Courtyard\, Scotts Street\, Killarney\, V93 CF30\, Ireland
CATEGORIES:Live Music
ORGANIZER;CN="Scotts Bar and Courtyard":MAILTO:info@scottshotelkillarney.com
END:VEVENT
BEGIN:VEVENT
DTSTART;TZID=Europe/Dublin:20220716T203000
DTEND;TZID=Europe/Dublin:20220716T233000
DTSTAMP:20260421T051331
CREATED:20220706T130950Z
LAST-MODIFIED:20220706T130950Z
UID:46125-1658003400-1658014200@killarneyadvertiser.ie
SUMMARY:Ronan Collins Showband Show & the Conquerors
DESCRIPTION:Ronan Collins Showband Show & the Conquerors perform in the Gleneagle Ballroom as part of the Live in Killarney Summer series of gigs. \n\n        \n            Attachments\n        4th July 2023 A3 Poster (605 kB)
URL:https://killarneyadvertiser.ie/whats-on-killarney/ronan-collins-showband-show-the-conquerors/
LOCATION:Gleneagle INEC Arena\, Muckross Road\, Killarney\, V93 V6WF\, Ireland
CATEGORIES:Live Music,Concert
ATTACH;FMTTYPE=image/jpeg:https://killarneyadvertiser.ie/wp-content/uploads/2022/07/Ronan-Collins-The-Conquerorsn-Live-at-The-Gleneagle-440-x-300.jpg
ORGANIZER;CN="Gleneagle INEC Arena":MAILTO:info@inec.ie
END:VEVENT
BEGIN:VEVENT
DTSTART;TZID=Europe/Dublin:20220716T210000
DTEND;TZID=Europe/Dublin:20220717T120000
DTSTAMP:20260421T051331
CREATED:20220713T145705Z
LAST-MODIFIED:20220713T145705Z
UID:46306-1658005200-1658059200@killarneyadvertiser.ie
SUMMARY:Live Music
DESCRIPTION:Live music from 9pm to 11pm in the Courtyard with Rouge and Trad Session in the main bar from 10pm \n\n        \n            Attachments\n        4th July 2023 A3 Poster (605 kB)
URL:https://killarneyadvertiser.ie/whats-on-killarney/live-music-43/
LOCATION:Scotts Bar and Courtyard\, Scotts Street\, Killarney\, V93 CF30\, Ireland
ORGANIZER;CN="Scotts Bar and Courtyard":MAILTO:info@scottshotelkillarney.com
END:VEVENT
BEGIN:VEVENT
DTSTART;TZID=Europe/Dublin:20220716T233000
DTEND;TZID=Europe/Dublin:20220717T233000
DTSTAMP:20260421T051331
CREATED:20220711T154334Z
LAST-MODIFIED:20220711T154334Z
UID:46299-1658014200-1658100600@killarneyadvertiser.ie
SUMMARY:Late Night Piano Bar
DESCRIPTION:Late Night Piano Bar with John McGann in the Gleneagle Green Room \n\n        \n            Attachments\n        4th July 2023 A3 Poster (605 kB)
URL:https://killarneyadvertiser.ie/whats-on-killarney/late-night-piano-bar-3/
LOCATION:Gleneagle INEC Arena\, Muckross Road\, Killarney\, V93 V6WF\, Ireland
CATEGORIES:Live Music,Concert
ATTACH;FMTTYPE=image/jpeg:https://killarneyadvertiser.ie/wp-content/uploads/2022/07/The-Gleneagle-Killarney-Lake-Tours-SEM-1200-x-1200-Logo.jpg
ORGANIZER;CN="Gleneagle INEC Arena":MAILTO:info@inec.ie
END:VEVENT
BEGIN:VEVENT
DTSTART;TZID=Europe/Dublin:20220717T200000
DTEND;TZID=Europe/Dublin:20220717T230000
DTSTAMP:20260421T051331
CREATED:20220713T150650Z
LAST-MODIFIED:20220713T150650Z
UID:46309-1658088000-1658098800@killarneyadvertiser.ie
SUMMARY:Live Music
DESCRIPTION:Live Music in the Courtyard from 8pm with Alan Flynn and from 9pm in the Main Bar with Ivan Ryan \n\n        \n            Attachments\n        4th July 2023 A3 Poster (605 kB)
URL:https://killarneyadvertiser.ie/whats-on-killarney/live-music-46/
LOCATION:Scotts Bar and Courtyard\, Scotts Street\, Killarney\, V93 CF30\, Ireland
ORGANIZER;CN="Scotts Bar and Courtyard":MAILTO:info@scottshotelkillarney.com
END:VEVENT
BEGIN:VEVENT
DTSTART;TZID=Europe/Dublin:20220717T203000
DTEND;TZID=Europe/Dublin:20220717T233000
DTSTAMP:20260421T051331
CREATED:20220711T154710Z
LAST-MODIFIED:20220711T154710Z
UID:46301-1658089800-1658100600@killarneyadvertiser.ie
SUMMARY:Dan McCabe
DESCRIPTION:Dan McCabe performs in the Gleneagle Ballroom as part of the Sunday Sessions at Live at the Gleneagle Killarney.   \nComing from a long lineage of folk musicians Dan started out his career in live music at an early age. Dan would go from strength to strength in this side of the industry and music soon became his full time job.  \nDue to the Covid 19 lockdown and lack of opportunity for live music performances\, Dan turned his focus to posting videos on social media platforms merely as a bit of fun and to escape the hardship and gloom of the pandemic. Little did he know that these recordings would be viewed over 12 million times online and would catch the attention of Senior producers at RTE \n\n        \n            Attachments\n        4th July 2023 A3 Poster (605 kB)
URL:https://killarneyadvertiser.ie/whats-on-killarney/dan-mccabe/
LOCATION:Gleneagle INEC Arena\, Muckross Road\, Killarney\, V93 V6WF\, Ireland
CATEGORIES:Live Music,Concert
ATTACH;FMTTYPE=image/jpeg:https://killarneyadvertiser.ie/wp-content/uploads/2022/07/Dan-McCabe-Web-Images-440-x-300.jpg
ORGANIZER;CN="Gleneagle INEC Arena":MAILTO:info@inec.ie
END:VEVENT
END:VCALENDAR