BEGIN:VCALENDAR
VERSION:2.0
PRODID:-//Killarney Advertiser - ECPv6.8.2.1//NONSGML v1.0//EN
CALSCALE:GREGORIAN
METHOD:PUBLISH
X-ORIGINAL-URL:https://killarneyadvertiser.ie
X-WR-CALDESC:Events for Killarney Advertiser
REFRESH-INTERVAL;VALUE=DURATION:PT1H
X-Robots-Tag:noindex
X-PUBLISHED-TTL:PT1H
BEGIN:VTIMEZONE
TZID:Europe/Dublin
BEGIN:STANDARD
TZOFFSETFROM:+0000
TZOFFSETTO:+0100
TZNAME:IST
DTSTART:20230326T010000
END:STANDARD
BEGIN:DAYLIGHT
TZOFFSETFROM:+0100
TZOFFSETTO:+0000
TZNAME:GMT
DTSTART:20231029T010000
END:DAYLIGHT
END:VTIMEZONE
BEGIN:VEVENT
DTSTART;TZID=Europe/Dublin:20230319T160000
DTEND;TZID=Europe/Dublin:20230319T180000
DTSTAMP:20260421T163734
CREATED:20230310T152223Z
LAST-MODIFIED:20230314T090753Z
UID:53203-1679241600-1679248800@killarneyadvertiser.ie
SUMMARY:Sunday Sessions at O’Donoghue Public House
DESCRIPTION:Steeped in history and tradition\, we’re bringing back old pub ways to Killarney town for you to experience the authentic traditional Irish pub life. Pull up a stool at the bar\, or relax into a cosy corner in one of our snugs while you enjoy craic agus ceol.
URL:https://killarneyadvertiser.ie/whats-on-killarney/sunday-sessions-at-scruffys-2023-03-19/2023-03-19/
LOCATION:Scruffys Bar\, Plunkett St.\, Killarney\, Co. Kerry\, Ireland
ATTACH;FMTTYPE=image/jpeg:https://killarneyadvertiser.ie/wp-content/uploads/2023/03/YYff71ON-2-scaled.jpg
END:VEVENT
END:VCALENDAR