BEGIN:VCALENDAR
VERSION:2.0
PRODID:-//Killarney Advertiser - ECPv6.8.2.1//NONSGML v1.0//EN
CALSCALE:GREGORIAN
METHOD:PUBLISH
X-ORIGINAL-URL:https://killarneyadvertiser.ie
X-WR-CALDESC:Events for Killarney Advertiser
REFRESH-INTERVAL;VALUE=DURATION:PT1H
X-Robots-Tag:noindex
X-PUBLISHED-TTL:PT1H
BEGIN:VTIMEZONE
TZID:Europe/Dublin
BEGIN:STANDARD
TZOFFSETFROM:+0000
TZOFFSETTO:+0100
TZNAME:IST
DTSTART:20230326T010000
END:STANDARD
BEGIN:DAYLIGHT
TZOFFSETFROM:+0100
TZOFFSETTO:+0000
TZNAME:GMT
DTSTART:20231029T010000
END:DAYLIGHT
END:VTIMEZONE
BEGIN:VEVENT
DTSTART;TZID=Europe/Dublin:20230323T170000
DTEND;TZID=Europe/Dublin:20230324T003000
DTSTAMP:20260421T172644
CREATED:20230314T100945Z
LAST-MODIFIED:20230314T101814Z
UID:53384-1679590800-1679617800@killarneyadvertiser.ie
SUMMARY:Live Music at SCRUFFYS
DESCRIPTION:Scruffy’s is a fun and happening bar in the heart of Killarney where the craic is guaranteed. This late-night venue comes alive with a party atmosphere\, welcoming live music with some of the best DJs and musicians around. \n\n        \n            Attachments\n        The Towers Hotel - 00033a (2022-06-01T12_55_46.416) (235 kB)The Towers Hotel - 00033a (2022-06-01T12_55_46.416) (235 kB)
URL:https://killarneyadvertiser.ie/whats-on-killarney/live-music-at-scruffys-4/2023-03-23/
LOCATION:Scruffys Bar\, Plunkett St.\, Killarney\, Co. Kerry\, Ireland
ATTACH;FMTTYPE=image/jpeg:https://killarneyadvertiser.ie/wp-content/uploads/2023/03/The-Towers-Hotel-00033a-2022-06-01T12_55_46.416-1-scaled.jpg
END:VEVENT
END:VCALENDAR