BEGIN:VCALENDAR
VERSION:2.0
PRODID:-//Killarney Advertiser - ECPv6.8.2.1//NONSGML v1.0//EN
CALSCALE:GREGORIAN
METHOD:PUBLISH
X-ORIGINAL-URL:https://killarneyadvertiser.ie
X-WR-CALDESC:Events for Killarney Advertiser
REFRESH-INTERVAL;VALUE=DURATION:PT1H
X-Robots-Tag:noindex
X-PUBLISHED-TTL:PT1H
BEGIN:VTIMEZONE
TZID:Europe/Dublin
BEGIN:STANDARD
TZOFFSETFROM:+0000
TZOFFSETTO:+0100
TZNAME:IST
DTSTART:20230326T010000
END:STANDARD
BEGIN:DAYLIGHT
TZOFFSETFROM:+0100
TZOFFSETTO:+0000
TZNAME:GMT
DTSTART:20231029T010000
END:DAYLIGHT
END:VTIMEZONE
BEGIN:VEVENT
DTSTART;TZID=Europe/Dublin:20230323T213000
DTEND;TZID=Europe/Dublin:20230323T233000
DTSTAMP:20260421T180348
CREATED:20230314T094457Z
LAST-MODIFIED:20230314T095348Z
UID:53322-1679607000-1679614200@killarneyadvertiser.ie
SUMMARY:Live Music at O’Donoghue Public House
DESCRIPTION:Steeped in history and tradition\, we’re bringing back old pub ways to Killarney town for you to experience the authentic traditional Irish pub life. Pull up a stool at the bar\, or relax into a cosy corner in one of our snugs while you enjoy craic agus ceol. \n\n        \n            Attachments\n        Pint and Newspaper HERO SHOT (245 kB)
URL:https://killarneyadvertiser.ie/whats-on-killarney/live-music-at-odonoghue-public-house-2/2023-03-23/
LOCATION:O’Donoghue Public House\, 76 College St\, Killarney\, Kerry\, V93 HP7A\, Ireland
ATTACH;FMTTYPE=image/jpeg:https://killarneyadvertiser.ie/wp-content/uploads/2023/03/Pint-and-Newspaper-HERO-SHOT-1-scaled.jpg
END:VEVENT
END:VCALENDAR