BEGIN:VCALENDAR
VERSION:2.0
PRODID:-//Killarney Advertiser - ECPv6.8.2.1//NONSGML v1.0//EN
CALSCALE:GREGORIAN
METHOD:PUBLISH
X-ORIGINAL-URL:https://killarneyadvertiser.ie
X-WR-CALDESC:Events for Killarney Advertiser
REFRESH-INTERVAL;VALUE=DURATION:PT1H
X-Robots-Tag:noindex
X-PUBLISHED-TTL:PT1H
BEGIN:VTIMEZONE
TZID:Europe/Dublin
BEGIN:STANDARD
TZOFFSETFROM:+0000
TZOFFSETTO:+0100
TZNAME:IST
DTSTART:20230326T010000
END:STANDARD
BEGIN:DAYLIGHT
TZOFFSETFROM:+0100
TZOFFSETTO:+0000
TZNAME:GMT
DTSTART:20231029T010000
END:DAYLIGHT
END:VTIMEZONE
BEGIN:VEVENT
DTSTART;TZID=Europe/Dublin:20230324T213000
DTEND;TZID=Europe/Dublin:20230325T213000
DTSTAMP:20260421T214243
CREATED:20230314T102250Z
LAST-MODIFIED:20230314T102250Z
UID:53409-1679693400-1679779800@killarneyadvertiser.ie
SUMMARY:Live Music at SCRUFFYS
DESCRIPTION:Scruffy’s is a fun and happening bar in the heart of Killarney where the craic is guaranteed. This late-night venue comes alive with a party atmosphere\, welcoming live music with some of the best DJs and musicians around. \n\n        \n            Attachments\n        The Gleneagle 'Killarney Lake Tours SEM' 1200 x 1200 Logo (1) (158 kB)
URL:https://killarneyadvertiser.ie/whats-on-killarney/live-music-at-scruffys-6/2023-03-24/
LOCATION:Scruffys Bar\, Plunkett St.\, Killarney\, Co. Kerry\, Ireland
ATTACH;FMTTYPE=image/jpeg:https://killarneyadvertiser.ie/wp-content/uploads/2023/03/The-Towers-Hotel-00033a-2022-06-01T12_55_46.416-2-scaled.jpg
END:VEVENT
BEGIN:VEVENT
DTSTART;TZID=Europe/Dublin:20230325T213000
DTEND;TZID=Europe/Dublin:20230326T020000
DTSTAMP:20260421T214243
CREATED:20230314T102427Z
LAST-MODIFIED:20230314T102427Z
UID:53412-1679779800-1679796000@killarneyadvertiser.ie
SUMMARY:Live Music at SCRUFFYS
DESCRIPTION:Scruffy’s is a fun and happening bar in the heart of Killarney where the craic is guaranteed. This late-night venue comes alive with a party atmosphere\, welcoming live music with some of the best DJs and musicians around. \n\n        \n            Attachments\n        The Gleneagle 'Killarney Lake Tours SEM' 1200 x 1200 Logo (1) (158 kB)
URL:https://killarneyadvertiser.ie/whats-on-killarney/live-music-at-scruffys-7/2023-03-25/
LOCATION:Scruffys Bar\, Plunkett St.\, Killarney\, Co. Kerry\, Ireland
ATTACH;FMTTYPE=image/jpeg:https://killarneyadvertiser.ie/wp-content/uploads/2023/03/The-Towers-Hotel-00033a-2022-06-01T12_55_46.416-3-scaled.jpg
END:VEVENT
BEGIN:VEVENT
DTSTART;TZID=Europe/Dublin:20230326T160000
DTEND;TZID=Europe/Dublin:20230326T180000
DTSTAMP:20260421T214243
CREATED:20230314T095554Z
LAST-MODIFIED:20230314T095638Z
UID:53349-1679846400-1679853600@killarneyadvertiser.ie
SUMMARY:Sunday Sessions at O’Donoghue Public House
DESCRIPTION:Steeped in history and tradition\, we’re bringing back old pub ways to Killarney town for you to experience the authentic traditional Irish pub life. Pull up a stool at the bar\, or relax into a cosy corner in one of our snugs while you enjoy craic agus ceol. \n\n        \n            Attachments\n        The Gleneagle 'Killarney Lake Tours SEM' 1200 x 1200 Logo (1) (158 kB)
URL:https://killarneyadvertiser.ie/whats-on-killarney/sunday-sessions-at-odonoghue-public-house/2023-03-26/
LOCATION:O’Donoghue Public House\, 76 College St\, Killarney\, Kerry\, V93 HP7A\, Ireland
ATTACH;FMTTYPE=image/jpeg:https://killarneyadvertiser.ie/wp-content/uploads/2023/03/Pint-and-Newspaper-HERO-SHOT-5-scaled.jpg
END:VEVENT
BEGIN:VEVENT
DTSTART;TZID=Europe/Dublin:20230326T210000
DTEND;TZID=Europe/Dublin:20230326T230000
DTSTAMP:20260421T214243
CREATED:20230314T100426Z
LAST-MODIFIED:20230314T100426Z
UID:53371-1679864400-1679871600@killarneyadvertiser.ie
SUMMARY:Live Music at O’Donoghue Public House
DESCRIPTION:Steeped in history and tradition\, we’re bringing back old pub ways to Killarney town for you to experience the authentic traditional Irish pub life. Pull up a stool at the bar\, or relax into a cosy corner in one of our snugs while you enjoy craic agus ceol. \n\n        \n            Attachments\n        The Gleneagle 'Killarney Lake Tours SEM' 1200 x 1200 Logo (1) (158 kB)
URL:https://killarneyadvertiser.ie/whats-on-killarney/live-music-at-odonoghue-public-house-4/2023-03-26/
LOCATION:O’Donoghue Public House\, O'Donoghue Public House\, College St\, Killarney\, Co. Kerry\, V93 HP7A\, Ireland
ATTACH;FMTTYPE=image/jpeg:https://killarneyadvertiser.ie/wp-content/uploads/2023/03/ABg9kNZS-3-scaled.jpg
END:VEVENT
BEGIN:VEVENT
DTSTART;TZID=Europe/Dublin:20230326T210000
DTEND;TZID=Europe/Dublin:20230326T230000
DTSTAMP:20260421T214243
CREATED:20230314T102639Z
LAST-MODIFIED:20230314T102639Z
UID:53424-1679864400-1679871600@killarneyadvertiser.ie
SUMMARY:Live Music at SCRUFFYS
DESCRIPTION:Scruffy’s is a fun and happening bar in the heart of Killarney where the craic is guaranteed. This late-night venue comes alive with a party atmosphere\, welcoming live music with some of the best DJs and musicians around. \n\n        \n            Attachments\n        The Gleneagle 'Killarney Lake Tours SEM' 1200 x 1200 Logo (1) (158 kB)
URL:https://killarneyadvertiser.ie/whats-on-killarney/live-music-at-scruffys-8/2023-03-26/
LOCATION:Scruffys Bar\, Plunkett St.\, Killarney\, Co. Kerry\, Ireland
ATTACH;FMTTYPE=image/jpeg:https://killarneyadvertiser.ie/wp-content/uploads/2023/03/The-Towers-Hotel-00033a-2022-06-01T12_55_46.416-4-scaled.jpg
END:VEVENT
BEGIN:VEVENT
DTSTART;TZID=Europe/Dublin:20230407T210000
DTEND;TZID=Europe/Dublin:20230408T000000
DTSTAMP:20260421T214243
CREATED:20230405T102343Z
LAST-MODIFIED:20230405T102343Z
UID:54130-1680901200-1680912000@killarneyadvertiser.ie
SUMMARY:Live Music
DESCRIPTION:Live music from 9pm with Alan Flynn in the Courtyard and Ivan Ryan in the bar from 10pm \n\n        \n            Attachments\n        The Gleneagle 'Killarney Lake Tours SEM' 1200 x 1200 Logo (1) (158 kB)
URL:https://killarneyadvertiser.ie/whats-on-killarney/live-music-84/
LOCATION:Scotts Bar and Courtyard\, Scotts Street\, Killarney\, V93 CF30\, Ireland
CATEGORIES:Live Music
ATTACH;FMTTYPE=image/jpeg:https://killarneyadvertiser.ie/wp-content/uploads/2023/04/190129_COMMERCIAL_ScottsHotel_11-scaled.jpg
ORGANIZER;CN="Scotts Bar and Courtyard":MAILTO:info@scottshotelkillarney.com
END:VEVENT
BEGIN:VEVENT
DTSTART;TZID=Europe/Dublin:20230703T203000
DTEND;TZID=Europe/Dublin:20230704T220000
DTSTAMP:20260421T214243
CREATED:20230619T152350Z
LAST-MODIFIED:20230619T152350Z
UID:55376-1688416200-1688508000@killarneyadvertiser.ie
SUMMARY:4th of July Festival Killarney
DESCRIPTION:Killarney’s 4th of July Festival with fun for all celebrating the town’s special centuries-old link with America.   \nON MONDAY 3rd JULY\nBe entertained by Truly Diverse before an open air screening of Mamma Mia! on the lawns of Killarney House and Gardens.  This is a free event but space is limited.  Reserve your spot at eventbrite.ie  \nOn TUESDAY 4th JULY\nPose with the Statue of Liberty\, enjoy our face-painters and street entertainers roaming the town while Killarney is turned into Hollywood. Meet our fun-loving cowboys and enjoy the brass bands and top quality singers.\nA spectacular parade\, with marching bands\, striking custom-built floats\, baton-twirling cheerleaders\, colourful movie characters and leather clad bikers will be followed by a musical Beat on the Street. \n\n        \n            Attachments\n        The Gleneagle 'Killarney Lake Tours SEM' 1200 x 1200 Logo (1) (158 kB)
URL:https://killarneyadvertiser.ie/whats-on-killarney/4th-of-july-festival-killarney/
CATEGORIES:Arts
ATTACH;FMTTYPE=image/jpeg:https://killarneyadvertiser.ie/wp-content/uploads/2023/06/4th-July-2023-Page-Advert_RESIZED-FOR-MEDIA-PRINT-scaled.jpg
END:VEVENT
END:VCALENDAR