BEGIN:VCALENDAR
VERSION:2.0
PRODID:-//Killarney Advertiser - ECPv6.8.2.1//NONSGML v1.0//EN
CALSCALE:GREGORIAN
METHOD:PUBLISH
X-WR-CALNAME:Killarney Advertiser
X-ORIGINAL-URL:https://killarneyadvertiser.ie
X-WR-CALDESC:Events for Killarney Advertiser
REFRESH-INTERVAL;VALUE=DURATION:PT1H
X-Robots-Tag:noindex
X-PUBLISHED-TTL:PT1H
BEGIN:VTIMEZONE
TZID:Europe/Dublin
BEGIN:STANDARD
TZOFFSETFROM:+0000
TZOFFSETTO:+0100
TZNAME:IST
DTSTART:20220327T010000
END:STANDARD
BEGIN:DAYLIGHT
TZOFFSETFROM:+0100
TZOFFSETTO:+0000
TZNAME:GMT
DTSTART:20221030T010000
END:DAYLIGHT
END:VTIMEZONE
BEGIN:VEVENT
DTSTART;TZID=Europe/Dublin:20220506T233000
DTEND;TZID=Europe/Dublin:20220507T013000
DTSTAMP:20260421T162738
CREATED:20220505T142011Z
LAST-MODIFIED:20220505T142011Z
UID:44700-1651879800-1651887000@killarneyadvertiser.ie
SUMMARY:Cathal Flaherty
DESCRIPTION:Live music with Cathal Flaherty in the Backstage Bar \n\n        \n            Attachments\n        The Gleneagle 'Killarney Lake Tours SEM' 1200 x 1200 Logo (1) (158 kB)
URL:https://killarneyadvertiser.ie/whats-on-killarney/cathal-flaherty-3/
LOCATION:Gleneagle INEC Arena\, Muckross Road\, Killarney\, V93 V6WF\, Ireland
CATEGORIES:Live Music
ATTACH;FMTTYPE=image/png:https://killarneyadvertiser.ie/wp-content/uploads/2022/03/inec_arena_logo_web.png
ORGANIZER;CN="Gleneagle INEC Arena":MAILTO:info@inec.ie
END:VEVENT
BEGIN:VEVENT
DTSTART;TZID=Europe/Dublin:20220506T200000
DTEND;TZID=Europe/Dublin:20220506T223000
DTSTAMP:20260421T162738
CREATED:20220505T141801Z
LAST-MODIFIED:20220505T141801Z
UID:44699-1651867200-1651876200@killarneyadvertiser.ie
SUMMARY:Foster And Allen
DESCRIPTION:Concert with Foster and Allen in the Gleneagle Ballroom \n\n        \n            Attachments\n        The Gleneagle 'Killarney Lake Tours SEM' 1200 x 1200 Logo (1) (158 kB)
URL:https://killarneyadvertiser.ie/whats-on-killarney/foster-and-allen/
LOCATION:Gleneagle INEC Arena\, Muckross Road\, Killarney\, V93 V6WF\, Ireland
CATEGORIES:Live Music
ATTACH;FMTTYPE=image/png:https://killarneyadvertiser.ie/wp-content/uploads/2022/03/inec_arena_logo_web.png
ORGANIZER;CN="Gleneagle INEC Arena":MAILTO:info@inec.ie
END:VEVENT
BEGIN:VEVENT
DTSTART;TZID=Europe/Dublin:20220506T200000
DTEND;TZID=Europe/Dublin:20220506T223000
DTSTAMP:20260421T162738
CREATED:20220427T162958Z
LAST-MODIFIED:20220427T162958Z
UID:44556-1651867200-1651876200@killarneyadvertiser.ie
SUMMARY:Foster & Allen
DESCRIPTION:Concert in the Gleneagle Ballroom with the legendary Foster and Allen \n\n        \n            Attachments\n        The Gleneagle 'Killarney Lake Tours SEM' 1200 x 1200 Logo (1) (158 kB)
URL:https://killarneyadvertiser.ie/whats-on-killarney/foster-allen/
LOCATION:Gleneagle INEC Arena\, Muckross Road\, Killarney\, V93 V6WF\, Ireland
CATEGORIES:Concert
ATTACH;FMTTYPE=image/png:https://killarneyadvertiser.ie/wp-content/uploads/2022/03/inec_arena_logo_web.png
ORGANIZER;CN="Gleneagle INEC Arena":MAILTO:info@inec.ie
END:VEVENT
BEGIN:VEVENT
DTSTART;TZID=Europe/Dublin:20220506T190000
DTEND;TZID=Europe/Dublin:20220507T000000
DTSTAMP:20260421T162738
CREATED:20220427T163126Z
LAST-MODIFIED:20220427T163126Z
UID:44557-1651863600-1651881600@killarneyadvertiser.ie
SUMMARY:A night for Ukraine
DESCRIPTION:Join us on May 6th for A Concert for Ukraine\, this 6 hour concert features The Coronas\, Gavin James\, The Academic\, Hermitage Green Susan O’Neill with MC Fergal D’Arcy.  All proceeds from the show will be donated to the Irish Red Cross Ukraine appeal \n\n        \n            Attachments\n        The Gleneagle 'Killarney Lake Tours SEM' 1200 x 1200 Logo (1) (158 kB)
URL:https://killarneyadvertiser.ie/whats-on-killarney/a-night-for-ukraine/
LOCATION:Gleneagle INEC Arena\, Muckross Road\, Killarney\, V93 V6WF\, Ireland
CATEGORIES:Concert
ATTACH;FMTTYPE=image/jpeg:https://killarneyadvertiser.ie/wp-content/uploads/2022/04/0225647_A_Night_for_Ukraine_1080_x_1080_6.jpg
ORGANIZER;CN="Gleneagle INEC Arena":MAILTO:info@inec.ie
END:VEVENT
BEGIN:VEVENT
DTSTART;TZID=Europe/Dublin:20220506T190000
DTEND;TZID=Europe/Dublin:20220506T233000
DTSTAMP:20260421T162738
CREATED:20220505T103237Z
LAST-MODIFIED:20220505T103237Z
UID:44675-1651863600-1651879800@killarneyadvertiser.ie
SUMMARY:Rachel O'Shaughnessy
DESCRIPTION:Attachments\n        The Gleneagle 'Killarney Lake Tours SEM' 1200 x 1200 Logo (1) (158 kB)
URL:https://killarneyadvertiser.ie/whats-on-killarney/rachel-oshaughnessy-3/
LOCATION:J.M. Reidys\, 4 Main Street\, Killarney\, V93 CC82\, Ireland
CATEGORIES:Live Music
ATTACH;FMTTYPE=image/jpeg:https://killarneyadvertiser.ie/wp-content/uploads/2022/03/JM-Reidy-1.jpeg
ORGANIZER;CN="J.M. Reidys":MAILTO:info@reidyskillarney.com
END:VEVENT
BEGIN:VEVENT
DTSTART;TZID=Europe/Dublin:20220506T190000
DTEND;TZID=Europe/Dublin:20220506T233000
DTSTAMP:20260421T162738
CREATED:20220505T103156Z
LAST-MODIFIED:20220505T103156Z
UID:44674-1651863600-1651879800@killarneyadvertiser.ie
SUMMARY:Brian Murphy
DESCRIPTION:Attachments\n        The Gleneagle 'Killarney Lake Tours SEM' 1200 x 1200 Logo (1) (158 kB)
URL:https://killarneyadvertiser.ie/whats-on-killarney/brian-murphy-2/
LOCATION:J.M. Reidys\, 4 Main Street\, Killarney\, V93 CC82\, Ireland
CATEGORIES:Live Music
ATTACH;FMTTYPE=image/jpeg:https://killarneyadvertiser.ie/wp-content/uploads/2022/03/JM-Reidy-1.jpeg
ORGANIZER;CN="J.M. Reidys":MAILTO:info@reidyskillarney.com
END:VEVENT
BEGIN:VEVENT
DTSTART;TZID=Europe/Dublin:20220506T090000
DTEND;TZID=Europe/Dublin:20220507T000000
DTSTAMP:20260421T162738
CREATED:20220505T102549Z
LAST-MODIFIED:20220505T102549Z
UID:44670-1651827600-1651881600@killarneyadvertiser.ie
SUMMARY:Live music
DESCRIPTION:Live music with Alan Flynn in the Courtyard and Jeff Quirke in the Main Bar \n\n        \n            Attachments\n        The Gleneagle 'Killarney Lake Tours SEM' 1200 x 1200 Logo (1) (158 kB)
URL:https://killarneyadvertiser.ie/whats-on-killarney/live-music-38/
LOCATION:Scotts Bar and Courtyard\, Scotts Street\, Killarney\, V93 CF30\, Ireland
CATEGORIES:Live Music
ATTACH;FMTTYPE=image/jpeg:https://killarneyadvertiser.ie/wp-content/uploads/2022/03/190510_COMMERCIAL_ScottsLowRes_47.jpg
ORGANIZER;CN="Scotts Bar and Courtyard":MAILTO:info@scottshotelkillarney.com
END:VEVENT
BEGIN:VEVENT
DTSTART;TZID=Europe/Dublin:20220505T213000
DTEND;TZID=Europe/Dublin:20220505T233000
DTSTAMP:20260421T162738
CREATED:20220427T162848Z
LAST-MODIFIED:20220427T162848Z
UID:44555-1651786200-1651793400@killarneyadvertiser.ie
SUMMARY:Eddie Keogh
DESCRIPTION:Dancing in the Ballroom with Eddie Keogh \n\n        \n            Attachments\n        The Gleneagle 'Killarney Lake Tours SEM' 1200 x 1200 Logo (1) (158 kB)
URL:https://killarneyadvertiser.ie/whats-on-killarney/eddie-keogh-2/
LOCATION:Gleneagle INEC Arena\, Muckross Road\, Killarney\, V93 V6WF\, Ireland
CATEGORIES:Live Music
ATTACH;FMTTYPE=image/png:https://killarneyadvertiser.ie/wp-content/uploads/2022/03/inec_arena_logo_web.png
ORGANIZER;CN="Gleneagle INEC Arena":MAILTO:info@inec.ie
END:VEVENT
BEGIN:VEVENT
DTSTART;TZID=Europe/Dublin:20220505T213000
DTEND;TZID=Europe/Dublin:20220505T230000
DTSTAMP:20260421T162738
CREATED:20220505T102456Z
LAST-MODIFIED:20220505T102456Z
UID:44669-1651786200-1651791600@killarneyadvertiser.ie
SUMMARY:Live music
DESCRIPTION:Live music with Ivan Ryan in the Main Bar \n\n        \n            Attachments\n        The Gleneagle 'Killarney Lake Tours SEM' 1200 x 1200 Logo (1) (158 kB)
URL:https://killarneyadvertiser.ie/whats-on-killarney/live-music-37/
LOCATION:Scotts Bar and Courtyard\, Scotts Street\, Killarney\, V93 CF30\, Ireland
CATEGORIES:Live Music
ATTACH;FMTTYPE=image/jpeg:https://killarneyadvertiser.ie/wp-content/uploads/2022/03/190510_COMMERCIAL_ScottsLowRes_47.jpg
ORGANIZER;CN="Scotts Bar and Courtyard":MAILTO:info@scottshotelkillarney.com
END:VEVENT
BEGIN:VEVENT
DTSTART;TZID=Europe/Dublin:20220505T210000
DTEND;TZID=Europe/Dublin:20220505T233000
DTSTAMP:20260421T162738
CREATED:20220505T141706Z
LAST-MODIFIED:20220505T141706Z
UID:44698-1651784400-1651793400@killarneyadvertiser.ie
SUMMARY:Eddie Keogh
DESCRIPTION:Dancing in the Ballroom with Eddie Keogh \n\n        \n            Attachments\n        The Gleneagle 'Killarney Lake Tours SEM' 1200 x 1200 Logo (1) (158 kB)
URL:https://killarneyadvertiser.ie/whats-on-killarney/eddie-keogh-3/
LOCATION:Gleneagle INEC Arena\, Muckross Road\, Killarney\, V93 V6WF\, Ireland
CATEGORIES:Live Music
ATTACH;FMTTYPE=image/png:https://killarneyadvertiser.ie/wp-content/uploads/2022/03/inec_arena_logo_web.png
ORGANIZER;CN="Gleneagle INEC Arena":MAILTO:info@inec.ie
END:VEVENT
BEGIN:VEVENT
DTSTART;TZID=Europe/Dublin:20220505T190000
DTEND;TZID=Europe/Dublin:20220506T010000
DTSTAMP:20260421T162738
CREATED:20220505T103119Z
LAST-MODIFIED:20220505T103119Z
UID:44673-1651777200-1651798800@killarneyadvertiser.ie
SUMMARY:Brian Murphy
DESCRIPTION:Attachments\n        The Gleneagle 'Killarney Lake Tours SEM' 1200 x 1200 Logo (1) (158 kB)
URL:https://killarneyadvertiser.ie/whats-on-killarney/brian-murphy/
LOCATION:J.M. Reidys\, 4 Main Street\, Killarney\, V93 CC82\, Ireland
CATEGORIES:Live Music
ATTACH;FMTTYPE=image/jpeg:https://killarneyadvertiser.ie/wp-content/uploads/2022/03/JM-Reidy-1.jpeg
ORGANIZER;CN="J.M. Reidys":MAILTO:info@reidyskillarney.com
END:VEVENT
BEGIN:VEVENT
DTSTART;TZID=Europe/Dublin:20220504T213000
DTEND;TZID=Europe/Dublin:20220504T233000
DTSTAMP:20260421T162738
CREATED:20220427T162802Z
LAST-MODIFIED:20220427T162802Z
UID:44554-1651699800-1651707000@killarneyadvertiser.ie
SUMMARY:Michael Collins
DESCRIPTION:Dancing in the Ballroom with Michael Collins \n\n        \n            Attachments\n        The Gleneagle 'Killarney Lake Tours SEM' 1200 x 1200 Logo (1) (158 kB)
URL:https://killarneyadvertiser.ie/whats-on-killarney/michael-collins-2/
LOCATION:Gleneagle INEC Arena\, Muckross Road\, Killarney\, V93 V6WF\, Ireland
CATEGORIES:Live Music
ATTACH;FMTTYPE=image/png:https://killarneyadvertiser.ie/wp-content/uploads/2022/03/inec_arena_logo_web.png
ORGANIZER;CN="Gleneagle INEC Arena":MAILTO:info@inec.ie
END:VEVENT
BEGIN:VEVENT
DTSTART;TZID=Europe/Dublin:20220503T213000
DTEND;TZID=Europe/Dublin:20220503T233000
DTSTAMP:20260421T162738
CREATED:20220427T162708Z
LAST-MODIFIED:20220427T162708Z
UID:44553-1651613400-1651620600@killarneyadvertiser.ie
SUMMARY:Muriel & Fran
DESCRIPTION:Dancing in the Ballroom with Muriel and Fran \n\n        \n            Attachments\n        The Gleneagle 'Killarney Lake Tours SEM' 1200 x 1200 Logo (1) (158 kB)
URL:https://killarneyadvertiser.ie/whats-on-killarney/muriel-fran-2/
LOCATION:Gleneagle INEC Arena\, Muckross Road\, Killarney\, V93 V6WF\, Ireland
CATEGORIES:Live Music
ATTACH;FMTTYPE=image/png:https://killarneyadvertiser.ie/wp-content/uploads/2022/03/inec_arena_logo_web.png
ORGANIZER;CN="Gleneagle INEC Arena":MAILTO:info@inec.ie
END:VEVENT
BEGIN:VEVENT
DTSTART;TZID=Europe/Dublin:20220502T213000
DTEND;TZID=Europe/Dublin:20220502T233000
DTSTAMP:20260421T162738
CREATED:20220427T162522Z
LAST-MODIFIED:20220427T162522Z
UID:44552-1651527000-1651534200@killarneyadvertiser.ie
SUMMARY:Best of Friends
DESCRIPTION:Dancing in the Ballroom with Best of Friends \n\n        \n            Attachments\n        The Gleneagle 'Killarney Lake Tours SEM' 1200 x 1200 Logo (1) (158 kB)
URL:https://killarneyadvertiser.ie/whats-on-killarney/best-of-friends-3/
LOCATION:Gleneagle INEC Arena\, Muckross Road\, Killarney\, V93 V6WF\, Ireland
CATEGORIES:Live Music
ATTACH;FMTTYPE=image/png:https://killarneyadvertiser.ie/wp-content/uploads/2022/03/inec_arena_logo_web.png
ORGANIZER;CN="Gleneagle INEC Arena":MAILTO:info@inec.ie
END:VEVENT
BEGIN:VEVENT
DTSTART;TZID=Europe/Dublin:20220502T210000
DTEND;TZID=Europe/Dublin:20220503T233000
DTSTAMP:20260421T162738
CREATED:20220425T135559Z
LAST-MODIFIED:20220425T135630Z
UID:44489-1651525200-1651620600@killarneyadvertiser.ie
SUMMARY:Live music
DESCRIPTION:Live Music with Jeff Quirke in the Main Bar \n\n        \n            Attachments\n        The Gleneagle 'Killarney Lake Tours SEM' 1200 x 1200 Logo (1) (158 kB)
URL:https://killarneyadvertiser.ie/whats-on-killarney/live-music-28/
LOCATION:Scotts Bar and Courtyard\, Scotts Street\, Killarney\, V93 CF30\, Ireland
CATEGORIES:Live Music
ATTACH;FMTTYPE=image/jpeg:https://killarneyadvertiser.ie/wp-content/uploads/2022/03/190510_COMMERCIAL_ScottsLowRes_47.jpg
ORGANIZER;CN="Scotts Bar and Courtyard":MAILTO:info@scottshotelkillarney.com
END:VEVENT
BEGIN:VEVENT
DTSTART;TZID=Europe/Dublin:20220501T210000
DTEND;TZID=Europe/Dublin:20220502T020000
DTSTAMP:20260421T162738
CREATED:20220429T092748Z
LAST-MODIFIED:20220429T092748Z
UID:44598-1651438800-1651456800@killarneyadvertiser.ie
SUMMARY:Live music
DESCRIPTION:Attachments\n        The Gleneagle 'Killarney Lake Tours SEM' 1200 x 1200 Logo (1) (158 kB)
URL:https://killarneyadvertiser.ie/whats-on-killarney/live-music-36/
LOCATION:McSorleys Bar & Nightclub
CATEGORIES:Live Music
ATTACH;FMTTYPE=image/png:https://killarneyadvertiser.ie/wp-content/uploads/2022/04/mcsorleys.png
END:VEVENT
BEGIN:VEVENT
DTSTART;TZID=Europe/Dublin:20220501T210000
DTEND;TZID=Europe/Dublin:20220502T020000
DTSTAMP:20260421T162738
CREATED:20220429T091729Z
LAST-MODIFIED:20220429T091729Z
UID:44592-1651438800-1651456800@killarneyadvertiser.ie
SUMMARY:Live music
DESCRIPTION:Live music with exciting acts on each evening. \n\n        \n            Attachments\n        The Gleneagle 'Killarney Lake Tours SEM' 1200 x 1200 Logo (1) (158 kB)
URL:https://killarneyadvertiser.ie/whats-on-killarney/live-music-32/
LOCATION:Social15\, 15 Main Street\, Killarney\, V93 P46Y\, Ireland
CATEGORIES:Live Music
ATTACH;FMTTYPE=image/png:https://killarneyadvertiser.ie/wp-content/uploads/2022/03/social_15_logo_web.png
ORGANIZER;CN="Social15":MAILTO:info@social15.ie
END:VEVENT
BEGIN:VEVENT
DTSTART;TZID=Europe/Dublin:20220501T210000
DTEND;TZID=Europe/Dublin:20220502T000000
DTSTAMP:20260421T162738
CREATED:20220425T135507Z
LAST-MODIFIED:20220425T135507Z
UID:44488-1651438800-1651449600@killarneyadvertiser.ie
SUMMARY:Live music
DESCRIPTION:Live music with Brightside in the Courtyard and Ivan Ryan in the Main Bar \n\n        \n            Attachments\n        The Gleneagle 'Killarney Lake Tours SEM' 1200 x 1200 Logo (1) (158 kB)
URL:https://killarneyadvertiser.ie/whats-on-killarney/live-music-27/
LOCATION:Scotts Bar and Courtyard\, Scotts Street\, Killarney\, V93 CF30\, Ireland
CATEGORIES:Live Music
ATTACH;FMTTYPE=image/jpeg:https://killarneyadvertiser.ie/wp-content/uploads/2022/03/190510_COMMERCIAL_ScottsLowRes_47.jpg
ORGANIZER;CN="Scotts Bar and Courtyard":MAILTO:info@scottshotelkillarney.com
END:VEVENT
BEGIN:VEVENT
DTSTART;TZID=Europe/Dublin:20220501T210000
DTEND;TZID=Europe/Dublin:20220501T230000
DTSTAMP:20260421T162738
CREATED:20220427T162322Z
LAST-MODIFIED:20220427T162322Z
UID:44551-1651438800-1651446000@killarneyadvertiser.ie
SUMMARY:Free Fall Band
DESCRIPTION:Live music with Free Fall Band in the Backstage Bar \n\n        \n            Attachments\n        The Gleneagle 'Killarney Lake Tours SEM' 1200 x 1200 Logo (1) (158 kB)
URL:https://killarneyadvertiser.ie/whats-on-killarney/free-fall-band/
LOCATION:Gleneagle INEC Arena\, Muckross Road\, Killarney\, V93 V6WF\, Ireland
CATEGORIES:Live Music
ATTACH;FMTTYPE=image/png:https://killarneyadvertiser.ie/wp-content/uploads/2022/03/inec_arena_logo_web.png
ORGANIZER;CN="Gleneagle INEC Arena":MAILTO:info@inec.ie
END:VEVENT
BEGIN:VEVENT
DTSTART;TZID=Europe/Dublin:20220501T203000
DTEND;TZID=Europe/Dublin:20220502T020000
DTSTAMP:20260421T162738
CREATED:20220429T091916Z
LAST-MODIFIED:20220429T091916Z
UID:44594-1651437000-1651456800@killarneyadvertiser.ie
SUMMARY:Night Club
DESCRIPTION:Attachments\n        The Gleneagle 'Killarney Lake Tours SEM' 1200 x 1200 Logo (1) (158 kB)
URL:https://killarneyadvertiser.ie/whats-on-killarney/night-club-5/
LOCATION:Social15\, 15 Main Street\, Killarney\, V93 P46Y\, Ireland
CATEGORIES:Live Music
ATTACH;FMTTYPE=image/png:https://killarneyadvertiser.ie/wp-content/uploads/2022/03/social_15_logo_web.png
ORGANIZER;CN="Social15":MAILTO:info@social15.ie
END:VEVENT
BEGIN:VEVENT
DTSTART;TZID=Europe/Dublin:20220430T230000
DTEND;TZID=Europe/Dublin:20220501T010000
DTSTAMP:20260421T162738
CREATED:20220427T162104Z
LAST-MODIFIED:20220427T162104Z
UID:44549-1651359600-1651366800@killarneyadvertiser.ie
SUMMARY:Late night Piano Bar with John McGann
DESCRIPTION:Late night Piano Bar with John McGann in the Gleneagle Ballroom \n\n        \n            Attachments\n        The Gleneagle 'Killarney Lake Tours SEM' 1200 x 1200 Logo (1) (158 kB)
URL:https://killarneyadvertiser.ie/whats-on-killarney/late-night-piano-bar-with-john-mcgann-3/
LOCATION:Gleneagle INEC Arena\, Muckross Road\, Killarney\, V93 V6WF\, Ireland
CATEGORIES:Live Music
ATTACH;FMTTYPE=image/png:https://killarneyadvertiser.ie/wp-content/uploads/2022/03/inec_arena_logo_web.png
ORGANIZER;CN="Gleneagle INEC Arena":MAILTO:info@inec.ie
END:VEVENT
BEGIN:VEVENT
DTSTART;TZID=Europe/Dublin:20220430T220000
DTEND;TZID=Europe/Dublin:20220501T000000
DTSTAMP:20260421T162738
CREATED:20220427T161901Z
LAST-MODIFIED:20220427T161901Z
UID:44548-1651356000-1651363200@killarneyadvertiser.ie
SUMMARY:Renovator
DESCRIPTION:Live music with Renovator in the Backstage Bar \n\n        \n            Attachments\n        The Gleneagle 'Killarney Lake Tours SEM' 1200 x 1200 Logo (1) (158 kB)
URL:https://killarneyadvertiser.ie/whats-on-killarney/renovator/
LOCATION:Gleneagle INEC Arena\, Muckross Road\, Killarney\, V93 V6WF\, Ireland
CATEGORIES:Live Music
ATTACH;FMTTYPE=image/png:https://killarneyadvertiser.ie/wp-content/uploads/2022/03/inec_arena_logo_web.png
ORGANIZER;CN="Gleneagle INEC Arena":MAILTO:info@inec.ie
END:VEVENT
BEGIN:VEVENT
DTSTART;TZID=Europe/Dublin:20220430T210000
DTEND;TZID=Europe/Dublin:20220501T000000
DTSTAMP:20260421T162738
CREATED:20220425T135227Z
LAST-MODIFIED:20220425T135227Z
UID:44487-1651352400-1651363200@killarneyadvertiser.ie
SUMMARY:Live music
DESCRIPTION:Live music with Zedz Dead in the Courtyard and Sharon Langston Trad Band in the main bar \n\n        \n            Attachments\n        The Gleneagle 'Killarney Lake Tours SEM' 1200 x 1200 Logo (1) (158 kB)
URL:https://killarneyadvertiser.ie/whats-on-killarney/live-music-26/
LOCATION:Scotts Bar and Courtyard\, Scotts Street\, Killarney\, V93 CF30\, Ireland
CATEGORIES:Live Music
ATTACH;FMTTYPE=image/jpeg:https://killarneyadvertiser.ie/wp-content/uploads/2022/03/190510_COMMERCIAL_ScottsLowRes_47.jpg
ORGANIZER;CN="Scotts Bar and Courtyard":MAILTO:info@scottshotelkillarney.com
END:VEVENT
BEGIN:VEVENT
DTSTART;TZID=Europe/Dublin:20220430T210000
DTEND;TZID=Europe/Dublin:20220430T230000
DTSTAMP:20260421T162738
CREATED:20220427T162225Z
LAST-MODIFIED:20220427T162233Z
UID:44550-1651352400-1651359600@killarneyadvertiser.ie
SUMMARY:Shane Codd
DESCRIPTION:Irish Dj and producer Shane Codd on his first Irish headline tour comes to the INEC Club \n\n        \n            Attachments\n        The Gleneagle 'Killarney Lake Tours SEM' 1200 x 1200 Logo (1) (158 kB)
URL:https://killarneyadvertiser.ie/whats-on-killarney/shane-codd/
LOCATION:Gleneagle INEC Arena\, Muckross Road\, Killarney\, V93 V6WF\, Ireland
CATEGORIES:Live Music
ATTACH;FMTTYPE=image/png:https://killarneyadvertiser.ie/wp-content/uploads/2022/03/inec_arena_logo_web.png
ORGANIZER;CN="Gleneagle INEC Arena":MAILTO:info@inec.ie
END:VEVENT
BEGIN:VEVENT
DTSTART;TZID=Europe/Dublin:20220430T203000
DTEND;TZID=Europe/Dublin:20220501T020000
DTSTAMP:20260421T162738
CREATED:20220429T092641Z
LAST-MODIFIED:20220429T092641Z
UID:44597-1651350600-1651370400@killarneyadvertiser.ie
SUMMARY:Live music
DESCRIPTION:Attachments\n        The Gleneagle 'Killarney Lake Tours SEM' 1200 x 1200 Logo (1) (158 kB)
URL:https://killarneyadvertiser.ie/whats-on-killarney/live-music-35/
LOCATION:McSorleys Bar & Nightclub
CATEGORIES:Live Music
ATTACH;FMTTYPE=image/png:https://killarneyadvertiser.ie/wp-content/uploads/2022/04/mcsorleys.png
END:VEVENT
BEGIN:VEVENT
DTSTART;TZID=Europe/Dublin:20220430T203000
DTEND;TZID=Europe/Dublin:20220501T020000
DTSTAMP:20260421T162738
CREATED:20220429T091832Z
LAST-MODIFIED:20220429T091832Z
UID:44593-1651350600-1651370400@killarneyadvertiser.ie
SUMMARY:Night Club
DESCRIPTION:Attachments\n        The Gleneagle 'Killarney Lake Tours SEM' 1200 x 1200 Logo (1) (158 kB)
URL:https://killarneyadvertiser.ie/whats-on-killarney/night-club-4/
LOCATION:Social15\, 15 Main Street\, Killarney\, V93 P46Y\, Ireland
CATEGORIES:Live Music
ATTACH;FMTTYPE=image/png:https://killarneyadvertiser.ie/wp-content/uploads/2022/03/social_15_logo_web.png
ORGANIZER;CN="Social15":MAILTO:info@social15.ie
END:VEVENT
BEGIN:VEVENT
DTSTART;TZID=Europe/Dublin:20220430T203000
DTEND;TZID=Europe/Dublin:20220501T020000
DTSTAMP:20260421T162738
CREATED:20220429T090734Z
LAST-MODIFIED:20220429T090734Z
UID:44591-1651350600-1651370400@killarneyadvertiser.ie
SUMMARY:Live music
DESCRIPTION:Live music with exciting acts on each evening. \n\n        \n            Attachments\n        The Gleneagle 'Killarney Lake Tours SEM' 1200 x 1200 Logo (1) (158 kB)
URL:https://killarneyadvertiser.ie/whats-on-killarney/live-music-31/
LOCATION:Social15\, 15 Main Street\, Killarney\, V93 P46Y\, Ireland
CATEGORIES:Live Music
ATTACH;FMTTYPE=image/png:https://killarneyadvertiser.ie/wp-content/uploads/2022/03/social_15_logo_web.png
ORGANIZER;CN="Social15":MAILTO:info@social15.ie
END:VEVENT
BEGIN:VEVENT
DTSTART;TZID=Europe/Dublin:20220429T230000
DTEND;TZID=Europe/Dublin:20220430T010000
DTSTAMP:20260421T162738
CREATED:20220427T161808Z
LAST-MODIFIED:20220427T161808Z
UID:44547-1651273200-1651280400@killarneyadvertiser.ie
SUMMARY:Late night Piano Bar with John McGann
DESCRIPTION:Late night Piano Bar with John McGann in the Gleneagle Ballroom \n\n        \n            Attachments\n        The Gleneagle 'Killarney Lake Tours SEM' 1200 x 1200 Logo (1) (158 kB)
URL:https://killarneyadvertiser.ie/whats-on-killarney/late-night-piano-bar-with-john-mcgann-2/
LOCATION:Gleneagle INEC Arena\, Muckross Road\, Killarney\, V93 V6WF\, Ireland
CATEGORIES:Live Music
ATTACH;FMTTYPE=image/png:https://killarneyadvertiser.ie/wp-content/uploads/2022/03/inec_arena_logo_web.png
ORGANIZER;CN="Gleneagle INEC Arena":MAILTO:info@inec.ie
END:VEVENT
BEGIN:VEVENT
DTSTART;TZID=Europe/Dublin:20220429T220000
DTEND;TZID=Europe/Dublin:20220430T003000
DTSTAMP:20260421T162738
CREATED:20220421T091701Z
LAST-MODIFIED:20220421T091701Z
UID:44369-1651269600-1651278600@killarneyadvertiser.ie
SUMMARY:Hell For Leather
DESCRIPTION:Hell for Leather in the Backstage Bar \n\n        \n            Attachments\n        The Gleneagle 'Killarney Lake Tours SEM' 1200 x 1200 Logo (1) (158 kB)
URL:https://killarneyadvertiser.ie/whats-on-killarney/hell-for-leather/
LOCATION:Gleneagle INEC Arena\, Muckross Road\, Killarney\, V93 V6WF\, Ireland
CATEGORIES:Live Music
ATTACH;FMTTYPE=image/png:https://killarneyadvertiser.ie/wp-content/uploads/2022/03/inec_arena_logo_web.png
ORGANIZER;CN="Gleneagle INEC Arena":MAILTO:info@inec.ie
END:VEVENT
BEGIN:VEVENT
DTSTART;TZID=Europe/Dublin:20220429T220000
DTEND;TZID=Europe/Dublin:20220430T000000
DTSTAMP:20260421T162738
CREATED:20220427T161706Z
LAST-MODIFIED:20220427T161706Z
UID:44546-1651269600-1651276800@killarneyadvertiser.ie
SUMMARY:Hell for Leather
DESCRIPTION:Live music with Hell for Leather in the Backstage Bar \n\n        \n            Attachments\n        The Gleneagle 'Killarney Lake Tours SEM' 1200 x 1200 Logo (1) (158 kB)
URL:https://killarneyadvertiser.ie/whats-on-killarney/hell-for-leather-2/
LOCATION:Gleneagle INEC Arena\, Muckross Road\, Killarney\, V93 V6WF\, Ireland
CATEGORIES:Live Music
ATTACH;FMTTYPE=image/png:https://killarneyadvertiser.ie/wp-content/uploads/2022/03/inec_arena_logo_web.png
ORGANIZER;CN="Gleneagle INEC Arena":MAILTO:info@inec.ie
END:VEVENT
END:VCALENDAR