BEGIN:VCALENDAR
VERSION:2.0
PRODID:-//Killarney Advertiser - ECPv6.8.2.1//NONSGML v1.0//EN
CALSCALE:GREGORIAN
METHOD:PUBLISH
X-WR-CALNAME:Killarney Advertiser
X-ORIGINAL-URL:https://killarneyadvertiser.ie
X-WR-CALDESC:Events for Killarney Advertiser
REFRESH-INTERVAL;VALUE=DURATION:PT1H
X-Robots-Tag:noindex
X-PUBLISHED-TTL:PT1H
BEGIN:VTIMEZONE
TZID:Europe/Dublin
BEGIN:STANDARD
TZOFFSETFROM:+0000
TZOFFSETTO:+0100
TZNAME:IST
DTSTART:20220327T010000
END:STANDARD
BEGIN:DAYLIGHT
TZOFFSETFROM:+0100
TZOFFSETTO:+0000
TZNAME:GMT
DTSTART:20221030T010000
END:DAYLIGHT
END:VTIMEZONE
BEGIN:VEVENT
DTSTART;TZID=Europe/Dublin:20220423T230000
DTEND;TZID=Europe/Dublin:20220424T010000
DTSTAMP:20260421T161637
CREATED:20220421T083945Z
LAST-MODIFIED:20220421T083945Z
UID:44358-1650754800-1650762000@killarneyadvertiser.ie
SUMMARY:Piano Bar with John McGann
DESCRIPTION:Late night music in the Gleneagle Ballroom with John McGann \n\n        \n            Attachments\n        Pillow Queens Web Images 440 x 300 (836 kB)
URL:https://killarneyadvertiser.ie/whats-on-killarney/piano-bar-with-john-mcgann-4/
LOCATION:Gleneagle INEC Arena\, Muckross Road\, Killarney\, V93 V6WF\, Ireland
CATEGORIES:Live Music
ATTACH;FMTTYPE=image/png:https://killarneyadvertiser.ie/wp-content/uploads/2022/03/inec_arena_logo_web.png
ORGANIZER;CN="Gleneagle INEC Arena":MAILTO:info@inec.ie
END:VEVENT
BEGIN:VEVENT
DTSTART;TZID=Europe/Dublin:20220423T220000
DTEND;TZID=Europe/Dublin:20220424T020000
DTSTAMP:20260421T161638
CREATED:20220420T163422Z
LAST-MODIFIED:20220420T163422Z
UID:44354-1650751200-1650765600@killarneyadvertiser.ie
SUMMARY:Night Club
DESCRIPTION:Attachments\n        Pillow Queens Web Images 440 x 300 (836 kB)
URL:https://killarneyadvertiser.ie/whats-on-killarney/night-club-3/
LOCATION:Social15\, 15 Main Street\, Killarney\, V93 P46Y\, Ireland
CATEGORIES:Live Music
ATTACH;FMTTYPE=image/png:https://killarneyadvertiser.ie/wp-content/uploads/2022/03/social_15_logo_web.png
ORGANIZER;CN="Social15":MAILTO:info@social15.ie
END:VEVENT
BEGIN:VEVENT
DTSTART;TZID=Europe/Dublin:20220423T210000
DTEND;TZID=Europe/Dublin:20220423T230000
DTSTAMP:20260421T161638
CREATED:20220420T093234Z
LAST-MODIFIED:20220420T093234Z
UID:44340-1650747600-1650754800@killarneyadvertiser.ie
SUMMARY:Live Music
DESCRIPTION:Live music with Zedz Dead in the Courtyard and Sharon Langston trad band in the main bar \n\n        \n            Attachments\n        Pillow Queens Web Images 440 x 300 (836 kB)
URL:https://killarneyadvertiser.ie/whats-on-killarney/live-music-20/
LOCATION:Scotts Bar and Courtyard\, Scotts Street\, Killarney\, V93 CF30\, Ireland
CATEGORIES:Live Music
ATTACH;FMTTYPE=image/jpeg:https://killarneyadvertiser.ie/wp-content/uploads/2022/03/190510_COMMERCIAL_ScottsLowRes_47.jpg
ORGANIZER;CN="Scotts Bar and Courtyard":MAILTO:info@scottshotelkillarney.com
END:VEVENT
BEGIN:VEVENT
DTSTART;TZID=Europe/Dublin:20220423T190000
DTEND;TZID=Europe/Dublin:20220423T200000
DTSTAMP:20260421T161638
CREATED:20220421T083836Z
LAST-MODIFIED:20220421T083836Z
UID:44357-1650740400-1650744000@killarneyadvertiser.ie
SUMMARY:Christy Moore
DESCRIPTION:Christy Moore Plays the Gleneagle INEC Arena \n\n        \n            Attachments\n        Pillow Queens Web Images 440 x 300 (836 kB)
URL:https://killarneyadvertiser.ie/whats-on-killarney/christy-moore/
LOCATION:Gleneagle INEC Arena\, Muckross Road\, Killarney\, V93 V6WF\, Ireland
CATEGORIES:Live Music,Concert
ATTACH;FMTTYPE=image/png:https://killarneyadvertiser.ie/wp-content/uploads/2022/03/inec_arena_logo_web.png
ORGANIZER;CN="Gleneagle INEC Arena":MAILTO:info@inec.ie
END:VEVENT
BEGIN:VEVENT
DTSTART;TZID=Europe/Dublin:20220423T180000
DTEND;TZID=Europe/Dublin:20220424T020000
DTSTAMP:20260421T161638
CREATED:20220420T163212Z
LAST-MODIFIED:20220420T163212Z
UID:44352-1650736800-1650765600@killarneyadvertiser.ie
SUMMARY:Marty Guilfoyle
DESCRIPTION: Live music with exciting acts on each evening including Marty Guilfoyle \n\n        \n            Attachments\n        Pillow Queens Web Images 440 x 300 (836 kB)
URL:https://killarneyadvertiser.ie/whats-on-killarney/marty-guilfoyle/
LOCATION:Social15\, 15 Main Street\, Killarney\, V93 P46Y\, Ireland
CATEGORIES:Live Music
ATTACH;FMTTYPE=image/png:https://killarneyadvertiser.ie/wp-content/uploads/2022/03/social_15_logo_web.png
ORGANIZER;CN="Social15":MAILTO:info@social15.ie
END:VEVENT
BEGIN:VEVENT
DTSTART;TZID=Europe/Dublin:20220423T180000
DTEND;TZID=Europe/Dublin:20220423T233000
DTSTAMP:20260421T161638
CREATED:20220420T114254Z
LAST-MODIFIED:20220420T114257Z
UID:44347-1650736800-1650756600@killarneyadvertiser.ie
SUMMARY:Liam O'Connor
DESCRIPTION:Live music in the courtyard \n\n        \n            Attachments\n        Pillow Queens Web Images 440 x 300 (836 kB)
URL:https://killarneyadvertiser.ie/whats-on-killarney/liam-oconnor-5/
LOCATION:J.M. Reidys\, 4 Main Street\, Killarney\, V93 CC82\, Ireland
CATEGORIES:Live Music
ATTACH;FMTTYPE=image/jpeg:https://killarneyadvertiser.ie/wp-content/uploads/2022/03/JM-Reidy-1.jpeg
ORGANIZER;CN="J.M. Reidys":MAILTO:info@reidyskillarney.com
END:VEVENT
BEGIN:VEVENT
DTSTART;TZID=Europe/Dublin:20220423T180000
DTEND;TZID=Europe/Dublin:20220423T233000
DTSTAMP:20260421T161638
CREATED:20220420T114206Z
LAST-MODIFIED:20220420T114206Z
UID:44346-1650736800-1650756600@killarneyadvertiser.ie
SUMMARY:Pat Hayes
DESCRIPTION:Live music in the cafe area \n\n        \n            Attachments\n        Pillow Queens Web Images 440 x 300 (836 kB)
URL:https://killarneyadvertiser.ie/whats-on-killarney/pat-hayes-5/
LOCATION:J.M. Reidys\, 4 Main Street\, Killarney\, V93 CC82\, Ireland
CATEGORIES:Live Music
ATTACH;FMTTYPE=image/jpeg:https://killarneyadvertiser.ie/wp-content/uploads/2022/03/JM-Reidy-1.jpeg
ORGANIZER;CN="J.M. Reidys":MAILTO:info@reidyskillarney.com
END:VEVENT
BEGIN:VEVENT
DTSTART;TZID=Europe/Dublin:20220422T230000
DTEND;TZID=Europe/Dublin:20220423T010000
DTSTAMP:20260421T161638
CREATED:20220421T091957Z
LAST-MODIFIED:20220421T091957Z
UID:44370-1650668400-1650675600@killarneyadvertiser.ie
SUMMARY:Piano Bar with John McGann
DESCRIPTION:Late night music in the Gleneagle Ballroom with John McGann \n\n        \n            Attachments\n        Pillow Queens Web Images 440 x 300 (836 kB)
URL:https://killarneyadvertiser.ie/whats-on-killarney/piano-bar-with-john-mcgann-5/
LOCATION:Gleneagle INEC Arena\, Muckross Road\, Killarney\, V93 V6WF\, Ireland
CATEGORIES:Live Music
ATTACH;FMTTYPE=image/png:https://killarneyadvertiser.ie/wp-content/uploads/2022/03/inec_arena_logo_web.png
ORGANIZER;CN="Gleneagle INEC Arena":MAILTO:info@inec.ie
END:VEVENT
BEGIN:VEVENT
DTSTART;TZID=Europe/Dublin:20220422T210000
DTEND;TZID=Europe/Dublin:20220422T230000
DTSTAMP:20260421T161638
CREATED:20220420T093131Z
LAST-MODIFIED:20220420T093131Z
UID:44339-1650661200-1650668400@killarneyadvertiser.ie
SUMMARY:Live Music
DESCRIPTION:Live music with Jeff Quirke in the Main Bar and Alan Flynn in the Courtyard \n\n        \n            Attachments\n        Pillow Queens Web Images 440 x 300 (836 kB)
URL:https://killarneyadvertiser.ie/whats-on-killarney/live-music-19/
LOCATION:Scotts Bar and Courtyard\, Scotts Street\, Killarney\, V93 CF30\, Ireland
CATEGORIES:Live Music
ATTACH;FMTTYPE=image/jpeg:https://killarneyadvertiser.ie/wp-content/uploads/2022/03/190510_COMMERCIAL_ScottsLowRes_47.jpg
ORGANIZER;CN="Scotts Bar and Courtyard":MAILTO:info@scottshotelkillarney.com
END:VEVENT
BEGIN:VEVENT
DTSTART;TZID=Europe/Dublin:20220422T203000
DTEND;TZID=Europe/Dublin:20220422T223000
DTSTAMP:20260421T161638
CREATED:20220414T085307Z
LAST-MODIFIED:20220421T092225Z
UID:44206-1650659400-1650666600@killarneyadvertiser.ie
SUMMARY:Englebert Humperdinck
DESCRIPTION:Engelbert Humperdinck performs all the hits in the Gleneagle INEC Arena \n\n        \n            Attachments\n        Pillow Queens Web Images 440 x 300 (836 kB)
URL:https://killarneyadvertiser.ie/whats-on-killarney/englebert-humperdinck/
LOCATION:Gleneagle INEC Arena\, Muckross Road\, Killarney\, V93 V6WF\, Ireland
CATEGORIES:Live Music
ATTACH;FMTTYPE=image/png:https://killarneyadvertiser.ie/wp-content/uploads/2022/03/inec_arena_logo_web.png
ORGANIZER;CN="Gleneagle INEC Arena":MAILTO:info@inec.ie
END:VEVENT
BEGIN:VEVENT
DTSTART;TZID=Europe/Dublin:20220422T180000
DTEND;TZID=Europe/Dublin:20220423T020000
DTSTAMP:20260421T161638
CREATED:20220420T162958Z
LAST-MODIFIED:20220420T162958Z
UID:44351-1650650400-1650679200@killarneyadvertiser.ie
SUMMARY:Live Music
DESCRIPTION:Live music with exciting acts on each evening. \n\n        \n            Attachments\n        Pillow Queens Web Images 440 x 300 (836 kB)
URL:https://killarneyadvertiser.ie/whats-on-killarney/live-music-22/
LOCATION:Social15\, 15 Main Street\, Killarney\, V93 P46Y\, Ireland
CATEGORIES:Live Music
ATTACH;FMTTYPE=image/png:https://killarneyadvertiser.ie/wp-content/uploads/2022/03/social_15_logo_web.png
ORGANIZER;CN="Social15":MAILTO:info@social15.ie
END:VEVENT
BEGIN:VEVENT
DTSTART;TZID=Europe/Dublin:20220422T180000
DTEND;TZID=Europe/Dublin:20220422T233000
DTSTAMP:20260421T161638
CREATED:20220420T114114Z
LAST-MODIFIED:20220420T114114Z
UID:44345-1650650400-1650670200@killarneyadvertiser.ie
SUMMARY:Pat Hayes
DESCRIPTION:Live Music in the courtyard \n\n        \n            Attachments\n        Pillow Queens Web Images 440 x 300 (836 kB)
URL:https://killarneyadvertiser.ie/whats-on-killarney/pat-hayes-4/
LOCATION:J.M. Reidys\, 4 Main Street\, Killarney\, V93 CC82\, Ireland
CATEGORIES:Live Music
ATTACH;FMTTYPE=image/jpeg:https://killarneyadvertiser.ie/wp-content/uploads/2022/03/JM-Reidy-1.jpeg
ORGANIZER;CN="J.M. Reidys":MAILTO:info@reidyskillarney.com
END:VEVENT
BEGIN:VEVENT
DTSTART;TZID=Europe/Dublin:20220422T180000
DTEND;TZID=Europe/Dublin:20220422T233000
DTSTAMP:20260421T161638
CREATED:20220420T114017Z
LAST-MODIFIED:20220420T114017Z
UID:44344-1650650400-1650670200@killarneyadvertiser.ie
SUMMARY:Aidan Moynihan
DESCRIPTION:Live music in Cafe Area \n\n        \n            Attachments\n        Pillow Queens Web Images 440 x 300 (836 kB)
URL:https://killarneyadvertiser.ie/whats-on-killarney/aidan-moynihan-14/
LOCATION:J.M. Reidys\, 4 Main Street\, Killarney\, V93 CC82\, Ireland
CATEGORIES:Live Music
ATTACH;FMTTYPE=image/jpeg:https://killarneyadvertiser.ie/wp-content/uploads/2022/03/JM-Reidy-1.jpeg
ORGANIZER;CN="J.M. Reidys":MAILTO:info@reidyskillarney.com
END:VEVENT
BEGIN:VEVENT
DTSTART;TZID=Europe/Dublin:20220421T210000
DTEND;TZID=Europe/Dublin:20220421T230000
DTSTAMP:20260421T161638
CREATED:20220420T093027Z
LAST-MODIFIED:20220420T093027Z
UID:44338-1650574800-1650582000@killarneyadvertiser.ie
SUMMARY:Live Music
DESCRIPTION:Live music with Ivan Ryan in the Main Bar \n\n        \n            Attachments\n        Pillow Queens Web Images 440 x 300 (836 kB)
URL:https://killarneyadvertiser.ie/whats-on-killarney/live-music-18/
LOCATION:Scotts Bar and Courtyard\, Scotts Street\, Killarney\, V93 CF30\, Ireland
CATEGORIES:Live Music
ATTACH;FMTTYPE=image/jpeg:https://killarneyadvertiser.ie/wp-content/uploads/2022/03/190510_COMMERCIAL_ScottsLowRes_47.jpg
ORGANIZER;CN="Scotts Bar and Courtyard":MAILTO:info@scottshotelkillarney.com
END:VEVENT
BEGIN:VEVENT
DTSTART;TZID=Europe/Dublin:20220421T210000
DTEND;TZID=Europe/Dublin:20220421T230000
DTSTAMP:20260421T161638
CREATED:20220414T085032Z
LAST-MODIFIED:20220414T085032Z
UID:44204-1650574800-1650582000@killarneyadvertiser.ie
SUMMARY:Best of Friends
DESCRIPTION:Live music with Best of Friends in the Gleneagle Ballroom \n\n        \n            Attachments\n        Pillow Queens Web Images 440 x 300 (836 kB)
URL:https://killarneyadvertiser.ie/whats-on-killarney/best-of-friends-2/
LOCATION:Gleneagle INEC Arena\, Muckross Road\, Killarney\, V93 V6WF\, Ireland
CATEGORIES:Live Music
ATTACH;FMTTYPE=image/png:https://killarneyadvertiser.ie/wp-content/uploads/2022/03/inec_arena_logo_web.png
ORGANIZER;CN="Gleneagle INEC Arena":MAILTO:info@inec.ie
END:VEVENT
BEGIN:VEVENT
DTSTART;TZID=Europe/Dublin:20220421T200000
DTEND;TZID=Europe/Dublin:20220421T213000
DTSTAMP:20260421T161638
CREATED:20220414T085138Z
LAST-MODIFIED:20220414T085138Z
UID:44205-1650571200-1650576600@killarneyadvertiser.ie
SUMMARY:Charolais - A Play by Noni Stapleton
DESCRIPTION:A surreal\, black comedy of love\, longing and one woman’s intense rivalry with a Charolais heifer. Set on a farm in rural Ireland\, Siobhan is forced to share the affections of her farmer boyfriend with the other women in his life – a sneering mother-in-law figure\, and a sexy French cow. This is a muddy place of simmering desire\, mixing the challenges of farming life and the joy of sex. \n\n        \n            Attachments\n        Pillow Queens Web Images 440 x 300 (836 kB)
URL:https://killarneyadvertiser.ie/whats-on-killarney/charolais-a-play-by-noni-stapleton/
LOCATION:Gleneagle INEC Arena\, Muckross Road\, Killarney\, V93 V6WF\, Ireland
CATEGORIES:Arts
ATTACH;FMTTYPE=image/png:https://killarneyadvertiser.ie/wp-content/uploads/2022/03/inec_arena_logo_web.png
ORGANIZER;CN="Gleneagle INEC Arena":MAILTO:info@inec.ie
END:VEVENT
BEGIN:VEVENT
DTSTART;TZID=Europe/Dublin:20220421T180000
DTEND;TZID=Europe/Dublin:20220422T020000
DTSTAMP:20260421T161638
CREATED:20220420T163315Z
LAST-MODIFIED:20220420T163315Z
UID:44353-1650564000-1650592800@killarneyadvertiser.ie
SUMMARY:Live music
DESCRIPTION: Live music with exciting acts on each evening \n\n        \n            Attachments\n        Pillow Queens Web Images 440 x 300 (836 kB)
URL:https://killarneyadvertiser.ie/whats-on-killarney/live-music-23/
LOCATION:Social15\, 15 Main Street\, Killarney\, V93 P46Y\, Ireland
CATEGORIES:Live Music
ATTACH;FMTTYPE=image/png:https://killarneyadvertiser.ie/wp-content/uploads/2022/03/social_15_logo_web.png
ORGANIZER;CN="Social15":MAILTO:info@social15.ie
END:VEVENT
BEGIN:VEVENT
DTSTART;TZID=Europe/Dublin:20220421T180000
DTEND;TZID=Europe/Dublin:20220421T233000
DTSTAMP:20260421T161638
CREATED:20220420T113920Z
LAST-MODIFIED:20220420T113920Z
UID:44343-1650564000-1650583800@killarneyadvertiser.ie
SUMMARY:Aidan Moynihan
DESCRIPTION:Attachments\n        Pillow Queens Web Images 440 x 300 (836 kB)
URL:https://killarneyadvertiser.ie/whats-on-killarney/aidan-moynihan-13/
LOCATION:J.M. Reidys\, 4 Main Street\, Killarney\, V93 CC82\, Ireland
CATEGORIES:Live Music
ATTACH;FMTTYPE=image/jpeg:https://killarneyadvertiser.ie/wp-content/uploads/2022/03/JM-Reidy-1.jpeg
ORGANIZER;CN="J.M. Reidys":MAILTO:info@reidyskillarney.com
END:VEVENT
BEGIN:VEVENT
DTSTART;TZID=Europe/Dublin:20220420T223000
DTEND;TZID=Europe/Dublin:20220421T000000
DTSTAMP:20260421T161638
CREATED:20220414T084929Z
LAST-MODIFIED:20220414T084929Z
UID:44203-1650493800-1650499200@killarneyadvertiser.ie
SUMMARY:Reel Brothers
DESCRIPTION:Live music with Reel Brothers in the Backstage Bar \n\n        \n            Attachments\n        Pillow Queens Web Images 440 x 300 (836 kB)
URL:https://killarneyadvertiser.ie/whats-on-killarney/reel-brothers/
LOCATION:Gleneagle INEC Arena\, Muckross Road\, Killarney\, V93 V6WF\, Ireland
CATEGORIES:Live Music
ATTACH;FMTTYPE=image/png:https://killarneyadvertiser.ie/wp-content/uploads/2022/03/inec_arena_logo_web.png
ORGANIZER;CN="Gleneagle INEC Arena":MAILTO:info@inec.ie
END:VEVENT
BEGIN:VEVENT
DTSTART;TZID=Europe/Dublin:20220420T180000
DTEND;TZID=Europe/Dublin:20220420T233000
DTSTAMP:20260421T161638
CREATED:20220420T113819Z
LAST-MODIFIED:20220420T113819Z
UID:44342-1650477600-1650497400@killarneyadvertiser.ie
SUMMARY:Darren Griffen
DESCRIPTION:Attachments\n        Pillow Queens Web Images 440 x 300 (836 kB)
URL:https://killarneyadvertiser.ie/whats-on-killarney/darren-griffen-3/
LOCATION:J.M. Reidys\, 4 Main Street\, Killarney\, V93 CC82\, Ireland
CATEGORIES:Live Music
ATTACH;FMTTYPE=image/jpeg:https://killarneyadvertiser.ie/wp-content/uploads/2022/03/JM-Reidy-1.jpeg
ORGANIZER;CN="J.M. Reidys":MAILTO:info@reidyskillarney.com
END:VEVENT
BEGIN:VEVENT
DTSTART;TZID=Europe/Dublin:20220419T210000
DTEND;TZID=Europe/Dublin:20220420T000000
DTSTAMP:20260421T161638
CREATED:20220414T084605Z
LAST-MODIFIED:20220414T084605Z
UID:44201-1650402000-1650412800@killarneyadvertiser.ie
SUMMARY:Muriel & Fran
DESCRIPTION:Music with Muriel and Fran in the Gleneagle Ballroom \n\n        \n            Attachments\n        Pillow Queens Web Images 440 x 300 (836 kB)
URL:https://killarneyadvertiser.ie/whats-on-killarney/muriel-fran/
LOCATION:Gleneagle INEC Arena\, Muckross Road\, Killarney\, V93 V6WF\, Ireland
CATEGORIES:Live Music
ATTACH;FMTTYPE=image/png:https://killarneyadvertiser.ie/wp-content/uploads/2022/03/inec_arena_logo_web.png
ORGANIZER;CN="Gleneagle INEC Arena":MAILTO:info@inec.ie
END:VEVENT
BEGIN:VEVENT
DTSTART;TZID=Europe/Dublin:20220419T180000
DTEND;TZID=Europe/Dublin:20220420T000000
DTSTAMP:20260421T161638
CREATED:20220414T090831Z
LAST-MODIFIED:20220414T090831Z
UID:44212-1650391200-1650412800@killarneyadvertiser.ie
SUMMARY:Aidan Moynihan
DESCRIPTION:Attachments\n        Pillow Queens Web Images 440 x 300 (836 kB)
URL:https://killarneyadvertiser.ie/whats-on-killarney/aidan-moynihan-12/
LOCATION:J.M. Reidys\, 4 Main Street\, Killarney\, V93 CC82\, Ireland
CATEGORIES:Live Music
ATTACH;FMTTYPE=image/jpeg:https://killarneyadvertiser.ie/wp-content/uploads/2022/03/JM-Reidy-1.jpeg
ORGANIZER;CN="J.M. Reidys":MAILTO:info@reidyskillarney.com
END:VEVENT
BEGIN:VEVENT
DTSTART;TZID=Europe/Dublin:20220418T210000
DTEND;TZID=Europe/Dublin:20220419T000000
DTSTAMP:20260421T161638
CREATED:20220414T084252Z
LAST-MODIFIED:20220414T084252Z
UID:44200-1650315600-1650326400@killarneyadvertiser.ie
SUMMARY:Eddie Keogh
DESCRIPTION:Music with Eddid Keogh in the Gleneagle Ballroom \n\n        \n            Attachments\n        Pillow Queens Web Images 440 x 300 (836 kB)
URL:https://killarneyadvertiser.ie/whats-on-killarney/eddie-keogh/
LOCATION:Gleneagle INEC Arena\, Muckross Road\, Killarney\, V93 V6WF\, Ireland
CATEGORIES:Live Music
ATTACH;FMTTYPE=image/png:https://killarneyadvertiser.ie/wp-content/uploads/2022/03/inec_arena_logo_web.png
ORGANIZER;CN="Gleneagle INEC Arena":MAILTO:info@inec.ie
END:VEVENT
BEGIN:VEVENT
DTSTART;TZID=Europe/Dublin:20220418T180000
DTEND;TZID=Europe/Dublin:20220419T000000
DTSTAMP:20260421T161638
CREATED:20220414T090742Z
LAST-MODIFIED:20220414T090742Z
UID:44211-1650304800-1650326400@killarneyadvertiser.ie
SUMMARY:Bryan Leary
DESCRIPTION:Attachments\n        Pillow Queens Web Images 440 x 300 (836 kB)
URL:https://killarneyadvertiser.ie/whats-on-killarney/bryan-leary/
LOCATION:J.M. Reidys\, 4 Main Street\, Killarney\, V93 CC82\, Ireland
CATEGORIES:Live Music
ATTACH;FMTTYPE=image/jpeg:https://killarneyadvertiser.ie/wp-content/uploads/2022/03/JM-Reidy-1.jpeg
ORGANIZER;CN="J.M. Reidys":MAILTO:info@reidyskillarney.com
END:VEVENT
BEGIN:VEVENT
DTSTART;TZID=Europe/Dublin:20220417T220000
DTEND;TZID=Europe/Dublin:20220418T020000
DTSTAMP:20260421T161638
CREATED:20220414T091446Z
LAST-MODIFIED:20220414T091446Z
UID:44216-1650232800-1650247200@killarneyadvertiser.ie
SUMMARY:Live DJ in the night club
DESCRIPTION:Attachments\n        Pillow Queens Web Images 440 x 300 (836 kB)
URL:https://killarneyadvertiser.ie/whats-on-killarney/live-dj-in-the-night-club-2/
LOCATION:McSorleys Bar & Nightclub
CATEGORIES:Live Music
ATTACH;FMTTYPE=image/png:https://killarneyadvertiser.ie/wp-content/uploads/2022/04/mcsorleys.png
END:VEVENT
BEGIN:VEVENT
DTSTART;TZID=Europe/Dublin:20220417T210000
DTEND;TZID=Europe/Dublin:20220418T020000
DTSTAMP:20260421T161638
CREATED:20220414T093101Z
LAST-MODIFIED:20220414T093101Z
UID:44225-1650229200-1650247200@killarneyadvertiser.ie
SUMMARY:Night club
DESCRIPTION:Attachments\n        Pillow Queens Web Images 440 x 300 (836 kB)
URL:https://killarneyadvertiser.ie/whats-on-killarney/night-club-2/
LOCATION:Social15\, 15 Main Street\, Killarney\, V93 P46Y\, Ireland
CATEGORIES:Live Music
ATTACH;FMTTYPE=image/png:https://killarneyadvertiser.ie/wp-content/uploads/2022/03/social_15_logo_web.png
ORGANIZER;CN="Social15":MAILTO:info@social15.ie
END:VEVENT
BEGIN:VEVENT
DTSTART;TZID=Europe/Dublin:20220417T210000
DTEND;TZID=Europe/Dublin:20220417T230000
DTSTAMP:20260421T161638
CREATED:20220414T092330Z
LAST-MODIFIED:20220414T092330Z
UID:44219-1650229200-1650236400@killarneyadvertiser.ie
SUMMARY:Live music
DESCRIPTION:Live music in the Courtyard with Brightside the Band and Ivan Ryan in the main bar  \n\n        \n            Attachments\n        Pillow Queens Web Images 440 x 300 (836 kB)
URL:https://killarneyadvertiser.ie/whats-on-killarney/live-music-13/
LOCATION:Scotts Bar and Courtyard\, Scotts Street\, Killarney\, V93 CF30\, Ireland
CATEGORIES:Live Music
ATTACH;FMTTYPE=image/jpeg:https://killarneyadvertiser.ie/wp-content/uploads/2022/03/190510_COMMERCIAL_ScottsLowRes_47.jpg
ORGANIZER;CN="Scotts Bar and Courtyard":MAILTO:info@scottshotelkillarney.com
END:VEVENT
BEGIN:VEVENT
DTSTART;TZID=Europe/Dublin:20220417T210000
DTEND;TZID=Europe/Dublin:20220417T230000
DTSTAMP:20260421T161638
CREATED:20220414T083449Z
LAST-MODIFIED:20220414T083449Z
UID:44199-1650229200-1650236400@killarneyadvertiser.ie
SUMMARY:PJ Murrihy Dance
DESCRIPTION:Easter Sunday Dance with PJ Murrihy & Sean Brennan \n\n        \n            Attachments\n        Pillow Queens Web Images 440 x 300 (836 kB)
URL:https://killarneyadvertiser.ie/whats-on-killarney/pj-murrihy-dance/
LOCATION:Gleneagle INEC Arena\, Muckross Road\, Killarney\, V93 V6WF\, Ireland
CATEGORIES:Live Music
ATTACH;FMTTYPE=image/png:https://killarneyadvertiser.ie/wp-content/uploads/2022/03/inec_arena_logo_web.png
ORGANIZER;CN="Gleneagle INEC Arena":MAILTO:info@inec.ie
END:VEVENT
BEGIN:VEVENT
DTSTART;TZID=Europe/Dublin:20220417T210000
DTEND;TZID=Europe/Dublin:20220417T230000
DTSTAMP:20260421T161638
CREATED:20220414T083017Z
LAST-MODIFIED:20220414T083540Z
UID:44186-1650229200-1650236400@killarneyadvertiser.ie
SUMMARY:Tex Deegan
DESCRIPTION:Music in the Backstage bar with Tex Deegan \n\n        \n            Attachments\n        Pillow Queens Web Images 440 x 300 (836 kB)
URL:https://killarneyadvertiser.ie/whats-on-killarney/tex-deegan-2/
LOCATION:Gleneagle INEC Arena\, Muckross Road\, Killarney\, V93 V6WF\, Ireland
CATEGORIES:Live Music
ATTACH;FMTTYPE=image/png:https://killarneyadvertiser.ie/wp-content/uploads/2022/03/inec_arena_logo_web.png
ORGANIZER;CN="Gleneagle INEC Arena":MAILTO:info@inec.ie
END:VEVENT
BEGIN:VEVENT
DTSTART;TZID=Europe/Dublin:20220417T200000
DTEND;TZID=Europe/Dublin:20220417T223000
DTSTAMP:20260421T161638
CREATED:20220413T163104Z
LAST-MODIFIED:20220413T163104Z
UID:44183-1650225600-1650234600@killarneyadvertiser.ie
SUMMARY:Take it to the Limit - A Celebration of the Eagles
DESCRIPTION:Take It To The Limit – A Celebration of the Eagles ft Johnny Brady\, Simon Casey\, Nigel Connell\, & The Sheerin Family Band return to the Gleneagle INEC Arena \n\n        \n            Attachments\n        Pillow Queens Web Images 440 x 300 (836 kB)
URL:https://killarneyadvertiser.ie/whats-on-killarney/take-it-to-the-limit-a-celebration-of-the-eagles/
LOCATION:Gleneagle INEC Arena\, Muckross Road\, Killarney\, V93 V6WF\, Ireland
CATEGORIES:Live Music
ATTACH;FMTTYPE=image/png:https://killarneyadvertiser.ie/wp-content/uploads/2022/03/inec_arena_logo_web.png
ORGANIZER;CN="Gleneagle INEC Arena":MAILTO:info@inec.ie
END:VEVENT
END:VCALENDAR