BEGIN:VCALENDAR
VERSION:2.0
PRODID:-//Killarney Advertiser - ECPv6.8.2.1//NONSGML v1.0//EN
CALSCALE:GREGORIAN
METHOD:PUBLISH
X-WR-CALNAME:Killarney Advertiser
X-ORIGINAL-URL:https://killarneyadvertiser.ie
X-WR-CALDESC:Events for Killarney Advertiser
REFRESH-INTERVAL;VALUE=DURATION:PT1H
X-Robots-Tag:noindex
X-PUBLISHED-TTL:PT1H
BEGIN:VTIMEZONE
TZID:Europe/Dublin
BEGIN:STANDARD
TZOFFSETFROM:+0000
TZOFFSETTO:+0100
TZNAME:IST
DTSTART:20220327T010000
END:STANDARD
BEGIN:DAYLIGHT
TZOFFSETFROM:+0100
TZOFFSETTO:+0000
TZNAME:GMT
DTSTART:20221030T010000
END:DAYLIGHT
END:VTIMEZONE
BEGIN:VEVENT
DTSTART;TZID=Europe/Dublin:20220411T210000
DTEND;TZID=Europe/Dublin:20220411T233000
DTSTAMP:20260421T161356
CREATED:20220406T152852Z
LAST-MODIFIED:20220406T152852Z
UID:43991-1649710800-1649719800@killarneyadvertiser.ie
SUMMARY:Aidan Moynihan
DESCRIPTION:Aidan Moynihan performs in the INEC Backstage Bar \n\n        \n            Attachments\n        The Gleneagle 'Killarney Lake Tours SEM' 1200 x 1200 Logo (1) (158 kB)
URL:https://killarneyadvertiser.ie/whats-on-killarney/aidan-moynihan-8/
LOCATION:Gleneagle INEC Arena\, Muckross Road\, Killarney\, V93 V6WF\, Ireland
CATEGORIES:Live Music
ATTACH;FMTTYPE=image/png:https://killarneyadvertiser.ie/wp-content/uploads/2022/03/inec_arena_logo_web.png
ORGANIZER;CN="Gleneagle INEC Arena":MAILTO:info@inec.ie
END:VEVENT
BEGIN:VEVENT
DTSTART;TZID=Europe/Dublin:20220412T210000
DTEND;TZID=Europe/Dublin:20220412T233000
DTSTAMP:20260421T161356
CREATED:20220406T153431Z
LAST-MODIFIED:20220406T153431Z
UID:43992-1649797200-1649806200@killarneyadvertiser.ie
SUMMARY:Ray K
DESCRIPTION:Ray K performs in the INEC Backstage Bar \n\n        \n            Attachments\n        The Gleneagle 'Killarney Lake Tours SEM' 1200 x 1200 Logo (1) (158 kB)
URL:https://killarneyadvertiser.ie/whats-on-killarney/ray-k/
LOCATION:Gleneagle INEC Arena\, Muckross Road\, Killarney\, V93 V6WF\, Ireland
CATEGORIES:Live Music
ATTACH;FMTTYPE=image/png:https://killarneyadvertiser.ie/wp-content/uploads/2022/03/inec_arena_logo_web.png
ORGANIZER;CN="Gleneagle INEC Arena":MAILTO:info@inec.ie
END:VEVENT
BEGIN:VEVENT
DTSTART;TZID=Europe/Dublin:20220413T180000
DTEND;TZID=Europe/Dublin:20220414T000000
DTSTAMP:20260421T161356
CREATED:20220413T163251Z
LAST-MODIFIED:20220413T163251Z
UID:44184-1649872800-1649894400@killarneyadvertiser.ie
SUMMARY:Darren Griffin
DESCRIPTION:Attachments\n        The Gleneagle 'Killarney Lake Tours SEM' 1200 x 1200 Logo (1) (158 kB)
URL:https://killarneyadvertiser.ie/whats-on-killarney/darren-griffin-3/
LOCATION:J.M. Reidys\, 4 Main Street\, Killarney\, V93 CC82\, Ireland
CATEGORIES:Live Music
ATTACH;FMTTYPE=image/jpeg:https://killarneyadvertiser.ie/wp-content/uploads/2022/03/JM-Reidy-1.jpeg
ORGANIZER;CN="J.M. Reidys":MAILTO:info@reidyskillarney.com
END:VEVENT
BEGIN:VEVENT
DTSTART;TZID=Europe/Dublin:20220413T210000
DTEND;TZID=Europe/Dublin:20220413T233000
DTSTAMP:20260421T161356
CREATED:20220406T153617Z
LAST-MODIFIED:20220406T153617Z
UID:43993-1649883600-1649892600@killarneyadvertiser.ie
SUMMARY:Barry McGrath
DESCRIPTION:Barry McGrath plays the Gleneagle Backstage Bar \n\n        \n            Attachments\n        The Gleneagle 'Killarney Lake Tours SEM' 1200 x 1200 Logo (1) (158 kB)
URL:https://killarneyadvertiser.ie/whats-on-killarney/barry-mcgrath-3/
LOCATION:Gleneagle INEC Arena\, Muckross Road\, Killarney\, V93 V6WF\, Ireland
CATEGORIES:Live Music
ATTACH;FMTTYPE=image/png:https://killarneyadvertiser.ie/wp-content/uploads/2022/03/inec_arena_logo_web.png
ORGANIZER;CN="Gleneagle INEC Arena":MAILTO:info@inec.ie
END:VEVENT
BEGIN:VEVENT
DTSTART;TZID=Europe/Dublin:20220414T080000
DTEND;TZID=Europe/Dublin:20220414T170000
DTSTAMP:20260421T161356
CREATED:20220414T084824Z
LAST-MODIFIED:20220414T084824Z
UID:44202-1649923200-1649955600@killarneyadvertiser.ie
SUMMARY:Dara O'Brian - So Where Were We?
DESCRIPTION:Dara O’brian brings his brand new show So.. Where were We? \n\n        \n            Attachments\n        The Gleneagle 'Killarney Lake Tours SEM' 1200 x 1200 Logo (1) (158 kB)
URL:https://killarneyadvertiser.ie/whats-on-killarney/dara-obrian-so-where-were-we/
LOCATION:Gleneagle INEC Arena\, Muckross Road\, Killarney\, V93 V6WF\, Ireland
CATEGORIES:Arts
ATTACH;FMTTYPE=image/png:https://killarneyadvertiser.ie/wp-content/uploads/2022/03/inec_arena_logo_web.png
ORGANIZER;CN="Gleneagle INEC Arena":MAILTO:info@inec.ie
END:VEVENT
BEGIN:VEVENT
DTSTART;TZID=Europe/Dublin:20220414T180000
DTEND;TZID=Europe/Dublin:20220415T000000
DTSTAMP:20260421T161356
CREATED:20220413T163341Z
LAST-MODIFIED:20220413T163341Z
UID:44185-1649959200-1649980800@killarneyadvertiser.ie
SUMMARY:Aidan Moynihan
DESCRIPTION:Attachments\n        The Gleneagle 'Killarney Lake Tours SEM' 1200 x 1200 Logo (1) (158 kB)
URL:https://killarneyadvertiser.ie/whats-on-killarney/aidan-moynihan-10/
LOCATION:J.M. Reidys\, 4 Main Street\, Killarney\, V93 CC82\, Ireland
CATEGORIES:Live Music
ATTACH;FMTTYPE=image/jpeg:https://killarneyadvertiser.ie/wp-content/uploads/2022/03/JM-Reidy-1.jpeg
ORGANIZER;CN="J.M. Reidys":MAILTO:info@reidyskillarney.com
END:VEVENT
BEGIN:VEVENT
DTSTART;TZID=Europe/Dublin:20220414T180000
DTEND;TZID=Europe/Dublin:20220415T000000
DTSTAMP:20260421T161356
CREATED:20220414T092558Z
LAST-MODIFIED:20220414T092558Z
UID:44220-1649959200-1649980800@killarneyadvertiser.ie
SUMMARY:Live music
DESCRIPTION:With a great line up including Sax Appeal\, DJ Ray Stack\, DJ Darren O’Riordan etc. \n\n        \n            Attachments\n        The Gleneagle 'Killarney Lake Tours SEM' 1200 x 1200 Logo (1) (158 kB)
URL:https://killarneyadvertiser.ie/whats-on-killarney/live-music-14/
LOCATION:Social15\, 15 Main Street\, Killarney\, V93 P46Y\, Ireland
CATEGORIES:Live Music
ATTACH;FMTTYPE=image/png:https://killarneyadvertiser.ie/wp-content/uploads/2022/03/social_15_logo_web.png
ORGANIZER;CN="Social15":MAILTO:info@social15.ie
END:VEVENT
BEGIN:VEVENT
DTSTART;TZID=Europe/Dublin:20220414T210000
DTEND;TZID=Europe/Dublin:20220414T230000
DTSTAMP:20260421T161356
CREATED:20220413T161012Z
LAST-MODIFIED:20220413T161012Z
UID:44175-1649970000-1649977200@killarneyadvertiser.ie
SUMMARY:Cathal Flaherty
DESCRIPTION:Music in the Backstage Bar with Cathal Flaherty \n\n        \n            Attachments\n        The Gleneagle 'Killarney Lake Tours SEM' 1200 x 1200 Logo (1) (158 kB)
URL:https://killarneyadvertiser.ie/whats-on-killarney/cathal-flaherty-2/
LOCATION:Gleneagle INEC Arena\, Muckross Road\, Killarney\, V93 V6WF\, Ireland
CATEGORIES:Live Music
ATTACH;FMTTYPE=image/png:https://killarneyadvertiser.ie/wp-content/uploads/2022/03/inec_arena_logo_web.png
ORGANIZER;CN="Gleneagle INEC Arena":MAILTO:info@inec.ie
END:VEVENT
BEGIN:VEVENT
DTSTART;TZID=Europe/Dublin:20220414T210000
DTEND;TZID=Europe/Dublin:20220414T233000
DTSTAMP:20260421T161356
CREATED:20220406T153836Z
LAST-MODIFIED:20220406T153836Z
UID:43994-1649970000-1649979000@killarneyadvertiser.ie
SUMMARY:Cathal Flaherty
DESCRIPTION:Cathal Flaherty plays the INEC Backstage Bar \n\n        \n            Attachments\n        The Gleneagle 'Killarney Lake Tours SEM' 1200 x 1200 Logo (1) (158 kB)
URL:https://killarneyadvertiser.ie/whats-on-killarney/cathal-flaherty/
LOCATION:Gleneagle INEC Arena\, Muckross Road\, Killarney\, V93 V6WF\, Ireland
CATEGORIES:Live Music
ATTACH;FMTTYPE=image/png:https://killarneyadvertiser.ie/wp-content/uploads/2022/03/inec_arena_logo_web.png
ORGANIZER;CN="Gleneagle INEC Arena":MAILTO:info@inec.ie
END:VEVENT
BEGIN:VEVENT
DTSTART;TZID=Europe/Dublin:20220414T230000
DTEND;TZID=Europe/Dublin:20220415T010000
DTSTAMP:20260421T161356
CREATED:20220413T161224Z
LAST-MODIFIED:20220413T161224Z
UID:44178-1649977200-1649984400@killarneyadvertiser.ie
SUMMARY:Piano Bar with John McGann
DESCRIPTION:Late night music in the Gleneagle Ballroom with John McGann \n\n        \n            Attachments\n        The Gleneagle 'Killarney Lake Tours SEM' 1200 x 1200 Logo (1) (158 kB)
URL:https://killarneyadvertiser.ie/whats-on-killarney/piano-bar-with-john-mcgann/
LOCATION:Gleneagle INEC Arena\, Muckross Road\, Killarney\, V93 V6WF\, Ireland
CATEGORIES:Live Music
ATTACH;FMTTYPE=image/png:https://killarneyadvertiser.ie/wp-content/uploads/2022/03/inec_arena_logo_web.png
ORGANIZER;CN="Gleneagle INEC Arena":MAILTO:info@inec.ie
END:VEVENT
BEGIN:VEVENT
DTSTART;TZID=Europe/Dublin:20220415T060000
DTEND;TZID=Europe/Dublin:20220416T010000
DTSTAMP:20260421T161356
CREATED:20220414T090955Z
LAST-MODIFIED:20220414T090955Z
UID:44213-1650002400-1650070800@killarneyadvertiser.ie
SUMMARY:Live Dj in the Beer Garden
DESCRIPTION:Attachments\n        The Gleneagle 'Killarney Lake Tours SEM' 1200 x 1200 Logo (1) (158 kB)
URL:https://killarneyadvertiser.ie/whats-on-killarney/live-dj-in-the-beer-garden/
LOCATION:McSorleys Bar & Nightclub
CATEGORIES:Live Music
ATTACH;FMTTYPE=image/png:https://killarneyadvertiser.ie/wp-content/uploads/2022/04/mcsorleys.png
END:VEVENT
BEGIN:VEVENT
DTSTART;TZID=Europe/Dublin:20220415T180000
DTEND;TZID=Europe/Dublin:20220416T000000
DTSTAMP:20260421T161356
CREATED:20220414T090127Z
LAST-MODIFIED:20220414T090536Z
UID:44207-1650045600-1650067200@killarneyadvertiser.ie
SUMMARY:Aidan Moynihan
DESCRIPTION:Attachments\n        The Gleneagle 'Killarney Lake Tours SEM' 1200 x 1200 Logo (1) (158 kB)
URL:https://killarneyadvertiser.ie/whats-on-killarney/aidan-moynihan-11/
LOCATION:J.M. Reidys\, 4 Main Street\, Killarney\, V93 CC82\, Ireland
CATEGORIES:Live Music
ATTACH;FMTTYPE=image/jpeg:https://killarneyadvertiser.ie/wp-content/uploads/2022/03/JM-Reidy-1.jpeg
ORGANIZER;CN="J.M. Reidys":MAILTO:info@reidyskillarney.com
END:VEVENT
BEGIN:VEVENT
DTSTART;TZID=Europe/Dublin:20220415T180000
DTEND;TZID=Europe/Dublin:20220416T000000
DTSTAMP:20260421T161356
CREATED:20220414T092642Z
LAST-MODIFIED:20220414T092642Z
UID:44221-1650045600-1650067200@killarneyadvertiser.ie
SUMMARY:Live music
DESCRIPTION:With a great line up including Sax Appeal\, DJ Ray Stack\, DJ Darren O’Riordan etc. \n\n        \n            Attachments\n        The Gleneagle 'Killarney Lake Tours SEM' 1200 x 1200 Logo (1) (158 kB)
URL:https://killarneyadvertiser.ie/whats-on-killarney/live-music-15/
LOCATION:Social15\, 15 Main Street\, Killarney\, V93 P46Y\, Ireland
CATEGORIES:Live Music
ATTACH;FMTTYPE=image/png:https://killarneyadvertiser.ie/wp-content/uploads/2022/03/social_15_logo_web.png
ORGANIZER;CN="Social15":MAILTO:info@social15.ie
END:VEVENT
BEGIN:VEVENT
DTSTART;TZID=Europe/Dublin:20220415T210000
DTEND;TZID=Europe/Dublin:20220415T230000
DTSTAMP:20260421T161356
CREATED:20220405T141444Z
LAST-MODIFIED:20220405T142754Z
UID:43917-1650056400-1650063600@killarneyadvertiser.ie
SUMMARY:Live Music
DESCRIPTION:Live music in the Courtyard with Alan Flynn and Ivan Ryan in the main bar. \n\n        \n            Attachments\n        The Gleneagle 'Killarney Lake Tours SEM' 1200 x 1200 Logo (1) (158 kB)
URL:https://killarneyadvertiser.ie/whats-on-killarney/live-music-8/
LOCATION:Scotts Bar and Courtyard\, Scotts Street\, Killarney\, V93 CF30\, Ireland
CATEGORIES:Live Music
ATTACH;FMTTYPE=image/jpeg:https://killarneyadvertiser.ie/wp-content/uploads/2022/03/190510_COMMERCIAL_ScottsLowRes_47.jpg
ORGANIZER;CN="Scotts Bar and Courtyard":MAILTO:info@scottshotelkillarney.com
END:VEVENT
BEGIN:VEVENT
DTSTART;TZID=Europe/Dublin:20220415T210000
DTEND;TZID=Europe/Dublin:20220415T230000
DTSTAMP:20260421T161356
CREATED:20220406T154101Z
LAST-MODIFIED:20220406T154101Z
UID:43996-1650056400-1650063600@killarneyadvertiser.ie
SUMMARY:Traffic
DESCRIPTION:Traffic perform in the INEC Backstage Bar \n\n        \n            Attachments\n        The Gleneagle 'Killarney Lake Tours SEM' 1200 x 1200 Logo (1) (158 kB)
URL:https://killarneyadvertiser.ie/whats-on-killarney/traffic-2/
LOCATION:Gleneagle INEC Arena\, Muckross Road\, Killarney\, V93 V6WF\, Ireland
CATEGORIES:Live Music
ATTACH;FMTTYPE=image/png:https://killarneyadvertiser.ie/wp-content/uploads/2022/03/inec_arena_logo_web.png
ORGANIZER;CN="Gleneagle INEC Arena":MAILTO:info@inec.ie
END:VEVENT
BEGIN:VEVENT
DTSTART;TZID=Europe/Dublin:20220415T210000
DTEND;TZID=Europe/Dublin:20220415T230000
DTSTAMP:20260421T161356
CREATED:20220413T161358Z
LAST-MODIFIED:20220413T161358Z
UID:44179-1650056400-1650063600@killarneyadvertiser.ie
SUMMARY:Traffic
DESCRIPTION:Music in the Backstage Bar with Traffic \n\n        \n            Attachments\n        The Gleneagle 'Killarney Lake Tours SEM' 1200 x 1200 Logo (1) (158 kB)
URL:https://killarneyadvertiser.ie/whats-on-killarney/traffic-3/
LOCATION:Gleneagle INEC Arena\, Muckross Road\, Killarney\, V93 V6WF\, Ireland
CATEGORIES:Live Music
ATTACH;FMTTYPE=image/png:https://killarneyadvertiser.ie/wp-content/uploads/2022/03/inec_arena_logo_web.png
ORGANIZER;CN="Gleneagle INEC Arena":MAILTO:info@inec.ie
END:VEVENT
BEGIN:VEVENT
DTSTART;TZID=Europe/Dublin:20220415T210000
DTEND;TZID=Europe/Dublin:20220415T230000
DTSTAMP:20260421T161356
CREATED:20220414T091836Z
LAST-MODIFIED:20220414T091836Z
UID:44217-1650056400-1650063600@killarneyadvertiser.ie
SUMMARY:Live music
DESCRIPTION:Live music in the Courtyard with Alan Flynn and Ivan Ryan in the main bar \n\n        \n            Attachments\n        The Gleneagle 'Killarney Lake Tours SEM' 1200 x 1200 Logo (1) (158 kB)
URL:https://killarneyadvertiser.ie/whats-on-killarney/live-music-11/
LOCATION:Scotts Bar and Courtyard\, Scotts Street\, Killarney\, V93 CF30\, Ireland
CATEGORIES:Live Music
ATTACH;FMTTYPE=image/jpeg:https://killarneyadvertiser.ie/wp-content/uploads/2022/03/190510_COMMERCIAL_ScottsLowRes_47.jpg
ORGANIZER;CN="Scotts Bar and Courtyard":MAILTO:info@scottshotelkillarney.com
END:VEVENT
BEGIN:VEVENT
DTSTART;TZID=Europe/Dublin:20220415T230000
DTEND;TZID=Europe/Dublin:20220416T010000
DTSTAMP:20260421T161356
CREATED:20220406T153937Z
LAST-MODIFIED:20220406T153937Z
UID:43995-1650063600-1650070800@killarneyadvertiser.ie
SUMMARY:John McCann
DESCRIPTION:Piano Bar with John McGann in the Gleneagle Ballroom \n\n        \n            Attachments\n        The Gleneagle 'Killarney Lake Tours SEM' 1200 x 1200 Logo (1) (158 kB)
URL:https://killarneyadvertiser.ie/whats-on-killarney/john-mccann/
LOCATION:Gleneagle INEC Arena\, Muckross Road\, Killarney\, V93 V6WF\, Ireland
CATEGORIES:Live Music
ATTACH;FMTTYPE=image/png:https://killarneyadvertiser.ie/wp-content/uploads/2022/03/inec_arena_logo_web.png
ORGANIZER;CN="Gleneagle INEC Arena":MAILTO:info@inec.ie
END:VEVENT
BEGIN:VEVENT
DTSTART;TZID=Europe/Dublin:20220415T230000
DTEND;TZID=Europe/Dublin:20220416T010000
DTSTAMP:20260421T161356
CREATED:20220413T161532Z
LAST-MODIFIED:20220413T161532Z
UID:44180-1650063600-1650070800@killarneyadvertiser.ie
SUMMARY:Piano Bar with John McGann
DESCRIPTION:Late night music in the Gleneagle Ballroom with John McGann \n\n        \n            Attachments\n        The Gleneagle 'Killarney Lake Tours SEM' 1200 x 1200 Logo (1) (158 kB)
URL:https://killarneyadvertiser.ie/whats-on-killarney/piano-bar-with-john-mcgann-2/
LOCATION:Gleneagle INEC Arena\, Muckross Road\, Killarney\, V93 V6WF\, Ireland
CATEGORIES:Live Music
ATTACH;FMTTYPE=image/png:https://killarneyadvertiser.ie/wp-content/uploads/2022/03/inec_arena_logo_web.png
ORGANIZER;CN="Gleneagle INEC Arena":MAILTO:info@inec.ie
END:VEVENT
BEGIN:VEVENT
DTSTART;TZID=Europe/Dublin:20220416T180000
DTEND;TZID=Europe/Dublin:20220417T000000
DTSTAMP:20260421T161356
CREATED:20220414T090342Z
LAST-MODIFIED:20220414T090342Z
UID:44208-1650132000-1650153600@killarneyadvertiser.ie
SUMMARY:Rachel O'Shaungnessy
DESCRIPTION:Live music with Rachel O’Shaungnessy in the Cafe area \n\n        \n            Attachments\n        The Gleneagle 'Killarney Lake Tours SEM' 1200 x 1200 Logo (1) (158 kB)
URL:https://killarneyadvertiser.ie/whats-on-killarney/rachel-oshaungnessy/
LOCATION:J.M. Reidys\, 4 Main Street\, Killarney\, V93 CC82\, Ireland
CATEGORIES:Live Music
ATTACH;FMTTYPE=image/jpeg:https://killarneyadvertiser.ie/wp-content/uploads/2022/03/JM-Reidy-1.jpeg
ORGANIZER;CN="J.M. Reidys":MAILTO:info@reidyskillarney.com
END:VEVENT
BEGIN:VEVENT
DTSTART;TZID=Europe/Dublin:20220416T180000
DTEND;TZID=Europe/Dublin:20220417T000000
DTSTAMP:20260421T161356
CREATED:20220414T090441Z
LAST-MODIFIED:20220414T090441Z
UID:44209-1650132000-1650153600@killarneyadvertiser.ie
SUMMARY:The Fogues
DESCRIPTION:Live music with The Fogues in the Courtyard \n\n        \n            Attachments\n        The Gleneagle 'Killarney Lake Tours SEM' 1200 x 1200 Logo (1) (158 kB)
URL:https://killarneyadvertiser.ie/whats-on-killarney/the-fogues/
LOCATION:J.M. Reidys\, 4 Main Street\, Killarney\, V93 CC82\, Ireland
CATEGORIES:Live Music
ATTACH;FMTTYPE=image/jpeg:https://killarneyadvertiser.ie/wp-content/uploads/2022/03/JM-Reidy-1.jpeg
ORGANIZER;CN="J.M. Reidys":MAILTO:info@reidyskillarney.com
END:VEVENT
BEGIN:VEVENT
DTSTART;TZID=Europe/Dublin:20220416T180000
DTEND;TZID=Europe/Dublin:20220417T000000
DTSTAMP:20260421T161356
CREATED:20220414T092732Z
LAST-MODIFIED:20220414T092732Z
UID:44222-1650132000-1650153600@killarneyadvertiser.ie
SUMMARY:Live music
DESCRIPTION:With a great line up including Sax Appeal\, DJ Ray Stack\, DJ Darren O’Riordan etc. \n\n        \n            Attachments\n        The Gleneagle 'Killarney Lake Tours SEM' 1200 x 1200 Logo (1) (158 kB)
URL:https://killarneyadvertiser.ie/whats-on-killarney/live-music-16/
LOCATION:Social15\, 15 Main Street\, Killarney\, V93 P46Y\, Ireland
CATEGORIES:Live Music
ATTACH;FMTTYPE=image/png:https://killarneyadvertiser.ie/wp-content/uploads/2022/03/social_15_logo_web.png
ORGANIZER;CN="Social15":MAILTO:info@social15.ie
END:VEVENT
BEGIN:VEVENT
DTSTART;TZID=Europe/Dublin:20220416T180000
DTEND;TZID=Europe/Dublin:20220417T020000
DTSTAMP:20260421T161356
CREATED:20220414T091258Z
LAST-MODIFIED:20220414T091258Z
UID:44214-1650132000-1650160800@killarneyadvertiser.ie
SUMMARY:Bedrock' live band in main bar
DESCRIPTION:Attachments\n        The Gleneagle 'Killarney Lake Tours SEM' 1200 x 1200 Logo (1) (158 kB)
URL:https://killarneyadvertiser.ie/whats-on-killarney/bedrock-live-band-in-main-bar/
LOCATION:McSorleys Bar & Nightclub
CATEGORIES:Live Music
ATTACH;FMTTYPE=image/png:https://killarneyadvertiser.ie/wp-content/uploads/2022/04/mcsorleys.png
END:VEVENT
BEGIN:VEVENT
DTSTART;TZID=Europe/Dublin:20220416T210000
DTEND;TZID=Europe/Dublin:20220416T230000
DTSTAMP:20260421T161356
CREATED:20220405T141530Z
LAST-MODIFIED:20220405T142730Z
UID:43918-1650142800-1650150000@killarneyadvertiser.ie
SUMMARY:Live Music
DESCRIPTION:Live music in the Courtyard with Zedz Dead and Sharon Langston trad band in the main bar. \n\n        \n            Attachments\n        The Gleneagle 'Killarney Lake Tours SEM' 1200 x 1200 Logo (1) (158 kB)
URL:https://killarneyadvertiser.ie/whats-on-killarney/live-music-9/
LOCATION:Scotts Bar and Courtyard\, Scotts Street\, Killarney\, V93 CF30\, Ireland
CATEGORIES:Live Music
ATTACH;FMTTYPE=image/jpeg:https://killarneyadvertiser.ie/wp-content/uploads/2022/03/190510_COMMERCIAL_ScottsLowRes_47.jpg
ORGANIZER;CN="Scotts Bar and Courtyard":MAILTO:info@scottshotelkillarney.com
END:VEVENT
BEGIN:VEVENT
DTSTART;TZID=Europe/Dublin:20220416T210000
DTEND;TZID=Europe/Dublin:20220416T230000
DTSTAMP:20260421T161356
CREATED:20220405T141704Z
LAST-MODIFIED:20220414T092010Z
UID:43919-1650142800-1650150000@killarneyadvertiser.ie
SUMMARY:Live Music
DESCRIPTION:Live music in the Courtyard with Brightside the Band and Ivan Ryan in the main bar . \n\n        \n            Attachments\n        The Gleneagle 'Killarney Lake Tours SEM' 1200 x 1200 Logo (1) (158 kB)
URL:https://killarneyadvertiser.ie/whats-on-killarney/live-music-10/
LOCATION:Scotts Bar and Courtyard\, Scotts Street\, Killarney\, V93 CF30\, Ireland
CATEGORIES:Live Music
ATTACH;FMTTYPE=image/jpeg:https://killarneyadvertiser.ie/wp-content/uploads/2022/03/190510_COMMERCIAL_ScottsLowRes_47.jpg
ORGANIZER;CN="Scotts Bar and Courtyard":MAILTO:info@scottshotelkillarney.com
END:VEVENT
BEGIN:VEVENT
DTSTART;TZID=Europe/Dublin:20220416T210000
DTEND;TZID=Europe/Dublin:20220416T230000
DTSTAMP:20260421T161356
CREATED:20220413T162005Z
LAST-MODIFIED:20220413T162005Z
UID:44181-1650142800-1650150000@killarneyadvertiser.ie
SUMMARY:Aidan Moynihan
DESCRIPTION:Music in the Backstage Bar with Aidan Moyniahan \n\n        \n            Attachments\n        The Gleneagle 'Killarney Lake Tours SEM' 1200 x 1200 Logo (1) (158 kB)
URL:https://killarneyadvertiser.ie/whats-on-killarney/aidan-moynihan-9/
LOCATION:Gleneagle INEC Arena\, Muckross Road\, Killarney\, V93 V6WF\, Ireland
CATEGORIES:Live Music
ATTACH;FMTTYPE=image/png:https://killarneyadvertiser.ie/wp-content/uploads/2022/03/inec_arena_logo_web.png
ORGANIZER;CN="Gleneagle INEC Arena":MAILTO:info@inec.ie
END:VEVENT
BEGIN:VEVENT
DTSTART;TZID=Europe/Dublin:20220416T210000
DTEND;TZID=Europe/Dublin:20220417T020000
DTSTAMP:20260421T161356
CREATED:20220414T092930Z
LAST-MODIFIED:20220414T092930Z
UID:44224-1650142800-1650160800@killarneyadvertiser.ie
SUMMARY:Night club
DESCRIPTION:Attachments\n        The Gleneagle 'Killarney Lake Tours SEM' 1200 x 1200 Logo (1) (158 kB)
URL:https://killarneyadvertiser.ie/whats-on-killarney/night-club/
LOCATION:Social15\, 15 Main Street\, Killarney\, V93 P46Y\, Ireland
CATEGORIES:Live Music
ATTACH;FMTTYPE=image/png:https://killarneyadvertiser.ie/wp-content/uploads/2022/03/social_15_logo_web.png
ORGANIZER;CN="Social15":MAILTO:info@social15.ie
END:VEVENT
BEGIN:VEVENT
DTSTART;TZID=Europe/Dublin:20220416T210000
DTEND;TZID=Europe/Dublin:20220417T230000
DTSTAMP:20260421T161356
CREATED:20220414T091932Z
LAST-MODIFIED:20220414T091932Z
UID:44218-1650142800-1650236400@killarneyadvertiser.ie
SUMMARY:Live music
DESCRIPTION:Live music in the Courtyard with Zedz Dead and Sharon Langston trad band in the main bar \n\n        \n            Attachments\n        The Gleneagle 'Killarney Lake Tours SEM' 1200 x 1200 Logo (1) (158 kB)
URL:https://killarneyadvertiser.ie/whats-on-killarney/live-music-12/
LOCATION:Scotts Bar and Courtyard\, Scotts Street\, Killarney\, V93 CF30\, Ireland
CATEGORIES:Live Music
ATTACH;FMTTYPE=image/jpeg:https://killarneyadvertiser.ie/wp-content/uploads/2022/03/190510_COMMERCIAL_ScottsLowRes_47.jpg
ORGANIZER;CN="Scotts Bar and Courtyard":MAILTO:info@scottshotelkillarney.com
END:VEVENT
BEGIN:VEVENT
DTSTART;TZID=Europe/Dublin:20220416T220000
DTEND;TZID=Europe/Dublin:20220417T020000
DTSTAMP:20260421T161356
CREATED:20220414T091354Z
LAST-MODIFIED:20220414T091354Z
UID:44215-1650146400-1650160800@killarneyadvertiser.ie
SUMMARY:Live DJ in the night club
DESCRIPTION:Attachments\n        The Gleneagle 'Killarney Lake Tours SEM' 1200 x 1200 Logo (1) (158 kB)
URL:https://killarneyadvertiser.ie/whats-on-killarney/live-dj-in-the-night-club/
LOCATION:McSorleys Bar & Nightclub
CATEGORIES:Live Music
ATTACH;FMTTYPE=image/png:https://killarneyadvertiser.ie/wp-content/uploads/2022/04/mcsorleys.png
END:VEVENT
BEGIN:VEVENT
DTSTART;TZID=Europe/Dublin:20220416T230000
DTEND;TZID=Europe/Dublin:20220417T010000
DTSTAMP:20260421T161356
CREATED:20220413T162058Z
LAST-MODIFIED:20220413T162058Z
UID:44182-1650150000-1650157200@killarneyadvertiser.ie
SUMMARY:Piano Bar with John McGann
DESCRIPTION:Late night music in the Gleneagle Ballroom with John McGann \n\n        \n            Attachments\n        The Gleneagle 'Killarney Lake Tours SEM' 1200 x 1200 Logo (1) (158 kB)
URL:https://killarneyadvertiser.ie/whats-on-killarney/piano-bar-with-john-mcgann-3/
LOCATION:Gleneagle INEC Arena\, Muckross Road\, Killarney\, V93 V6WF\, Ireland
CATEGORIES:Live Music
ATTACH;FMTTYPE=image/png:https://killarneyadvertiser.ie/wp-content/uploads/2022/03/inec_arena_logo_web.png
ORGANIZER;CN="Gleneagle INEC Arena":MAILTO:info@inec.ie
END:VEVENT
END:VCALENDAR