BEGIN:VCALENDAR
VERSION:2.0
PRODID:-//Killarney Advertiser - ECPv6.8.2.1//NONSGML v1.0//EN
CALSCALE:GREGORIAN
METHOD:PUBLISH
X-WR-CALNAME:Killarney Advertiser
X-ORIGINAL-URL:https://killarneyadvertiser.ie
X-WR-CALDESC:Events for Killarney Advertiser
REFRESH-INTERVAL;VALUE=DURATION:PT1H
X-Robots-Tag:noindex
X-PUBLISHED-TTL:PT1H
BEGIN:VTIMEZONE
TZID:Europe/Dublin
BEGIN:STANDARD
TZOFFSETFROM:+0000
TZOFFSETTO:+0100
TZNAME:IST
DTSTART:20220327T010000
END:STANDARD
BEGIN:DAYLIGHT
TZOFFSETFROM:+0100
TZOFFSETTO:+0000
TZNAME:GMT
DTSTART:20221030T010000
END:DAYLIGHT
END:VTIMEZONE
BEGIN:VEVENT
DTSTART;TZID=Europe/Dublin:20220707T203000
DTEND;TZID=Europe/Dublin:20220707T233000
DTSTAMP:20260421T053451
CREATED:20220706T124949Z
LAST-MODIFIED:20220706T130819Z
UID:46100-1657225800-1657236600@killarneyadvertiser.ie
SUMMARY:Derek Ryan Dance
DESCRIPTION:Dancing with Derek Ryan in the Gleneagle Ballroom as part of Live at the Gleneagle Killarney. \n\n        \n            Attachments\n        YYff71ON (246 kB)
URL:https://killarneyadvertiser.ie/whats-on-killarney/derek-ryan-dance-4/
LOCATION:Gleneagle INEC Arena\, Muckross Road\, Killarney\, V93 V6WF\, Ireland
CATEGORIES:Live Music,Concert
ATTACH;FMTTYPE=image/jpeg:https://killarneyadvertiser.ie/wp-content/uploads/2022/07/Derek-Ryan-Live-at-The-Gleneagle-440-x-300-1-1.jpg
ORGANIZER;CN="Gleneagle INEC Arena":MAILTO:info@inec.ie
END:VEVENT
BEGIN:VEVENT
DTSTART;TZID=Europe/Dublin:20220706T233000
DTEND;TZID=Europe/Dublin:20220708T010000
DTSTAMP:20260421T053451
CREATED:20220706T130040Z
LAST-MODIFIED:20220706T130040Z
UID:46108-1657150200-1657242000@killarneyadvertiser.ie
SUMMARY:Late Night Piano Bar
DESCRIPTION:Late-night Piano bar with John McGann in the Gleneagle Green Room \n\n        \n            Attachments\n        YYff71ON (246 kB)
URL:https://killarneyadvertiser.ie/whats-on-killarney/late-night-piano-bar-2/2022-07-06/
LOCATION:Gleneagle INEC Arena\, Muckross Road\, Killarney\, V93 V6WF\, Ireland
CATEGORIES:Live Music,Concert
ATTACH;FMTTYPE=image/jpeg:https://killarneyadvertiser.ie/wp-content/uploads/2022/07/The-Gleneagle-Explore-Killarney-this-Summer-SEM-Campaign-1200-x-1200-Logo.jpg
ORGANIZER;CN="Gleneagle INEC Arena":MAILTO:info@inec.ie
END:VEVENT
BEGIN:VEVENT
DTSTART;TZID=Europe/Dublin:20220706T203000
DTEND;TZID=Europe/Dublin:20220706T230000
DTSTAMP:20260421T053451
CREATED:20220701T141643Z
LAST-MODIFIED:20220701T141643Z
UID:45974-1657139400-1657148400@killarneyadvertiser.ie
SUMMARY:Mike Denver Dance
DESCRIPTION:Every Wednesday for July and August don’t miss the Mike Denver Dance in the Gleneagle Ballroom as part of Live at the Gleneagle Killarney. \n\n        \n            Attachments\n        YYff71ON (246 kB)
URL:https://killarneyadvertiser.ie/whats-on-killarney/mike-denver-dance/2022-07-06/
LOCATION:Gleneagle INEC Arena\, Muckross Road\, Killarney\, V93 V6WF\, Ireland
CATEGORIES:Live Music,Concert
ATTACH;FMTTYPE=image/jpeg:https://killarneyadvertiser.ie/wp-content/uploads/2022/07/Mike-Denver-Live-at-The-Gleneagle-440-x-300.jpg
ORGANIZER;CN="Gleneagle INEC Arena":MAILTO:info@inec.ie
END:VEVENT
BEGIN:VEVENT
DTSTART;TZID=Europe/Dublin:20220706T080000
DTEND;TZID=Europe/Dublin:20220706T170000
DTSTAMP:20260421T053451
CREATED:20220706T105615Z
LAST-MODIFIED:20220707T091258Z
UID:46017-1657094400-1657126800@killarneyadvertiser.ie
SUMMARY:Tour & Taste
DESCRIPTION:The collaboration between The Tan Yard and Killarney Urban Farm\, sees the creation of the Killarney Urban Farm Tour & Taste experience. The evening will include a guided tour of Killarney Urban Farm\, as you sip on a hand-curated hyperlocal cocktail. The tour will explore the technology that powers the reclaimed space that is now host to the hydroponic towers\, Killarney Urban Farm. You will savour a taste of a plethora of hyper-fresh ingredients in the form of canapés\, see first-hand all that the Killarney Urban Farm represents – hyper-local freshness\, sustainability and innovation. The experience continues to The Tan Yard for a sit-down 3-course meal\, exclusive only to the Killarney Urban Farm Tour & Taste attendees. Each of the dishes on this unique menu features an array of ingredients produced in Killarney Urban Farm paired with local farmers and suppliers in the form of our local legacy. \n\n        \n            Attachments\n        YYff71ON (246 kB)
URL:https://killarneyadvertiser.ie/whats-on-killarney/tour-taste/2022-07-06/
LOCATION:The Tan Yard\, Kenmare Place\, Killarney\, Ireland
ATTACH;FMTTYPE=image/jpeg:https://killarneyadvertiser.ie/wp-content/uploads/2022/07/IMG_0020.jpg
END:VEVENT
BEGIN:VEVENT
DTSTART;TZID=Europe/Dublin:20220705T080000
DTEND;TZID=Europe/Dublin:20220705T170000
DTSTAMP:20260421T053451
CREATED:20220701T141315Z
LAST-MODIFIED:20220701T141315Z
UID:45965-1657008000-1657040400@killarneyadvertiser.ie
SUMMARY:Brendan Shine Dance
DESCRIPTION:Dance the night away with Brendan Shine as he performs every Tuesday night for July and August in the Gleneagle Ballroom as part of Live at the Gleneagle Killarney. \n\n        \n            Attachments\n        YYff71ON (246 kB)
URL:https://killarneyadvertiser.ie/whats-on-killarney/brendan-shine-dance/2022-07-05/
LOCATION:Gleneagle INEC Arena\, Muckross Road\, Killarney\, V93 V6WF\, Ireland
CATEGORIES:Live Music,Concert
ATTACH;FMTTYPE=image/jpeg:https://killarneyadvertiser.ie/wp-content/uploads/2022/07/Brendan-Shine-Live-at-The-Gleneagle-440-x-300.jpg
ORGANIZER;CN="Gleneagle INEC Arena":MAILTO:info@inec.ie
END:VEVENT
BEGIN:VEVENT
DTSTART;TZID=Europe/Dublin:20220703T203000
DTEND;TZID=Europe/Dublin:20220703T230000
DTSTAMP:20260421T053451
CREATED:20220701T144543Z
LAST-MODIFIED:20220701T144543Z
UID:46001-1656880200-1656889200@killarneyadvertiser.ie
SUMMARY:Sunday Sessions with Rebel Heart
DESCRIPTION:Rebel Hearts perform as part of the Sunday Sessions at Live at the Gleneagle Killarney \n\n        \n            Attachments\n        YYff71ON (246 kB)
URL:https://killarneyadvertiser.ie/whats-on-killarney/sunday-sessions-with-rebel-heart/
LOCATION:Gleneagle INEC Arena\, Muckross Road\, Killarney\, V93 V6WF\, Ireland
CATEGORIES:Live Music,Concert
ATTACH;FMTTYPE=image/jpeg:https://killarneyadvertiser.ie/wp-content/uploads/2022/07/Rebel-Hearts-Web-Images-440-x-300.jpg
ORGANIZER;CN="Gleneagle INEC Arena":MAILTO:info@inec.ie
END:VEVENT
BEGIN:VEVENT
DTSTART;TZID=Europe/Dublin:20220702T193000
DTEND;TZID=Europe/Dublin:20220703T020000
DTSTAMP:20260421T053451
CREATED:20220810T113125Z
LAST-MODIFIED:20221004T082543Z
UID:47092-1656790200-1656813600@killarneyadvertiser.ie
SUMMARY:Live Music at Scruffy's
DESCRIPTION:Scruffy’s is a fun and happening bar in the heart of Killarney where the craic is guaranteed. \nBy day\, Scruffy’s is a casual\, fuss free spot for a few drinks and a tasty bite to eat\, with friends. By night\, the late-night venue comes alive with a party atmosphere\, welcoming live music with some of the best DJs and musicians around. \nWe offer casual street-style food from spicy wings to stack your own burgers\, loaded fries\, and BBQ ribs. Nachos are made ideal for sharing and the perfect combo to a bucket of cold beers. \n\n        \n            Attachments\n        YYff71ON (246 kB)
URL:https://killarneyadvertiser.ie/whats-on-killarney/live-music-at-scruffys/2022-07-02/
LOCATION:Scruffys Bar\, Plunkett St.\, Killarney\, Co. Kerry\, Ireland
CATEGORIES:Live Music,Food & Drink
ATTACH;FMTTYPE=image/jpeg:https://killarneyadvertiser.ie/wp-content/uploads/2022/08/The-Towers-Hotel-Scruffys.jpg
END:VEVENT
BEGIN:VEVENT
DTSTART;TZID=Europe/Dublin:20220529T213000
DTEND;TZID=Europe/Dublin:20220530T000000
DTSTAMP:20260421T053451
CREATED:20220517T091353Z
LAST-MODIFIED:20220517T091353Z
UID:44980-1653859800-1653868800@killarneyadvertiser.ie
SUMMARY:Barry McGrath
DESCRIPTION:Barry McGrath plays the Gleneagle Backstage Bar \n\n        \n            Attachments\n        YYff71ON (246 kB)
URL:https://killarneyadvertiser.ie/whats-on-killarney/barry-mcgrath-6/
LOCATION:Gleneagle INEC Arena\, Muckross Road\, Killarney\, V93 V6WF\, Ireland
CATEGORIES:Live Music
ATTACH;FMTTYPE=image/png:https://killarneyadvertiser.ie/wp-content/uploads/2022/03/inec_arena_logo_web.png
ORGANIZER;CN="Gleneagle INEC Arena":MAILTO:info@inec.ie
END:VEVENT
BEGIN:VEVENT
DTSTART;TZID=Europe/Dublin:20220529T200000
DTEND;TZID=Europe/Dublin:20220529T220000
DTSTAMP:20260421T053451
CREATED:20220517T091446Z
LAST-MODIFIED:20220517T091446Z
UID:44981-1653854400-1653861600@killarneyadvertiser.ie
SUMMARY:Women of Note
DESCRIPTION:‘Women of Note’ celebrates the music of epic female performers down through the years. Enjoy the songs of artists from Peggy Lee to Billie Eilish\, Whitney Heuston to Lady Gaga\, and of our very own Jessie Buckley. In today’s world\, the role of women is constantly changing and\, we would hope\, is being more understood and appreciated. The women whose music will feature in this performance are not/were not only musicians . They are/were people with hopes and dreams and hardships. Leave this show feeling that you really know and understand these incredible women.   Hear their songs\, and their stories and learn about the impact they have made. This show was produced by Killarney singer Grace Foley who will perform alongside musicians Noel O’ Sullivan and Padraig Creedon and narrator Laura Reidy \n\n        \n            Attachments\n        YYff71ON (246 kB)
URL:https://killarneyadvertiser.ie/whats-on-killarney/women-of-note/
LOCATION:Gleneagle INEC Arena\, Muckross Road\, Killarney\, V93 V6WF\, Ireland
CATEGORIES:Arts
ATTACH;FMTTYPE=image/png:https://killarneyadvertiser.ie/wp-content/uploads/2022/03/inec_arena_logo_web.png
ORGANIZER;CN="Gleneagle INEC Arena":MAILTO:info@inec.ie
END:VEVENT
BEGIN:VEVENT
DTSTART;TZID=Europe/Dublin:20220528T233000
DTEND;TZID=Europe/Dublin:20220529T020000
DTSTAMP:20260421T053451
CREATED:20220517T091248Z
LAST-MODIFIED:20220517T091248Z
UID:44979-1653780600-1653789600@killarneyadvertiser.ie
SUMMARY:Late night Piano Bar with John McGann
DESCRIPTION:Late night Piano Bar with John McGann in the Gleneagle Ballroom \n\n        \n            Attachments\n        YYff71ON (246 kB)
URL:https://killarneyadvertiser.ie/whats-on-killarney/late-night-piano-bar-with-john-mcgann-6/
LOCATION:Gleneagle INEC Arena\, Muckross Road\, Killarney\, V93 V6WF\, Ireland
CATEGORIES:Live Music
ATTACH;FMTTYPE=image/png:https://killarneyadvertiser.ie/wp-content/uploads/2022/03/inec_arena_logo_web.png
ORGANIZER;CN="Gleneagle INEC Arena":MAILTO:info@inec.ie
END:VEVENT
BEGIN:VEVENT
DTSTART;TZID=Europe/Dublin:20220528T213000
DTEND;TZID=Europe/Dublin:20220529T000000
DTSTAMP:20260421T053451
CREATED:20220517T091134Z
LAST-MODIFIED:20220517T091134Z
UID:44978-1653773400-1653782400@killarneyadvertiser.ie
SUMMARY:Aidan Moynihan
DESCRIPTION:Aidan Moynihan plays the Gleneagle Backstage Bar \n\n        \n            Attachments\n        YYff71ON (246 kB)
URL:https://killarneyadvertiser.ie/whats-on-killarney/aidan-moynihan-16/
LOCATION:Gleneagle INEC Arena\, Muckross Road\, Killarney\, V93 V6WF\, Ireland
CATEGORIES:Live Music
ATTACH;FMTTYPE=image/png:https://killarneyadvertiser.ie/wp-content/uploads/2022/03/inec_arena_logo_web.png
ORGANIZER;CN="Gleneagle INEC Arena":MAILTO:info@inec.ie
END:VEVENT
BEGIN:VEVENT
DTSTART;TZID=Europe/Dublin:20220527T233000
DTEND;TZID=Europe/Dublin:20220528T020000
DTSTAMP:20260421T053451
CREATED:20220517T091003Z
LAST-MODIFIED:20220517T091003Z
UID:44976-1653694200-1653703200@killarneyadvertiser.ie
SUMMARY:Late night Piano Bar with John McGann
DESCRIPTION:Late night Piano Bar with John McGann in the Gleneagle Ballroom \n\n        \n            Attachments\n        YYff71ON (246 kB)
URL:https://killarneyadvertiser.ie/whats-on-killarney/late-night-piano-bar-with-john-mcgann-5/
LOCATION:Gleneagle INEC Arena\, Muckross Road\, Killarney\, V93 V6WF\, Ireland
CATEGORIES:Live Music
ATTACH;FMTTYPE=image/png:https://killarneyadvertiser.ie/wp-content/uploads/2022/03/inec_arena_logo_web.png
ORGANIZER;CN="Gleneagle INEC Arena":MAILTO:info@inec.ie
END:VEVENT
BEGIN:VEVENT
DTSTART;TZID=Europe/Dublin:20220527T220000
DTEND;TZID=Europe/Dublin:20220528T000000
DTSTAMP:20260421T053451
CREATED:20220517T090811Z
LAST-MODIFIED:20220517T090811Z
UID:44974-1653688800-1653696000@killarneyadvertiser.ie
SUMMARY:Oracle
DESCRIPTION:Oracle perform in the Gleneagle Backstage Bar \n\n        \n            Attachments\n        YYff71ON (246 kB)
URL:https://killarneyadvertiser.ie/whats-on-killarney/oracle-2/
LOCATION:Gleneagle INEC Arena\, Muckross Road\, Killarney\, V93 V6WF\, Ireland
CATEGORIES:Live Music
ATTACH;FMTTYPE=image/png:https://killarneyadvertiser.ie/wp-content/uploads/2022/03/inec_arena_logo_web.png
ORGANIZER;CN="Gleneagle INEC Arena":MAILTO:info@inec.ie
END:VEVENT
BEGIN:VEVENT
DTSTART;TZID=Europe/Dublin:20220527T210000
DTEND;TZID=Europe/Dublin:20220527T230000
DTSTAMP:20260421T053451
CREATED:20220517T090719Z
LAST-MODIFIED:20220517T090719Z
UID:44973-1653685200-1653692400@killarneyadvertiser.ie
SUMMARY:Rósín O
DESCRIPTION:Four years since her last solo venture\, Róisín O is back with a bang\, creating a stir both on and off stage and plays the INEC Club \n\n        \n            Attachments\n        YYff71ON (246 kB)
URL:https://killarneyadvertiser.ie/whats-on-killarney/rosin-o/
LOCATION:Gleneagle INEC Arena\, Muckross Road\, Killarney\, V93 V6WF\, Ireland
CATEGORIES:Live Music
ATTACH;FMTTYPE=image/png:https://killarneyadvertiser.ie/wp-content/uploads/2022/03/inec_arena_logo_web.png
ORGANIZER;CN="Gleneagle INEC Arena":MAILTO:info@inec.ie
END:VEVENT
BEGIN:VEVENT
DTSTART;TZID=Europe/Dublin:20220526T213000
DTEND;TZID=Europe/Dublin:20220526T233000
DTSTAMP:20260421T053451
CREATED:20220517T090551Z
LAST-MODIFIED:20220517T090551Z
UID:44972-1653600600-1653607800@killarneyadvertiser.ie
SUMMARY:Tex Deegan
DESCRIPTION:Tex Deegan plays the Gleneagle Backstage Bar \n\n        \n            Attachments\n        YYff71ON (246 kB)
URL:https://killarneyadvertiser.ie/whats-on-killarney/tex-deegan-3/
LOCATION:Gleneagle INEC Arena\, Muckross Road\, Killarney\, V93 V6WF\, Ireland
CATEGORIES:Live Music
ATTACH;FMTTYPE=image/png:https://killarneyadvertiser.ie/wp-content/uploads/2022/03/inec_arena_logo_web.png
ORGANIZER;CN="Gleneagle INEC Arena":MAILTO:info@inec.ie
END:VEVENT
BEGIN:VEVENT
DTSTART;TZID=Europe/Dublin:20220525T213000
DTEND;TZID=Europe/Dublin:20220525T233000
DTSTAMP:20260421T053451
CREATED:20220517T090307Z
LAST-MODIFIED:20220517T090307Z
UID:44970-1653514200-1653521400@killarneyadvertiser.ie
SUMMARY:Aidan Moynihan
DESCRIPTION:Aidan Moynihan plays the Gleneagle Backstage Bar \n\n        \n            Attachments\n        YYff71ON (246 kB)
URL:https://killarneyadvertiser.ie/whats-on-killarney/aidan-moynihan-15/
LOCATION:Gleneagle INEC Arena\, Muckross Road\, Killarney\, V93 V6WF\, Ireland
CATEGORIES:Live Music
ATTACH;FMTTYPE=image/png:https://killarneyadvertiser.ie/wp-content/uploads/2022/03/inec_arena_logo_web.png
ORGANIZER;CN="Gleneagle INEC Arena":MAILTO:info@inec.ie
END:VEVENT
BEGIN:VEVENT
DTSTART;TZID=Europe/Dublin:20220525T200000
DTEND;TZID=Europe/Dublin:20220525T220000
DTSTAMP:20260421T053451
CREATED:20220517T090409Z
LAST-MODIFIED:20220517T090409Z
UID:44971-1653508800-1653516000@killarneyadvertiser.ie
SUMMARY:A Series of Short Plays by local Actors & Writers
DESCRIPTION:Four Esquires Productions present a series of 3 short plays featuring local actors. BIN WARS written and directed by Paddy Osbourne | THE DEAL BREAKER  written and directed by Brian Bowler | THE LETTER D written and directed by Brian Bowler \n\n        \n            Attachments\n        YYff71ON (246 kB)
URL:https://killarneyadvertiser.ie/whats-on-killarney/a-series-of-short-plays-by-local-actors-writers/
LOCATION:Gleneagle INEC Arena\, Muckross Road\, Killarney\, V93 V6WF\, Ireland
CATEGORIES:Arts
ATTACH;FMTTYPE=image/png:https://killarneyadvertiser.ie/wp-content/uploads/2022/03/inec_arena_logo_web.png
ORGANIZER;CN="Gleneagle INEC Arena":MAILTO:info@inec.ie
END:VEVENT
BEGIN:VEVENT
DTSTART;TZID=Europe/Dublin:20220524T213000
DTEND;TZID=Europe/Dublin:20220524T233000
DTSTAMP:20260421T053451
CREATED:20220517T090220Z
LAST-MODIFIED:20220517T090220Z
UID:44969-1653427800-1653435000@killarneyadvertiser.ie
SUMMARY:Ray K
DESCRIPTION:Ray K plays the Gleneagle Backstage Bar \n\n        \n            Attachments\n        YYff71ON (246 kB)
URL:https://killarneyadvertiser.ie/whats-on-killarney/ray-k-2/
LOCATION:Gleneagle INEC Arena\, Muckross Road\, Killarney\, V93 V6WF\, Ireland
CATEGORIES:Live Music
ATTACH;FMTTYPE=image/png:https://killarneyadvertiser.ie/wp-content/uploads/2022/03/inec_arena_logo_web.png
ORGANIZER;CN="Gleneagle INEC Arena":MAILTO:info@inec.ie
END:VEVENT
BEGIN:VEVENT
DTSTART;TZID=Europe/Dublin:20220523T213000
DTEND;TZID=Europe/Dublin:20220523T233000
DTSTAMP:20260421T053451
CREATED:20220517T090128Z
LAST-MODIFIED:20220517T090128Z
UID:44968-1653341400-1653348600@killarneyadvertiser.ie
SUMMARY:Barry McGrath
DESCRIPTION:Barry McGrath plays the Gleneagle Backstage Bar \n\n        \n            Attachments\n        YYff71ON (246 kB)
URL:https://killarneyadvertiser.ie/whats-on-killarney/barry-mcgrath-5/
LOCATION:Gleneagle INEC Arena\, Muckross Road\, Killarney\, V93 V6WF\, Ireland
CATEGORIES:Live Music
ATTACH;FMTTYPE=image/png:https://killarneyadvertiser.ie/wp-content/uploads/2022/03/inec_arena_logo_web.png
ORGANIZER;CN="Gleneagle INEC Arena":MAILTO:info@inec.ie
END:VEVENT
BEGIN:VEVENT
DTSTART;TZID=Europe/Dublin:20220522T223000
DTEND;TZID=Europe/Dublin:20220523T003000
DTSTAMP:20260421T053451
CREATED:20220516T105934Z
LAST-MODIFIED:20220516T105934Z
UID:44961-1653258600-1653265800@killarneyadvertiser.ie
SUMMARY:Dancing with Sturat Moyles
DESCRIPTION:Dancing in the Gleneagle Ballroom with Stuart Moyles \n\n        \n            Attachments\n        YYff71ON (246 kB)
URL:https://killarneyadvertiser.ie/whats-on-killarney/dancing-with-sturat-moyles/
LOCATION:Gleneagle INEC Arena\, Muckross Road\, Killarney\, V93 V6WF\, Ireland
CATEGORIES:Live Music
ATTACH;FMTTYPE=image/png:https://killarneyadvertiser.ie/wp-content/uploads/2022/03/inec_arena_logo_web.png
ORGANIZER;CN="Gleneagle INEC Arena":MAILTO:info@inec.ie
END:VEVENT
BEGIN:VEVENT
DTSTART;TZID=Europe/Dublin:20220522T203000
DTEND;TZID=Europe/Dublin:20220522T230000
DTSTAMP:20260421T053451
CREATED:20220516T105601Z
LAST-MODIFIED:20220516T105601Z
UID:44960-1653251400-1653260400@killarneyadvertiser.ie
SUMMARY:Michael English in Concert
DESCRIPTION:Michael English brings his Celebration Tour to the Gleneagle INEC Arena \n\n        \n            Attachments\n        YYff71ON (246 kB)
URL:https://killarneyadvertiser.ie/whats-on-killarney/michael-english-in-concert/
LOCATION:Gleneagle INEC Arena\, Muckross Road\, Killarney\, V93 V6WF\, Ireland
CATEGORIES:Live Music
ATTACH;FMTTYPE=image/png:https://killarneyadvertiser.ie/wp-content/uploads/2022/03/inec_arena_logo_web.png
ORGANIZER;CN="Gleneagle INEC Arena":MAILTO:info@inec.ie
END:VEVENT
BEGIN:VEVENT
DTSTART;TZID=Europe/Dublin:20220521T233000
DTEND;TZID=Europe/Dublin:20220522T020000
DTSTAMP:20260421T053451
CREATED:20220516T105450Z
LAST-MODIFIED:20220516T105450Z
UID:44959-1653175800-1653184800@killarneyadvertiser.ie
SUMMARY:Late night Piano Bar with John McGann
DESCRIPTION:Late night Piano Bar with John McGann in the Gleneagle Ballroom \n\n        \n            Attachments\n        YYff71ON (246 kB)
URL:https://killarneyadvertiser.ie/whats-on-killarney/late-night-piano-bar-with-john-mcgann-4/
LOCATION:Gleneagle INEC Arena\, Muckross Road\, Killarney\, V93 V6WF\, Ireland
CATEGORIES:Live Music
ATTACH;FMTTYPE=image/png:https://killarneyadvertiser.ie/wp-content/uploads/2022/03/inec_arena_logo_web.png
ORGANIZER;CN="Gleneagle INEC Arena":MAILTO:info@inec.ie
END:VEVENT
BEGIN:VEVENT
DTSTART;TZID=Europe/Dublin:20220521T210000
DTEND;TZID=Europe/Dublin:20220521T230000
DTSTAMP:20260421T053451
CREATED:20220516T105402Z
LAST-MODIFIED:20220516T105402Z
UID:44958-1653166800-1653174000@killarneyadvertiser.ie
SUMMARY:The Small Hours
DESCRIPTION:The Small Hours perform in the Backstage Bar \n\n        \n            Attachments\n        YYff71ON (246 kB)
URL:https://killarneyadvertiser.ie/whats-on-killarney/the-small-hours/
LOCATION:Gleneagle INEC Arena\, Muckross Road\, Killarney\, V93 V6WF\, Ireland
CATEGORIES:Live Music
ATTACH;FMTTYPE=image/png:https://killarneyadvertiser.ie/wp-content/uploads/2022/03/inec_arena_logo_web.png
ORGANIZER;CN="Gleneagle INEC Arena":MAILTO:info@inec.ie
END:VEVENT
BEGIN:VEVENT
DTSTART;TZID=Europe/Dublin:20220521T210000
DTEND;TZID=Europe/Dublin:20220521T230000
DTSTAMP:20260421T053451
CREATED:20220516T105315Z
LAST-MODIFIED:20220516T105315Z
UID:44957-1653166800-1653174000@killarneyadvertiser.ie
SUMMARY:Pauline Scanlon
DESCRIPTION:Pauline Scanlon performs in the INEC Club \n\n        \n            Attachments\n        YYff71ON (246 kB)
URL:https://killarneyadvertiser.ie/whats-on-killarney/pauline-scanlon/
LOCATION:Gleneagle INEC Arena\, Muckross Road\, Killarney\, V93 V6WF\, Ireland
CATEGORIES:Live Music
ATTACH;FMTTYPE=image/png:https://killarneyadvertiser.ie/wp-content/uploads/2022/03/inec_arena_logo_web.png
ORGANIZER;CN="Gleneagle INEC Arena":MAILTO:info@inec.ie
END:VEVENT
BEGIN:VEVENT
DTSTART;TZID=Europe/Dublin:20220521T200000
DTEND;TZID=Europe/Dublin:20220521T220000
DTSTAMP:20260421T053451
CREATED:20220516T105159Z
LAST-MODIFIED:20220516T105159Z
UID:44956-1653163200-1653170400@killarneyadvertiser.ie
SUMMARY:Jimmy Carr 'Terribly Funny'
DESCRIPTION:Jimmy’s brand-new show contains jokes about all kinds of terrible things. Terrible things that might have affected you or people you know and love. But they’re just jokes – they are not the terrible things. Having political correctness at a comedy show is like having health and safety at a rodeo. Now you’ve been warned\, buy a ticket. \n\n        \n            Attachments\n        YYff71ON (246 kB)
URL:https://killarneyadvertiser.ie/whats-on-killarney/jimmy-carr-terribly-funny/
LOCATION:Gleneagle INEC Arena\, Muckross Road\, Killarney\, V93 V6WF\, Ireland
CATEGORIES:Arts
ATTACH;FMTTYPE=image/png:https://killarneyadvertiser.ie/wp-content/uploads/2022/03/inec_arena_logo_web.png
ORGANIZER;CN="Gleneagle INEC Arena":MAILTO:info@inec.ie
END:VEVENT
BEGIN:VEVENT
DTSTART;TZID=Europe/Dublin:20220517T210000
DTEND;TZID=Europe/Dublin:20220517T230000
DTSTAMP:20260421T053451
CREATED:20220510T101903Z
LAST-MODIFIED:20220510T101903Z
UID:44823-1652821200-1652828400@killarneyadvertiser.ie
SUMMARY:Muriel O'Connor & Fran Curry Dance
DESCRIPTION:Muirel and Fran perform the Glenegale Ballroom \n\n        \n            Attachments\n        YYff71ON (246 kB)
URL:https://killarneyadvertiser.ie/whats-on-killarney/muriel-oconnor-fran-curry-dance/
LOCATION:Gleneagle INEC Arena\, Muckross Road\, Killarney\, V93 V6WF\, Ireland
CATEGORIES:Live Music
ATTACH;FMTTYPE=image/png:https://killarneyadvertiser.ie/wp-content/uploads/2022/03/inec_arena_logo_web.png
ORGANIZER;CN="Gleneagle INEC Arena":MAILTO:info@inec.ie
END:VEVENT
BEGIN:VEVENT
DTSTART;TZID=Europe/Dublin:20220516T210000
DTEND;TZID=Europe/Dublin:20220516T230000
DTSTAMP:20260421T053451
CREATED:20220510T101818Z
LAST-MODIFIED:20220510T101818Z
UID:44822-1652734800-1652742000@killarneyadvertiser.ie
SUMMARY:Best of Friends Dance
DESCRIPTION:Best of Friends perform in the Gleneagle Ballroom \n\n        \n            Attachments\n        YYff71ON (246 kB)
URL:https://killarneyadvertiser.ie/whats-on-killarney/best-of-friends-dance/
LOCATION:Gleneagle INEC Arena\, Muckross Road\, Killarney\, V93 V6WF\, Ireland
CATEGORIES:Live Music
ATTACH;FMTTYPE=image/png:https://killarneyadvertiser.ie/wp-content/uploads/2022/03/inec_arena_logo_web.png
ORGANIZER;CN="Gleneagle INEC Arena":MAILTO:info@inec.ie
END:VEVENT
BEGIN:VEVENT
DTSTART;TZID=Europe/Dublin:20220515T213000
DTEND;TZID=Europe/Dublin:20220515T233000
DTSTAMP:20260421T053451
CREATED:20220510T101723Z
LAST-MODIFIED:20220510T101723Z
UID:44821-1652650200-1652657400@killarneyadvertiser.ie
SUMMARY:Stuart Moyles
DESCRIPTION:Ballroom Dance with Stuart Moyles \n\n        \n            Attachments\n        YYff71ON (246 kB)
URL:https://killarneyadvertiser.ie/whats-on-killarney/stuart-moyles/
LOCATION:Gleneagle INEC Arena\, Muckross Road\, Killarney\, V93 V6WF\, Ireland
CATEGORIES:Live Music
ATTACH;FMTTYPE=image/png:https://killarneyadvertiser.ie/wp-content/uploads/2022/03/inec_arena_logo_web.png
ORGANIZER;CN="Gleneagle INEC Arena":MAILTO:info@inec.ie
END:VEVENT
BEGIN:VEVENT
DTSTART;TZID=Europe/Dublin:20220515T150000
DTEND;TZID=Europe/Dublin:20220515T170000
DTSTAMP:20260421T053451
CREATED:20220510T101608Z
LAST-MODIFIED:20220510T101608Z
UID:44820-1652626800-1652634000@killarneyadvertiser.ie
SUMMARY:Family Afternoon Dance with Nathan Carter
DESCRIPTION:Family Afternoon Dance in the Gleneagle INEC Arena with Nathan Carter & Band. Tickets only available on the door \n\n        \n            Attachments\n        YYff71ON (246 kB)
URL:https://killarneyadvertiser.ie/whats-on-killarney/family-afternoon-dance-with-nathan-carter/
LOCATION:Gleneagle INEC Arena\, Muckross Road\, Killarney\, V93 V6WF\, Ireland
CATEGORIES:Live Music
ATTACH;FMTTYPE=image/png:https://killarneyadvertiser.ie/wp-content/uploads/2022/03/inec_arena_logo_web.png
ORGANIZER;CN="Gleneagle INEC Arena":MAILTO:info@inec.ie
END:VEVENT
BEGIN:VEVENT
DTSTART;TZID=Europe/Dublin:20220514T233000
DTEND;TZID=Europe/Dublin:20220515T020000
DTSTAMP:20260421T053451
CREATED:20220510T095702Z
LAST-MODIFIED:20220510T095702Z
UID:44816-1652571000-1652580000@killarneyadvertiser.ie
SUMMARY:Dancing with Joe and Declan McShane
DESCRIPTION:Dancing in the Gleneagle Ballroom with Joe and Declan McShane \n\n        \n            Attachments\n        YYff71ON (246 kB)
URL:https://killarneyadvertiser.ie/whats-on-killarney/dancing-with-joe-and-declan-mcshane/
LOCATION:Gleneagle INEC Arena\, Muckross Road\, Killarney\, V93 V6WF\, Ireland
CATEGORIES:Live Music
ATTACH;FMTTYPE=image/png:https://killarneyadvertiser.ie/wp-content/uploads/2022/03/inec_arena_logo_web.png
ORGANIZER;CN="Gleneagle INEC Arena":MAILTO:info@inec.ie
END:VEVENT
END:VCALENDAR