BEGIN:VCALENDAR
VERSION:2.0
PRODID:-//Killarney Advertiser - ECPv6.8.2.1//NONSGML v1.0//EN
CALSCALE:GREGORIAN
METHOD:PUBLISH
X-WR-CALNAME:Killarney Advertiser
X-ORIGINAL-URL:https://killarneyadvertiser.ie
X-WR-CALDESC:Events for Killarney Advertiser
REFRESH-INTERVAL;VALUE=DURATION:PT1H
X-Robots-Tag:noindex
X-PUBLISHED-TTL:PT1H
BEGIN:VTIMEZONE
TZID:Europe/Dublin
BEGIN:STANDARD
TZOFFSETFROM:+0000
TZOFFSETTO:+0100
TZNAME:IST
DTSTART:20220327T010000
END:STANDARD
BEGIN:DAYLIGHT
TZOFFSETFROM:+0100
TZOFFSETTO:+0000
TZNAME:GMT
DTSTART:20221030T010000
END:DAYLIGHT
END:VTIMEZONE
BEGIN:VEVENT
DTSTART;TZID=Europe/Dublin:20220409T220000
DTEND;TZID=Europe/Dublin:20220410T000000
DTSTAMP:20260421T234731
CREATED:20220406T151442Z
LAST-MODIFIED:20220406T151502Z
UID:43987-1649541600-1649548800@killarneyadvertiser.ie
SUMMARY:Céilí with An Striolán Céilí Band
DESCRIPTION:Céilí with An Striolán Céilí band as part of the Gathering Traditional Festival. Tickets available on the door. \n\n        \n            Attachments\n        Dublin City Ramblers Web Images 420 x 273 (95 kB)
URL:https://killarneyadvertiser.ie/whats-on-killarney/ceili-with-an-striolan-ceili-band/
LOCATION:Gleneagle INEC Arena\, Muckross Road\, Killarney\, V93 V6WF\, Ireland
CATEGORIES:Live Music
ATTACH;FMTTYPE=image/png:https://killarneyadvertiser.ie/wp-content/uploads/2022/03/inec_arena_logo_web.png
ORGANIZER;CN="Gleneagle INEC Arena":MAILTO:info@inec.ie
END:VEVENT
BEGIN:VEVENT
DTSTART;TZID=Europe/Dublin:20220409T210000
DTEND;TZID=Europe/Dublin:20220410T000000
DTSTAMP:20260421T234731
CREATED:20220405T143549Z
LAST-MODIFIED:20220405T143549Z
UID:43925-1649538000-1649548800@killarneyadvertiser.ie
SUMMARY:High Tide
DESCRIPTION:Attachments\n        Dublin City Ramblers Web Images 420 x 273 (95 kB)
URL:https://killarneyadvertiser.ie/whats-on-killarney/high-tide/
LOCATION:J.M. Reidys\, 4 Main Street\, Killarney\, V93 CC82\, Ireland
CATEGORIES:Live Music
ATTACH;FMTTYPE=image/jpeg:https://killarneyadvertiser.ie/wp-content/uploads/2022/03/JM-Reidy-1.jpeg
ORGANIZER;CN="J.M. Reidys":MAILTO:info@reidyskillarney.com
END:VEVENT
BEGIN:VEVENT
DTSTART;TZID=Europe/Dublin:20220409T210000
DTEND;TZID=Europe/Dublin:20220410T000000
DTSTAMP:20260421T234731
CREATED:20220405T143503Z
LAST-MODIFIED:20220405T143503Z
UID:43924-1649538000-1649548800@killarneyadvertiser.ie
SUMMARY:Rachel O'Shaughnessy
DESCRIPTION:Attachments\n        Dublin City Ramblers Web Images 420 x 273 (95 kB)
URL:https://killarneyadvertiser.ie/whats-on-killarney/rachel-oshaughnessy-2/
LOCATION:J.M. Reidys\, 4 Main Street\, Killarney\, V93 CC82\, Ireland
CATEGORIES:Live Music
ATTACH;FMTTYPE=image/jpeg:https://killarneyadvertiser.ie/wp-content/uploads/2022/03/JM-Reidy-1.jpeg
ORGANIZER;CN="J.M. Reidys":MAILTO:info@reidyskillarney.com
END:VEVENT
BEGIN:VEVENT
DTSTART;TZID=Europe/Dublin:20220409T210000
DTEND;TZID=Europe/Dublin:20220409T230000
DTSTAMP:20260421T234731
CREATED:20220406T150646Z
LAST-MODIFIED:20220406T150646Z
UID:43986-1649538000-1649545200@killarneyadvertiser.ie
SUMMARY:Danú & Johnny Óg Connolly
DESCRIPTION:Danú and Johnny Óg Connolly perform a double headline show as part of the Gathering Traditional Festival. Tickets available on the door. \n\n        \n            Attachments\n        Dublin City Ramblers Web Images 420 x 273 (95 kB)
URL:https://killarneyadvertiser.ie/whats-on-killarney/danu-johnny-og-connolly/
LOCATION:Gleneagle INEC Arena\, Muckross Road\, Killarney\, V93 V6WF\, Ireland
CATEGORIES:Concert
ATTACH;FMTTYPE=image/png:https://killarneyadvertiser.ie/wp-content/uploads/2022/03/inec_arena_logo_web.png
ORGANIZER;CN="Gleneagle INEC Arena":MAILTO:info@inec.ie
END:VEVENT
BEGIN:VEVENT
DTSTART;TZID=Europe/Dublin:20220409T210000
DTEND;TZID=Europe/Dublin:20220409T230000
DTSTAMP:20260421T234731
CREATED:20220405T141233Z
LAST-MODIFIED:20220405T142901Z
UID:43915-1649538000-1649545200@killarneyadvertiser.ie
SUMMARY:Live Music
DESCRIPTION:Live music in the Courtyard with Zedz Dead and Sharon Langston trad band in the Main Bar. \n\n        \n            Attachments\n        Dublin City Ramblers Web Images 420 x 273 (95 kB)
URL:https://killarneyadvertiser.ie/whats-on-killarney/live-music-6/
LOCATION:Scotts Bar and Courtyard\, Scotts Street\, Killarney\, V93 CF30\, Ireland
CATEGORIES:Live Music
ATTACH;FMTTYPE=image/jpeg:https://killarneyadvertiser.ie/wp-content/uploads/2022/03/190510_COMMERCIAL_ScottsLowRes_47.jpg
ORGANIZER;CN="Scotts Bar and Courtyard":MAILTO:info@scottshotelkillarney.com
END:VEVENT
BEGIN:VEVENT
DTSTART;TZID=Europe/Dublin:20220409T200000
DTEND;TZID=Europe/Dublin:20220410T020000
DTSTAMP:20260421T234731
CREATED:20220406T111217Z
LAST-MODIFIED:20220406T111217Z
UID:43957-1649534400-1649556000@killarneyadvertiser.ie
SUMMARY:Bar and Club Open
DESCRIPTION:Attachments\n        Dublin City Ramblers Web Images 420 x 273 (95 kB)
URL:https://killarneyadvertiser.ie/whats-on-killarney/bar-and-club-open-2/
LOCATION:Social15\, 15 Main Street\, Killarney\, V93 P46Y\, Ireland
CATEGORIES:Live Music
ATTACH;FMTTYPE=image/png:https://killarneyadvertiser.ie/wp-content/uploads/2022/03/social_15_logo_web.png
ORGANIZER;CN="Social15":MAILTO:info@social15.ie
END:VEVENT
BEGIN:VEVENT
DTSTART;TZID=Europe/Dublin:20220409T180000
DTEND;TZID=Europe/Dublin:20220410T020000
DTSTAMP:20260421T234731
CREATED:20220406T113041Z
LAST-MODIFIED:20220406T113041Z
UID:43967-1649527200-1649556000@killarneyadvertiser.ie
SUMMARY:Bar and Beer Garden
DESCRIPTION:Attachments\n        Dublin City Ramblers Web Images 420 x 273 (95 kB)
URL:https://killarneyadvertiser.ie/whats-on-killarney/bar-and-beer-garden-2/
LOCATION:McSorleys Bar & Nightclub
CATEGORIES:Live Music
ATTACH;FMTTYPE=image/png:https://killarneyadvertiser.ie/wp-content/uploads/2022/04/mcsorleys.png
END:VEVENT
BEGIN:VEVENT
DTSTART;TZID=Europe/Dublin:20220409T100000
DTEND;TZID=Europe/Dublin:20220409T150000
DTSTAMP:20260421T234731
CREATED:20220406T150526Z
LAST-MODIFIED:20220406T150526Z
UID:43984-1649498400-1649516400@killarneyadvertiser.ie
SUMMARY:Traditional Singers Workshop
DESCRIPTION:Traditional Singers Workshop with Rósiín Ryan. Prebook by calling John O’Shea 087 2348824 \n\n        \n            Attachments\n        Dublin City Ramblers Web Images 420 x 273 (95 kB)
URL:https://killarneyadvertiser.ie/whats-on-killarney/traditional-singers-workshop/
LOCATION:Gleneagle INEC Arena\, Muckross Road\, Killarney\, V93 V6WF\, Ireland
CATEGORIES:Arts
ATTACH;FMTTYPE=image/png:https://killarneyadvertiser.ie/wp-content/uploads/2022/03/inec_arena_logo_web.png
ORGANIZER;CN="Gleneagle INEC Arena":MAILTO:info@inec.ie
END:VEVENT
BEGIN:VEVENT
DTSTART;TZID=Europe/Dublin:20220409T100000
DTEND;TZID=Europe/Dublin:20220409T150000
DTSTAMP:20260421T234731
CREATED:20220406T150352Z
LAST-MODIFIED:20220406T150352Z
UID:43983-1649498400-1649516400@killarneyadvertiser.ie
SUMMARY:Guitar Workshop
DESCRIPTION:Guitar Workshop with Steve Cooney. Prebook by calling John O’Shea 087 2348824 \n\n        \n            Attachments\n        Dublin City Ramblers Web Images 420 x 273 (95 kB)
URL:https://killarneyadvertiser.ie/whats-on-killarney/guitar-workshop/
LOCATION:Gleneagle INEC Arena\, Muckross Road\, Killarney\, V93 V6WF\, Ireland
CATEGORIES:Arts
ATTACH;FMTTYPE=image/png:https://killarneyadvertiser.ie/wp-content/uploads/2022/03/inec_arena_logo_web.png
ORGANIZER;CN="Gleneagle INEC Arena":MAILTO:info@inec.ie
END:VEVENT
BEGIN:VEVENT
DTSTART;TZID=Europe/Dublin:20220409T100000
DTEND;TZID=Europe/Dublin:20220409T150000
DTSTAMP:20260421T234731
CREATED:20220406T150230Z
LAST-MODIFIED:20220406T150230Z
UID:43982-1649498400-1649516400@killarneyadvertiser.ie
SUMMARY:Melodeon Workshop
DESCRIPTION:Melodeon Workshop with Johnny Óg Connolly – not for beginners. Prebook by calling John O’Shea 087 2348824 \n\n        \n            Attachments\n        Dublin City Ramblers Web Images 420 x 273 (95 kB)
URL:https://killarneyadvertiser.ie/whats-on-killarney/melodeon-workshop/
LOCATION:Gleneagle INEC Arena\, Muckross Road\, Killarney\, V93 V6WF\, Ireland
CATEGORIES:Arts
ATTACH;FMTTYPE=image/png:https://killarneyadvertiser.ie/wp-content/uploads/2022/03/inec_arena_logo_web.png
ORGANIZER;CN="Gleneagle INEC Arena":MAILTO:info@inec.ie
END:VEVENT
BEGIN:VEVENT
DTSTART;TZID=Europe/Dublin:20220409T100000
DTEND;TZID=Europe/Dublin:20220409T150000
DTSTAMP:20260421T234731
CREATED:20220406T150126Z
LAST-MODIFIED:20220406T150126Z
UID:43981-1649498400-1649516400@killarneyadvertiser.ie
SUMMARY:Set Dancing Workshop
DESCRIPTION:Set Dancing Workshop with Pádraig and Róisín McEananey – not for beginners. Prebook by calling John O’Shea 087 2348824 \n\n        \n            Attachments\n        Dublin City Ramblers Web Images 420 x 273 (95 kB)
URL:https://killarneyadvertiser.ie/whats-on-killarney/set-dancing-workshop/
LOCATION:Gleneagle INEC Arena\, Muckross Road\, Killarney\, V93 V6WF\, Ireland
CATEGORIES:Arts
ATTACH;FMTTYPE=image/png:https://killarneyadvertiser.ie/wp-content/uploads/2022/03/inec_arena_logo_web.png
ORGANIZER;CN="Gleneagle INEC Arena":MAILTO:info@inec.ie
END:VEVENT
BEGIN:VEVENT
DTSTART;TZID=Europe/Dublin:20220408T220000
DTEND;TZID=Europe/Dublin:20220409T000000
DTSTAMP:20260421T234731
CREATED:20220406T143851Z
LAST-MODIFIED:20220406T143851Z
UID:43978-1649455200-1649462400@killarneyadvertiser.ie
SUMMARY:The Gathering Traditional Festival Concert
DESCRIPTION:Music Session with Connie Moynihan\, Ger Culhane & Mike Rice perform as part of the Gathering Traditional Festival \n\n        \n            Attachments\n        Dublin City Ramblers Web Images 420 x 273 (95 kB)
URL:https://killarneyadvertiser.ie/whats-on-killarney/the-gathering-traditional-festival-concert-3/
LOCATION:Gleneagle INEC Arena\, Muckross Road\, Killarney\, V93 V6WF\, Ireland
CATEGORIES:Concert
ATTACH;FMTTYPE=image/png:https://killarneyadvertiser.ie/wp-content/uploads/2022/03/inec_arena_logo_web.png
ORGANIZER;CN="Gleneagle INEC Arena":MAILTO:info@inec.ie
END:VEVENT
BEGIN:VEVENT
DTSTART;TZID=Europe/Dublin:20220408T220000
DTEND;TZID=Europe/Dublin:20220409T000000
DTSTAMP:20260421T234731
CREATED:20220406T143431Z
LAST-MODIFIED:20220406T143431Z
UID:43976-1649455200-1649462400@killarneyadvertiser.ie
SUMMARY:Céilí with Johnny Reidy Céilí Band
DESCRIPTION:Céilí with Johnny Reidy Céilí Band perform as part of the Gathering Traditional Festival. Tickets available on the door. \n\n        \n            Attachments\n        Dublin City Ramblers Web Images 420 x 273 (95 kB)
URL:https://killarneyadvertiser.ie/whats-on-killarney/ceili-with-johnny-reidy-ceili-band/
LOCATION:Gleneagle INEC Arena\, Muckross Road\, Killarney\, V93 V6WF\, Ireland
CATEGORIES:Concert
ATTACH;FMTTYPE=image/png:https://killarneyadvertiser.ie/wp-content/uploads/2022/03/inec_arena_logo_web.png
ORGANIZER;CN="Gleneagle INEC Arena":MAILTO:info@inec.ie
END:VEVENT
BEGIN:VEVENT
DTSTART;TZID=Europe/Dublin:20220408T210000
DTEND;TZID=Europe/Dublin:20220409T000000
DTSTAMP:20260421T234731
CREATED:20220405T143408Z
LAST-MODIFIED:20220405T143408Z
UID:43923-1649451600-1649462400@killarneyadvertiser.ie
SUMMARY:Aidan Moynihan
DESCRIPTION:Attachments\n        Dublin City Ramblers Web Images 420 x 273 (95 kB)
URL:https://killarneyadvertiser.ie/whats-on-killarney/aidan-moynihan-7/
LOCATION:J.M. Reidys\, 4 Main Street\, Killarney\, V93 CC82\, Ireland
CATEGORIES:Live Music
ATTACH;FMTTYPE=image/jpeg:https://killarneyadvertiser.ie/wp-content/uploads/2022/03/JM-Reidy-1.jpeg
ORGANIZER;CN="J.M. Reidys":MAILTO:info@reidyskillarney.com
END:VEVENT
BEGIN:VEVENT
DTSTART;TZID=Europe/Dublin:20220408T210000
DTEND;TZID=Europe/Dublin:20220408T230000
DTSTAMP:20260421T234731
CREATED:20220406T143223Z
LAST-MODIFIED:20220406T143223Z
UID:43975-1649451600-1649458800@killarneyadvertiser.ie
SUMMARY:Iarla O'Lionáird & Steve Cooney
DESCRIPTION:Iarla O’Lionáird & Steve Cooney perform as part of the Gathering Traditional Festival. Tickets available on the door. \n\n        \n            Attachments\n        Dublin City Ramblers Web Images 420 x 273 (95 kB)
URL:https://killarneyadvertiser.ie/whats-on-killarney/iarla-olionaird-steve-cooney/
LOCATION:Gleneagle INEC Arena\, Muckross Road\, Killarney\, V93 V6WF\, Ireland
CATEGORIES:Concert
ATTACH;FMTTYPE=image/png:https://killarneyadvertiser.ie/wp-content/uploads/2022/03/inec_arena_logo_web.png
ORGANIZER;CN="Gleneagle INEC Arena":MAILTO:info@inec.ie
END:VEVENT
BEGIN:VEVENT
DTSTART;TZID=Europe/Dublin:20220408T210000
DTEND;TZID=Europe/Dublin:20220408T230000
DTSTAMP:20260421T234731
CREATED:20220405T141131Z
LAST-MODIFIED:20220405T142935Z
UID:43914-1649451600-1649458800@killarneyadvertiser.ie
SUMMARY:Live Music
DESCRIPTION:Live music in the Courtyard with Alan Flynn and Ivan Ryan in the Main Bar. \n\n        \n            Attachments\n        Dublin City Ramblers Web Images 420 x 273 (95 kB)
URL:https://killarneyadvertiser.ie/whats-on-killarney/live-music-5/
LOCATION:Scotts Bar and Courtyard\, Scotts Street\, Killarney\, V93 CF30\, Ireland
CATEGORIES:Live Music
ATTACH;FMTTYPE=image/jpeg:https://killarneyadvertiser.ie/wp-content/uploads/2022/03/190510_COMMERCIAL_ScottsLowRes_47.jpg
ORGANIZER;CN="Scotts Bar and Courtyard":MAILTO:info@scottshotelkillarney.com
END:VEVENT
BEGIN:VEVENT
DTSTART;TZID=Europe/Dublin:20220408T200000
DTEND;TZID=Europe/Dublin:20220409T020000
DTSTAMP:20260421T234731
CREATED:20220406T111023Z
LAST-MODIFIED:20220406T111023Z
UID:43956-1649448000-1649469600@killarneyadvertiser.ie
SUMMARY:FUNKTION House Event
DESCRIPTION:Main Bar. \n\n        \n            Attachments\n        Dublin City Ramblers Web Images 420 x 273 (95 kB)
URL:https://killarneyadvertiser.ie/whats-on-killarney/funktion-house-event-2/
LOCATION:Social15\, 15 Main Street\, Killarney\, V93 P46Y\, Ireland
CATEGORIES:Live Music
ATTACH;FMTTYPE=image/png:https://killarneyadvertiser.ie/wp-content/uploads/2022/03/social_15_logo_web.png
ORGANIZER;CN="Social15":MAILTO:info@social15.ie
END:VEVENT
BEGIN:VEVENT
DTSTART;TZID=Europe/Dublin:20220408T200000
DTEND;TZID=Europe/Dublin:20220408T220000
DTSTAMP:20260421T234731
CREATED:20220406T143711Z
LAST-MODIFIED:20220406T143711Z
UID:43977-1649448000-1649455200@killarneyadvertiser.ie
SUMMARY:The Gathering Traditional Festival Concert
DESCRIPTION:Music Session with Martina\, Grace\, Olivia\, Coleen & Séan Hyland performs as part of the Gathering Traditional Festival. \n\n        \n            Attachments\n        Dublin City Ramblers Web Images 420 x 273 (95 kB)
URL:https://killarneyadvertiser.ie/whats-on-killarney/the-gathering-traditional-festival-concert-2/
LOCATION:Gleneagle INEC Arena\, Muckross Road\, Killarney\, V93 V6WF\, Ireland
CATEGORIES:Concert
ATTACH;FMTTYPE=image/png:https://killarneyadvertiser.ie/wp-content/uploads/2022/03/inec_arena_logo_web.png
ORGANIZER;CN="Gleneagle INEC Arena":MAILTO:info@inec.ie
END:VEVENT
BEGIN:VEVENT
DTSTART;TZID=Europe/Dublin:20220408T180000
DTEND;TZID=Europe/Dublin:20220409T020000
DTSTAMP:20260421T234731
CREATED:20220406T112933Z
LAST-MODIFIED:20220406T112933Z
UID:43966-1649440800-1649469600@killarneyadvertiser.ie
SUMMARY:Bar and Beer Garden
DESCRIPTION:Attachments\n        Dublin City Ramblers Web Images 420 x 273 (95 kB)
URL:https://killarneyadvertiser.ie/whats-on-killarney/bar-and-beer-garden/
LOCATION:McSorleys Bar & Nightclub
ATTACH;FMTTYPE=image/png:https://killarneyadvertiser.ie/wp-content/uploads/2022/04/mcsorleys.png
END:VEVENT
BEGIN:VEVENT
DTSTART;TZID=Europe/Dublin:20220407T210000
DTEND;TZID=Europe/Dublin:20220407T220000
DTSTAMP:20260421T234731
CREATED:20220406T142856Z
LAST-MODIFIED:20220406T143031Z
UID:43973-1649365200-1649368800@killarneyadvertiser.ie
SUMMARY:The Gathering Traditional Festival Concert
DESCRIPTION:Doireann Ní Ghlachain & Sarah Collins. Tickets available on the door. \n\n        \n            Attachments\n        Dublin City Ramblers Web Images 420 x 273 (95 kB)
URL:https://killarneyadvertiser.ie/whats-on-killarney/the-gathering-traditional-festival-concert/
LOCATION:Gleneagle INEC Arena\, Muckross Road\, Killarney\, V93 V6WF\, Ireland
CATEGORIES:Concert
ATTACH;FMTTYPE=image/png:https://killarneyadvertiser.ie/wp-content/uploads/2022/03/inec_arena_logo_web.png
ORGANIZER;CN="Gleneagle INEC Arena":MAILTO:info@inec.ie
END:VEVENT
BEGIN:VEVENT
DTSTART;TZID=Europe/Dublin:20220407T200000
DTEND;TZID=Europe/Dublin:20220408T020000
DTSTAMP:20260421T234731
CREATED:20220406T110751Z
LAST-MODIFIED:20220406T110833Z
UID:43955-1649361600-1649383200@killarneyadvertiser.ie
SUMMARY:Hospitality Night
DESCRIPTION:Attachments\n        Dublin City Ramblers Web Images 420 x 273 (95 kB)
URL:https://killarneyadvertiser.ie/whats-on-killarney/hospitality-night-2/
LOCATION:Social15\, 15 Main Street\, Killarney\, V93 P46Y\, Ireland
CATEGORIES:Live Music
ATTACH;FMTTYPE=image/png:https://killarneyadvertiser.ie/wp-content/uploads/2022/03/social_15_logo_web.png
ORGANIZER;CN="Social15":MAILTO:info@social15.ie
END:VEVENT
BEGIN:VEVENT
DTSTART;TZID=Europe/Dublin:20220407T200000
DTEND;TZID=Europe/Dublin:20220407T230000
DTSTAMP:20260421T234731
CREATED:20220405T143301Z
LAST-MODIFIED:20220405T143301Z
UID:43922-1649361600-1649372400@killarneyadvertiser.ie
SUMMARY:Aidan Moynihan
DESCRIPTION:Attachments\n        Dublin City Ramblers Web Images 420 x 273 (95 kB)
URL:https://killarneyadvertiser.ie/whats-on-killarney/aidan-moynihan-6/
LOCATION:J.M. Reidys\, 4 Main Street\, Killarney\, V93 CC82\, Ireland
ATTACH;FMTTYPE=image/jpeg:https://killarneyadvertiser.ie/wp-content/uploads/2022/03/JM-Reidy-1.jpeg
ORGANIZER;CN="J.M. Reidys":MAILTO:info@reidyskillarney.com
END:VEVENT
BEGIN:VEVENT
DTSTART;TZID=Europe/Dublin:20220407T000000
DTEND;TZID=Europe/Dublin:20220408T220000
DTSTAMP:20260421T234731
CREATED:20220406T142436Z
LAST-MODIFIED:20220406T142436Z
UID:43970-1649289600-1649455200@killarneyadvertiser.ie
SUMMARY:The Gathering Traditional Festival Céilí
DESCRIPTION:Uí Bhriain Céilí band perform as part of the Gathering Traditional Festival. Tickets available on the door. \n\n        \n            Attachments\n        Dublin City Ramblers Web Images 420 x 273 (95 kB)
URL:https://killarneyadvertiser.ie/whats-on-killarney/the-gathering-traditional-festival-ceili/
LOCATION:Gleneagle INEC Arena\, Muckross Road\, Killarney\, V93 V6WF\, Ireland
CATEGORIES:Concert
ATTACH;FMTTYPE=image/png:https://killarneyadvertiser.ie/wp-content/uploads/2022/03/inec_arena_logo_web.png
ORGANIZER;CN="Gleneagle INEC Arena":MAILTO:info@inec.ie
END:VEVENT
BEGIN:VEVENT
DTSTART;TZID=Europe/Dublin:20220406T213000
DTEND;TZID=Europe/Dublin:20220406T233000
DTSTAMP:20260421T234731
CREATED:20220330T105252Z
LAST-MODIFIED:20220405T160003Z
UID:43797-1649280600-1649287800@killarneyadvertiser.ie
SUMMARY:Best of Friends
DESCRIPTION:Best of Friends Plays the Gleneagle Ballroom. \n\n        \n            Attachments\n        Dublin City Ramblers Web Images 420 x 273 (95 kB)
URL:https://killarneyadvertiser.ie/whats-on-killarney/best-of-friends/
LOCATION:Gleneagle INEC Arena\, Muckross Road\, Killarney\, V93 V6WF\, Ireland
CATEGORIES:Live Music
ATTACH;FMTTYPE=image/png:https://killarneyadvertiser.ie/wp-content/uploads/2022/03/inec_arena_logo_web.png
ORGANIZER;CN="Gleneagle INEC Arena":MAILTO:info@inec.ie
END:VEVENT
BEGIN:VEVENT
DTSTART;TZID=Europe/Dublin:20220406T200000
DTEND;TZID=Europe/Dublin:20220406T230000
DTSTAMP:20260421T234731
CREATED:20220405T143222Z
LAST-MODIFIED:20220405T143222Z
UID:43921-1649275200-1649286000@killarneyadvertiser.ie
SUMMARY:Darren Griffin
DESCRIPTION:Attachments\n        Dublin City Ramblers Web Images 420 x 273 (95 kB)
URL:https://killarneyadvertiser.ie/whats-on-killarney/darren-griffin-2/
LOCATION:J.M. Reidys\, 4 Main Street\, Killarney\, V93 CC82\, Ireland
CATEGORIES:Live Music
ATTACH;FMTTYPE=image/jpeg:https://killarneyadvertiser.ie/wp-content/uploads/2022/03/JM-Reidy-1.jpeg
ORGANIZER;CN="J.M. Reidys":MAILTO:info@reidyskillarney.com
END:VEVENT
BEGIN:VEVENT
DTSTART;TZID=Europe/Dublin:20220405T213000
DTEND;TZID=Europe/Dublin:20220405T233000
DTSTAMP:20260421T234731
CREATED:20220330T105201Z
LAST-MODIFIED:20220405T155915Z
UID:43796-1649194200-1649201400@killarneyadvertiser.ie
SUMMARY:Robin Turner
DESCRIPTION:Robin Turner plays the Gleneagle Backstage Bar. \n\n        \n            Attachments\n        Dublin City Ramblers Web Images 420 x 273 (95 kB)
URL:https://killarneyadvertiser.ie/whats-on-killarney/robin-turner/
LOCATION:J.M. Reidys\, 4 Main Street\, Killarney\, V93 CC82\, Ireland
ATTACH;FMTTYPE=image/png:https://killarneyadvertiser.ie/wp-content/uploads/2022/03/inec_arena_logo_web.png
ORGANIZER;CN="J.M. Reidys":MAILTO:info@reidyskillarney.com
END:VEVENT
BEGIN:VEVENT
DTSTART;TZID=Europe/Dublin:20220405T200000
DTEND;TZID=Europe/Dublin:20220405T230000
DTSTAMP:20260421T234731
CREATED:20220330T112228Z
LAST-MODIFIED:20220330T112228Z
UID:43809-1649188800-1649199600@killarneyadvertiser.ie
SUMMARY:Aidan Moynihan
DESCRIPTION:Attachments\n        Dublin City Ramblers Web Images 420 x 273 (95 kB)
URL:https://killarneyadvertiser.ie/whats-on-killarney/aidan-moynihan-5/
LOCATION:J.M. Reidys\, 4 Main Street\, Killarney\, V93 CC82\, Ireland
CATEGORIES:Live Music
ATTACH;FMTTYPE=image/jpeg:https://killarneyadvertiser.ie/wp-content/uploads/2022/03/JM-Reidy-1.jpeg
ORGANIZER;CN="J.M. Reidys":MAILTO:info@reidyskillarney.com
END:VEVENT
BEGIN:VEVENT
DTSTART;TZID=Europe/Dublin:20220404T213000
DTEND;TZID=Europe/Dublin:20220404T233000
DTSTAMP:20260421T234731
CREATED:20220330T105049Z
LAST-MODIFIED:20220330T142340Z
UID:43795-1649107800-1649115000@killarneyadvertiser.ie
SUMMARY:Aidan Moynihan
DESCRIPTION:Aidan Moynihan plays the Gleneagle Backstage Bar. \n\n        \n            Attachments\n        Dublin City Ramblers Web Images 420 x 273 (95 kB)
URL:https://killarneyadvertiser.ie/whats-on-killarney/aidan-moynihan-3/
LOCATION:Gleneagle INEC Arena\, Muckross Road\, Killarney\, V93 V6WF\, Ireland
CATEGORIES:Live Music
ATTACH;FMTTYPE=image/jpeg:https://killarneyadvertiser.ie/wp-content/uploads/2022/03/INEC-Ticketmaster-Logo-720x405-1-e1647251187524.jpeg
ORGANIZER;CN="Gleneagle INEC Arena":MAILTO:info@inec.ie
END:VEVENT
BEGIN:VEVENT
DTSTART;TZID=Europe/Dublin:20220403T210000
DTEND;TZID=Europe/Dublin:20220404T010000
DTSTAMP:20260421T234731
CREATED:20220330T104746Z
LAST-MODIFIED:20220330T104833Z
UID:43793-1649019600-1649034000@killarneyadvertiser.ie
SUMMARY:Lisdoonvarna Reunion weekend
DESCRIPTION:Lisdoonvarna Reunion Weekend with Peter Bourke and Teddy Barry. Tickets available on the door. \n\n        \n            Attachments\n        Dublin City Ramblers Web Images 420 x 273 (95 kB)
URL:https://killarneyadvertiser.ie/whats-on-killarney/lisdoonvarna-reunion-weekend-3/
LOCATION:Gleneagle INEC Arena\, Muckross Road\, Killarney\, V93 V6WF\, Ireland
CATEGORIES:Community
ATTACH;FMTTYPE=image/jpeg:https://killarneyadvertiser.ie/wp-content/uploads/2022/03/INEC-Ticketmaster-Logo-720x405-1-e1647251187524.jpeg
ORGANIZER;CN="Gleneagle INEC Arena":MAILTO:info@inec.ie
END:VEVENT
BEGIN:VEVENT
DTSTART;TZID=Europe/Dublin:20220403T210000
DTEND;TZID=Europe/Dublin:20220403T230000
DTSTAMP:20260421T234731
CREATED:20220330T114859Z
LAST-MODIFIED:20220330T114859Z
UID:43814-1649019600-1649026800@killarneyadvertiser.ie
SUMMARY:Live Music
DESCRIPTION:Live music in the main bar with Ivan Ryan. \n\n        \n            Attachments\n        Dublin City Ramblers Web Images 420 x 273 (95 kB)
URL:https://killarneyadvertiser.ie/whats-on-killarney/live-music-4/
LOCATION:Scotts Bar and Courtyard\, Scotts Street\, Killarney\, V93 CF30\, Ireland
CATEGORIES:Live Music
ATTACH;FMTTYPE=image/jpeg:https://killarneyadvertiser.ie/wp-content/uploads/2022/03/190510_COMMERCIAL_ScottsLowRes_47.jpg
ORGANIZER;CN="Scotts Bar and Courtyard":MAILTO:info@scottshotelkillarney.com
END:VEVENT
END:VCALENDAR