BEGIN:VCALENDAR
VERSION:2.0
PRODID:-//Killarney Advertiser - ECPv6.8.2.1//NONSGML v1.0//EN
CALSCALE:GREGORIAN
METHOD:PUBLISH
X-WR-CALNAME:Killarney Advertiser
X-ORIGINAL-URL:https://killarneyadvertiser.ie
X-WR-CALDESC:Events for Killarney Advertiser
REFRESH-INTERVAL;VALUE=DURATION:PT1H
X-Robots-Tag:noindex
X-PUBLISHED-TTL:PT1H
BEGIN:VTIMEZONE
TZID:Europe/Dublin
BEGIN:STANDARD
TZOFFSETFROM:+0000
TZOFFSETTO:+0100
TZNAME:IST
DTSTART:20220327T010000
END:STANDARD
BEGIN:DAYLIGHT
TZOFFSETFROM:+0100
TZOFFSETTO:+0000
TZNAME:GMT
DTSTART:20221030T010000
END:DAYLIGHT
END:VTIMEZONE
BEGIN:VEVENT
DTSTART;TZID=Europe/Dublin:20220826T233000
DTEND;TZID=Europe/Dublin:20220827T013000
DTSTAMP:20260421T065434
CREATED:20220824T102856Z
LAST-MODIFIED:20220824T102856Z
UID:47596-1661556600-1661563800@killarneyadvertiser.ie
SUMMARY:Marc Roberts
DESCRIPTION:Late night entertainment with Marc Roberts in the Gleneagle Green Room. \n\n        \n            Attachments\n        4th July 2023 A3 Poster (605 kB)
URL:https://killarneyadvertiser.ie/whats-on-killarney/marc-roberts/
LOCATION:Gleneagle INEC Arena\, Muckross Road\, Killarney\, V93 V6WF\, Ireland
CATEGORIES:Live Music
ATTACH;FMTTYPE=image/jpeg:https://killarneyadvertiser.ie/wp-content/uploads/2022/08/INEC-Daniel-ODonnell-Post-Friday-1.jpg
ORGANIZER;CN="Gleneagle INEC Arena":MAILTO:info@inec.ie
END:VEVENT
BEGIN:VEVENT
DTSTART;TZID=Europe/Dublin:20220827T220000
DTEND;TZID=Europe/Dublin:20220828T000000
DTSTAMP:20260421T065434
CREATED:20220824T102228Z
LAST-MODIFIED:20220824T102228Z
UID:47588-1661637600-1661644800@killarneyadvertiser.ie
SUMMARY:Dancing with Michael Collins
DESCRIPTION:Dancing to Michael Collins in the Gleneagle Ballroom.  Free for Daniel O’Donnell ticket holders otherwise €10 on the door. \n\n        \n            Attachments\n        4th July 2023 A3 Poster (605 kB)
URL:https://killarneyadvertiser.ie/whats-on-killarney/dancing-with-michael-collins/
LOCATION:Gleneagle INEC Arena\, Muckross Road\, Killarney\, V93 V6WF\, Ireland
CATEGORIES:Live Music
ATTACH;FMTTYPE=image/jpeg:https://killarneyadvertiser.ie/wp-content/uploads/2022/08/INEC-Daniel-ODonnell-Post-Saturday.jpg
ORGANIZER;CN="Gleneagle INEC Arena":MAILTO:info@inec.ie
END:VEVENT
BEGIN:VEVENT
DTSTART;TZID=Europe/Dublin:20220827T233000
DTEND;TZID=Europe/Dublin:20220828T013000
DTSTAMP:20260421T065434
CREATED:20220824T103026Z
LAST-MODIFIED:20220824T103026Z
UID:47598-1661643000-1661650200@killarneyadvertiser.ie
SUMMARY:Marc Roberts
DESCRIPTION:Late night music with Marc Roberts in the Gleneagle Green Room. \n\n        \n            Attachments\n        4th July 2023 A3 Poster (605 kB)
URL:https://killarneyadvertiser.ie/whats-on-killarney/marc-roberts-2/
LOCATION:Gleneagle INEC Arena\, Muckross Road\, Killarney\, V93 V6WF\, Ireland
CATEGORIES:Live Music
ATTACH;FMTTYPE=image/jpeg:https://killarneyadvertiser.ie/wp-content/uploads/2022/08/INEC-Daniel-ODonnell-Post-Saturday-1.jpg
ORGANIZER;CN="Gleneagle INEC Arena":MAILTO:info@inec.ie
END:VEVENT
BEGIN:VEVENT
DTSTART;TZID=Europe/Dublin:20220828T220000
DTEND;TZID=Europe/Dublin:20220829T000000
DTSTAMP:20260421T065434
CREATED:20220824T102350Z
LAST-MODIFIED:20220824T102350Z
UID:47590-1661724000-1661731200@killarneyadvertiser.ie
SUMMARY:Dancing with Bernie Heaney
DESCRIPTION:Dancing to Bernie Heaney in the Gleneagle Ballroom.  Free for Daniel O’Donnell ticket holders otherwise €10 on the door. \n\n        \n            Attachments\n        4th July 2023 A3 Poster (605 kB)
URL:https://killarneyadvertiser.ie/whats-on-killarney/dancing-with-bernie-heaney/
LOCATION:Gleneagle INEC Arena\, Muckross Road\, Killarney\, V93 V6WF\, Ireland
CATEGORIES:Live Music
ATTACH;FMTTYPE=image/jpeg:https://killarneyadvertiser.ie/wp-content/uploads/2022/08/INEC-Daniel-ODonnell-Post-Show-Sunday.jpg
ORGANIZER;CN="Gleneagle INEC Arena":MAILTO:info@inec.ie
END:VEVENT
BEGIN:VEVENT
DTSTART;TZID=Europe/Dublin:20220828T233000
DTEND;TZID=Europe/Dublin:20220829T013000
DTSTAMP:20260421T065434
CREATED:20220824T102659Z
LAST-MODIFIED:20220824T102659Z
UID:47594-1661729400-1661736600@killarneyadvertiser.ie
SUMMARY:Late Night Piano Bar
DESCRIPTION:Late night Piano Bar with John MaGann in the Gleneagle Green Room. \n\n        \n            Attachments\n        4th July 2023 A3 Poster (605 kB)
URL:https://killarneyadvertiser.ie/whats-on-killarney/late-night-piano-bar-15/
LOCATION:Gleneagle INEC Arena\, Muckross Road\, Killarney\, V93 V6WF\, Ireland
CATEGORIES:Live Music
ATTACH;FMTTYPE=image/jpeg:https://killarneyadvertiser.ie/wp-content/uploads/2022/08/INEC-Daniel-ODonnell-Post-Show-Sunday-1.jpg
ORGANIZER;CN="Gleneagle INEC Arena":MAILTO:info@inec.ie
END:VEVENT
BEGIN:VEVENT
DTSTART;TZID=Europe/Dublin:20220829T190000
DTEND;TZID=Europe/Dublin:20220829T223000
DTSTAMP:20260421T065434
CREATED:20220824T103756Z
LAST-MODIFIED:20220824T103756Z
UID:47601-1661799600-1661812200@killarneyadvertiser.ie
SUMMARY:Michael Commins Concert
DESCRIPTION:One of Ireland’s most respected journalists and ‘Country Music’ impresarios Michael Commins brings his now hugely popular Concert Shows to the Gleneagle INEC Arena on August 29th and 30th.\nDaily line up\nMonday 29th August\nBrendan Shine\, Gerry Guthrie\, Art Supple\, Tony Kerr\, Louise Morrissey\, lisa Stanley\, Pj Murrihy\, Matt Keane\,  Olivia Douglas\, Aisling Rafferty\, Ross Molloy\, Paudlie McAuliffe\, Gavin Gribben\, Noreen Ashe\, Ryan Turner Band\, and Billy Condon\nTuesday 30th August\nJohn Glenn\, Declan Nerney\, Sandy Kelly\, Paddy O’Brien\, Eddie Lee\, Annemarie O’Riordan\, Thomas McBride\, Pat McKenna\, Muriel O’Connor & Fran Curry\, Mick Mulhern\, Elle Marie O’Dwyer\, Aoife Leonard\, Matthew O’Donnell\, Kevin Prendergast\, Ryan Turner Band\, and Billy Condon \n\n        \n            Attachments\n        4th July 2023 A3 Poster (605 kB)
URL:https://killarneyadvertiser.ie/whats-on-killarney/michael-commins-concert/2022-08-29/
LOCATION:Gleneagle INEC Arena\, Muckross Road\, Killarney\, V93 V6WF\, Ireland
CATEGORIES:Live Music
ATTACH;FMTTYPE=image/jpeg:https://killarneyadvertiser.ie/wp-content/uploads/2022/08/Michael-Commins-Concerts-1080-x-1080.jpg
ORGANIZER;CN="Gleneagle INEC Arena":MAILTO:info@inec.ie
END:VEVENT
BEGIN:VEVENT
DTSTART;TZID=Europe/Dublin:20220830T210000
DTEND;TZID=Europe/Dublin:20220830T230000
DTSTAMP:20260421T065434
CREATED:20220830T112109Z
LAST-MODIFIED:20220830T112109Z
UID:47731-1661893200-1661900400@killarneyadvertiser.ie
SUMMARY:Live Music
DESCRIPTION:Live music in Scotts Courtyard with Spaílpin\, bringing you the best of Ballads \n\n        \n            Attachments\n        4th July 2023 A3 Poster (605 kB)
URL:https://killarneyadvertiser.ie/whats-on-killarney/live-music-41/
LOCATION:Scotts Bar and Courtyard\, Scotts Street\, Killarney\, V93 CF30\, Ireland
CATEGORIES:Live Music
ATTACH;FMTTYPE=image/jpeg:https://killarneyadvertiser.ie/wp-content/uploads/2022/08/190510_HOTEL_ScottsHotel_39-scaled.jpg
ORGANIZER;CN="Scotts Bar and Courtyard":MAILTO:info@scottshotelkillarney.com
END:VEVENT
BEGIN:VEVENT
DTSTART;TZID=Europe/Dublin:20220830T213000
DTEND;TZID=Europe/Dublin:20220831T003000
DTSTAMP:20260421T065434
CREATED:20220810T113125Z
LAST-MODIFIED:20220826T155004Z
UID:47233-1661895000-1661905800@killarneyadvertiser.ie
SUMMARY:Live Music at Scruffy's
DESCRIPTION:Scruffy’s is a fun and happening bar in the heart of Killarney where the craic is guaranteed. \nBy day\, Scruffy’s is a casual\, fuss free spot for a few drinks and a tasty bite to eat\, with friends. By night\, the late-night venue comes alive with a party atmosphere\, welcoming live music with some of the best DJs and musicians around. \nWe offer casual street-style food from spicy wings to stack your own burgers\, loaded fries\, and BBQ ribs. Nachos are made ideal for sharing and the perfect combo to a bucket of cold beers. \n\n        \n            Attachments\n        4th July 2023 A3 Poster (605 kB)
URL:https://killarneyadvertiser.ie/whats-on-killarney/live-music-at-scruffys-2022-08-30/
LOCATION:Scruffys Bar\, Plunkett St.\, Killarney\, Co. Kerry\, Ireland
CATEGORIES:Live Music,Food & Drink
ATTACH;FMTTYPE=image/jpeg:https://killarneyadvertiser.ie/wp-content/uploads/2022/08/The-Towers-Hotel-Scruffys.jpg
END:VEVENT
BEGIN:VEVENT
DTSTART;TZID=Europe/Dublin:20220902T113000
DTEND;TZID=Europe/Dublin:20220903T013000
DTSTAMP:20260421T065434
CREATED:20220831T093553Z
LAST-MODIFIED:20220831T093553Z
UID:47740-1662118200-1662168600@killarneyadvertiser.ie
SUMMARY:Late Night Piano Bar
DESCRIPTION:Late night Piano Bar with John MaGann in the Gleneagle Green Room. \n\n        \n            Attachments\n        4th July 2023 A3 Poster (605 kB)
URL:https://killarneyadvertiser.ie/whats-on-killarney/late-night-piano-bar-16/
LOCATION:Gleneagle INEC Arena\, Muckross Road\, Killarney\, V93 V6WF\, Ireland
CATEGORIES:Live Music
ATTACH;FMTTYPE=image/jpeg:https://killarneyadvertiser.ie/wp-content/uploads/2022/08/The-Gleneagle-Killarney-Lake-Tours-SEM-1200-x-1200-Logo-5.jpg
ORGANIZER;CN="Gleneagle INEC Arena":MAILTO:info@inec.ie
END:VEVENT
BEGIN:VEVENT
DTSTART;TZID=Europe/Dublin:20220902T193000
DTEND;TZID=Europe/Dublin:20220903T020000
DTSTAMP:20260421T065434
CREATED:20220810T113125Z
LAST-MODIFIED:20220901T144342Z
UID:47222-1662147000-1662170400@killarneyadvertiser.ie
SUMMARY:Live Music at Scruffy's
DESCRIPTION:Scruffy’s is a fun and happening bar in the heart of Killarney where the craic is guaranteed. \nBy day\, Scruffy’s is a casual\, fuss free spot for a few drinks and a tasty bite to eat\, with friends. By night\, the late-night venue comes alive with a party atmosphere\, welcoming live music with some of the best DJs and musicians around. \nWe offer casual street-style food from spicy wings to stack your own burgers\, loaded fries\, and BBQ ribs. Nachos are made ideal for sharing and the perfect combo to a bucket of cold beers. \n\n        \n            Attachments\n        4th July 2023 A3 Poster (605 kB)
URL:https://killarneyadvertiser.ie/whats-on-killarney/live-music-at-scruffys-2022-09-02/
LOCATION:Scruffys Bar\, Plunkett St.\, Killarney\, Co. Kerry\, Ireland
CATEGORIES:Live Music,Food & Drink
ATTACH;FMTTYPE=image/jpeg:https://killarneyadvertiser.ie/wp-content/uploads/2022/08/The-Towers-Hotel-Scruffys.jpg
END:VEVENT
BEGIN:VEVENT
DTSTART;TZID=Europe/Dublin:20220902T210000
DTEND;TZID=Europe/Dublin:20220903T210000
DTSTAMP:20260421T065434
CREATED:20220902T084234Z
LAST-MODIFIED:20220902T084234Z
UID:48268-1662152400-1662238800@killarneyadvertiser.ie
SUMMARY:Live Music
DESCRIPTION:Live music in Scotts Bar and Courtyard. Alan Flynn in the Courtyard from 9pm and Ivan Ryan live in the main bar from 10pm \n\n        \n            Attachments\n        4th July 2023 A3 Poster (605 kB)
URL:https://killarneyadvertiser.ie/whats-on-killarney/live-music-52/
LOCATION:Scotts Bar and Courtyard\, Scotts Street\, Killarney\, V93 CF30\, Ireland
CATEGORIES:Live Music
ATTACH;FMTTYPE=image/jpeg:https://killarneyadvertiser.ie/wp-content/uploads/2022/09/190510_HOTEL_ScottsHotel_36-scaled.jpg
ORGANIZER;CN="Scotts Bar and Courtyard":MAILTO:info@scottshotelkillarney.com
END:VEVENT
BEGIN:VEVENT
DTSTART;TZID=Europe/Dublin:20220903T193000
DTEND;TZID=Europe/Dublin:20220903T223000
DTSTAMP:20260421T065434
CREATED:20220831T093152Z
LAST-MODIFIED:20220831T093152Z
UID:47738-1662233400-1662244200@killarneyadvertiser.ie
SUMMARY:Flash Harry - A Celebration of Queen
DESCRIPTION:Celebrating the music of the legendary band Queen\, we are delighted to welcome back Flash Harry with a show that embraces the very essence of live music\, talent\, energy\, enthusiasm\, passion and pure showmanship. Audiences will see the band rocking out Queen’s greatest hits from ‘Radio Gaga’ and ‘We Are The Champions’\, to ‘Bohemian Rhapsody’. \nFlash Harry has been celebrating the music of Queen for over 20 years and their track record speaks volumes for the quality of the performances and the sheer entertainment value of their show. The music of Queen is universal in its appeal and has been the sound track of the last 40 years. Rarely will a show reach across generations and deliver as much as Flash Harry – A Celebration of Queen. \n\n        \n            Attachments\n        4th July 2023 A3 Poster (605 kB)
URL:https://killarneyadvertiser.ie/whats-on-killarney/flash-harry-a-celebration-of-queen/
LOCATION:Gleneagle INEC Arena\, Muckross Road\, Killarney\, V93 V6WF\, Ireland
CATEGORIES:Live Music,Concert
ATTACH;FMTTYPE=image/jpeg:https://killarneyadvertiser.ie/wp-content/uploads/2022/08/Flash-Harry-Dec-2021-Web-Image-300x300-1.jpg
ORGANIZER;CN="Gleneagle INEC Arena":MAILTO:info@inec.ie
END:VEVENT
BEGIN:VEVENT
DTSTART;TZID=Europe/Dublin:20220903T213000
DTEND;TZID=Europe/Dublin:20220903T233000
DTSTAMP:20260421T065434
CREATED:20220831T095910Z
LAST-MODIFIED:20220831T095910Z
UID:47743-1662240600-1662247800@killarneyadvertiser.ie
SUMMARY:Tony Sings
DESCRIPTION:Tony Sings performs in the Backstage Bar at 9.30pm \n\n        \n            Attachments\n        4th July 2023 A3 Poster (605 kB)
URL:https://killarneyadvertiser.ie/whats-on-killarney/tony-sings/
LOCATION:Gleneagle INEC Arena\, Muckross Road\, Killarney\, V93 V6WF\, Ireland
CATEGORIES:Live Music
ATTACH;FMTTYPE=image/jpeg:https://killarneyadvertiser.ie/wp-content/uploads/2022/08/The-Gleneagle-Killarney-Lake-Tours-SEM-1200-x-1200-Logo-6.jpg
ORGANIZER;CN="Gleneagle INEC Arena":MAILTO:info@inec.ie
END:VEVENT
BEGIN:VEVENT
DTSTART;TZID=Europe/Dublin:20220904T193000
DTEND;TZID=Europe/Dublin:20220905T003000
DTSTAMP:20260421T065434
CREATED:20220810T113125Z
LAST-MODIFIED:20220901T141930Z
UID:47816-1662319800-1662337800@killarneyadvertiser.ie
SUMMARY:Live Music at Scruffy's
DESCRIPTION:Scruffy’s is a fun and happening bar in the heart of Killarney where the craic is guaranteed. \nBy day\, Scruffy’s is a casual\, fuss free spot for a few drinks and a tasty bite to eat\, with friends. By night\, the late-night venue comes alive with a party atmosphere\, welcoming live music with some of the best DJs and musicians around. \nWe offer casual street-style food from spicy wings to stack your own burgers\, loaded fries\, and BBQ ribs. Nachos are made ideal for sharing and the perfect combo to a bucket of cold beers. \n\n        \n            Attachments\n        4th July 2023 A3 Poster (605 kB)
URL:https://killarneyadvertiser.ie/whats-on-killarney/live-music-at-scruffys-2022-09-04/
LOCATION:Scruffys Bar\, Plunkett St.\, Killarney\, Co. Kerry\, Ireland
CATEGORIES:Live Music,Food & Drink
ATTACH;FMTTYPE=image/jpeg:https://killarneyadvertiser.ie/wp-content/uploads/2022/08/The-Towers-Hotel-Scruffys.jpg
END:VEVENT
BEGIN:VEVENT
DTSTART;TZID=Europe/Dublin:20220907T193000
DTEND;TZID=Europe/Dublin:20220907T213000
DTSTAMP:20260421T065434
CREATED:20220810T113125Z
LAST-MODIFIED:20220901T112504Z
UID:47819-1662579000-1662586200@killarneyadvertiser.ie
SUMMARY:Live Music at Scruffy's
DESCRIPTION:Scruffy’s is a fun and happening bar in the heart of Killarney where the craic is guaranteed. \nBy day\, Scruffy’s is a casual\, fuss free spot for a few drinks and a tasty bite to eat\, with friends. By night\, the late-night venue comes alive with a party atmosphere\, welcoming live music with some of the best DJs and musicians around. \nWe offer casual street-style food from spicy wings to stack your own burgers\, loaded fries\, and BBQ ribs. Nachos are made ideal for sharing and the perfect combo to a bucket of cold beers. \n\n        \n            Attachments\n        4th July 2023 A3 Poster (605 kB)
URL:https://killarneyadvertiser.ie/whats-on-killarney/live-music-at-scruffys-2022-09-07/
LOCATION:Scruffys Bar\, Plunkett St.\, Killarney\, Co. Kerry\, Ireland
CATEGORIES:Live Music,Food & Drink
ATTACH;FMTTYPE=image/jpeg:https://killarneyadvertiser.ie/wp-content/uploads/2022/08/The-Towers-Hotel-Scruffys.jpg
END:VEVENT
BEGIN:VEVENT
DTSTART;TZID=Europe/Dublin:20220909T193000
DTEND;TZID=Europe/Dublin:20220909T223000
DTSTAMP:20260421T065434
CREATED:20220831T101739Z
LAST-MODIFIED:20220831T101739Z
UID:47747-1662751800-1662762600@killarneyadvertiser.ie
SUMMARY:Mary Coughlan
DESCRIPTION:Mary Coughlan perfroms in the Gleneagle INEC Club on September 9th 2022.  \n\n        \n            Attachments\n        4th July 2023 A3 Poster (605 kB)
URL:https://killarneyadvertiser.ie/whats-on-killarney/mary-coughlan/
LOCATION:Gleneagle INEC Arena\, Muckross Road\, Killarney\, V93 V6WF\, Ireland
CATEGORIES:Live Music,Concert
ATTACH;FMTTYPE=image/jpeg:https://killarneyadvertiser.ie/wp-content/uploads/2022/08/Mary-Coughlan-Web-Images-300-x-300.jpg
ORGANIZER;CN="Gleneagle INEC Arena":MAILTO:info@inec.ie
END:VEVENT
BEGIN:VEVENT
DTSTART;TZID=Europe/Dublin:20220911T183000
DTEND;TZID=Europe/Dublin:20220911T233000
DTSTAMP:20260421T065434
CREATED:20220729T084706Z
LAST-MODIFIED:20220901T113313Z
UID:48190-1662921000-1662939000@killarneyadvertiser.ie
SUMMARY:Live Irish Folk Music
DESCRIPTION:Steeped in history and tradition\, we’re bringing back old pub ways to Killarney town for you to experience authentic traditional Irish pub life. Pull up a stool at the bar\, or relax into a cozy corner in one of our snugs. \nTradition is craft and design passed through the generations\, and we’re honoring that by serving you dishes as they were intended to be made and enjoyed. Underneath it all\, O’Donoghue Public House is a place to enjoy a creamy pint after an exhilarating day\, and we haven’t forgotten about the craft of draught. Guinness is what we’re good at\, and we hear it’s good for you too. \nEnjoy Live Irish Folk Music 7 nights a week with us! \n\n        \n            Attachments\n        4th July 2023 A3 Poster (605 kB)
URL:https://killarneyadvertiser.ie/whats-on-killarney/live-irish-folk-music-2022-09-11/
LOCATION:O’Donoghue Public House\, O'Donoghue Public House\, College St\, Killarney\, Co. Kerry\, V93 HP7A\, Ireland
CATEGORIES:Live Music
ATTACH;FMTTYPE=image/jpeg:https://killarneyadvertiser.ie/wp-content/uploads/2022/07/ODonoghue-Public-House-00001-1.jpg
END:VEVENT
BEGIN:VEVENT
DTSTART;TZID=Europe/Dublin:20220911T193000
DTEND;TZID=Europe/Dublin:20220911T213000
DTSTAMP:20260421T065434
CREATED:20220810T113125Z
LAST-MODIFIED:20220901T113455Z
UID:47823-1662924600-1662931800@killarneyadvertiser.ie
SUMMARY:Live Music at Scruffy's
DESCRIPTION:Scruffy’s is a fun and happening bar in the heart of Killarney where the craic is guaranteed. \nBy day\, Scruffy’s is a casual\, fuss free spot for a few drinks and a tasty bite to eat\, with friends. By night\, the late-night venue comes alive with a party atmosphere\, welcoming live music with some of the best DJs and musicians around. \nWe offer casual street-style food from spicy wings to stack your own burgers\, loaded fries\, and BBQ ribs. Nachos are made ideal for sharing and the perfect combo to a bucket of cold beers. \n\n        \n            Attachments\n        4th July 2023 A3 Poster (605 kB)
URL:https://killarneyadvertiser.ie/whats-on-killarney/live-music-at-scruffys-2022-09-11/
LOCATION:Scruffys Bar\, Plunkett St.\, Killarney\, Co. Kerry\, Ireland
CATEGORIES:Live Music,Food & Drink
ATTACH;FMTTYPE=image/jpeg:https://killarneyadvertiser.ie/wp-content/uploads/2022/08/The-Towers-Hotel-Scruffys.jpg
END:VEVENT
BEGIN:VEVENT
DTSTART;TZID=Europe/Dublin:20220915T213000
DTEND;TZID=Europe/Dublin:20220915T233000
DTSTAMP:20260421T065434
CREATED:20220913T105821Z
LAST-MODIFIED:20220913T105821Z
UID:48558-1663277400-1663284600@killarneyadvertiser.ie
SUMMARY:Best of Friends
DESCRIPTION:Dance in the Gleneagle Ballroom with Best of Friends \n\n        \n            Attachments\n        4th July 2023 A3 Poster (605 kB)
URL:https://killarneyadvertiser.ie/whats-on-killarney/best-of-friends-5/
LOCATION:Gleneagle INEC Arena\, Muckross Road\, Killarney\, V93 V6WF\, Ireland
CATEGORIES:Live Music,Concert
ATTACH;FMTTYPE=image/jpeg:https://killarneyadvertiser.ie/wp-content/uploads/2022/09/The-Gleneagle-Killarney-Lake-Tours-SEM-1200-x-1200-Logo.jpg
ORGANIZER;CN="Gleneagle INEC Arena":MAILTO:info@inec.ie
END:VEVENT
BEGIN:VEVENT
DTSTART;TZID=Europe/Dublin:20220916T190000
DTEND;TZID=Europe/Dublin:20220916T223000
DTSTAMP:20260421T065434
CREATED:20220913T104711Z
LAST-MODIFIED:20220913T104711Z
UID:48551-1663354800-1663367400@killarneyadvertiser.ie
SUMMARY:The Mavericks
DESCRIPTION:Dance the night away as The Mavericks  bring their En Español World Tour to the Gleneagle INEC Arena on September 16th\, 2022.  \n\n        \n            Attachments\n        4th July 2023 A3 Poster (605 kB)
URL:https://killarneyadvertiser.ie/whats-on-killarney/the-mavericks/
LOCATION:Gleneagle INEC Arena\, Muckross Road\, Killarney\, V93 V6WF\, Ireland
CATEGORIES:Live Music,Sport
ATTACH;FMTTYPE=image/jpeg:https://killarneyadvertiser.ie/wp-content/uploads/2022/09/The-Mavericks-Sept-2022-Web-Image-440x300-1.jpg
ORGANIZER;CN="Gleneagle INEC Arena":MAILTO:info@inec.ie
END:VEVENT
BEGIN:VEVENT
DTSTART;TZID=Europe/Dublin:20220916T210000
DTEND;TZID=Europe/Dublin:20220917T000000
DTSTAMP:20260421T065434
CREATED:20220916T142313Z
LAST-MODIFIED:20220916T142313Z
UID:48700-1663362000-1663372800@killarneyadvertiser.ie
SUMMARY:Live Music
DESCRIPTION:Live music in the Courtyard from 9pm with Alan Flynn and in the main bar from 10pm with Ivan Ryan \n\n        \n            Attachments\n        4th July 2023 A3 Poster (605 kB)
URL:https://killarneyadvertiser.ie/whats-on-killarney/live-music-53/
LOCATION:Scotts Bar and Courtyard\, Scotts Street\, Killarney\, V93 CF30\, Ireland
ATTACH;FMTTYPE=image/jpeg:https://killarneyadvertiser.ie/wp-content/uploads/2022/09/190510_HOTEL_ScottsHotel_47-scaled.jpg
ORGANIZER;CN="Scotts Bar and Courtyard":MAILTO:info@scottshotelkillarney.com
END:VEVENT
BEGIN:VEVENT
DTSTART;TZID=Europe/Dublin:20220916T230000
DTEND;TZID=Europe/Dublin:20220917T010000
DTSTAMP:20260421T065434
CREATED:20220913T105947Z
LAST-MODIFIED:20220913T105947Z
UID:48560-1663369200-1663376400@killarneyadvertiser.ie
SUMMARY:Late Night Piano Bar
DESCRIPTION:Late night Piano Bar with John McGann in the Gleneagle Green Room \n\n        \n            Attachments\n        4th July 2023 A3 Poster (605 kB)
URL:https://killarneyadvertiser.ie/whats-on-killarney/late-night-piano-bar-17/
CATEGORIES:Live Music,Concert
ATTACH;FMTTYPE=image/jpeg:https://killarneyadvertiser.ie/wp-content/uploads/2022/09/The-Gleneagle-Killarney-Lake-Tours-SEM-1200-x-1200-Logo-1.jpg
ORGANIZER;CN="Gleneagle INEC Arena":MAILTO:info@inec.ie
END:VEVENT
BEGIN:VEVENT
DTSTART;TZID=Europe/Dublin:20220917T210000
DTEND;TZID=Europe/Dublin:20220918T000000
DTSTAMP:20260421T065434
CREATED:20220916T142855Z
LAST-MODIFIED:20220916T142855Z
UID:48703-1663448400-1663459200@killarneyadvertiser.ie
SUMMARY:Live Music
DESCRIPTION:Live music in the Courtyard from 9pm with Zedz Dead and trad session in the main bar from 10pm \n\n        \n            Attachments\n        4th July 2023 A3 Poster (605 kB)
URL:https://killarneyadvertiser.ie/whats-on-killarney/live-music-54/
LOCATION:Scotts Bar and Courtyard\, Scotts Street\, Killarney\, V93 CF30\, Ireland
CATEGORIES:Live Music
ATTACH;FMTTYPE=image/jpeg:https://killarneyadvertiser.ie/wp-content/uploads/2022/09/190510_HOTEL_ScottsHotel_48-scaled.jpg
ORGANIZER;CN="Scotts Bar and Courtyard":MAILTO:info@scottshotelkillarney.com
END:VEVENT
BEGIN:VEVENT
DTSTART;TZID=Europe/Dublin:20220918T190000
DTEND;TZID=Europe/Dublin:20220918T223000
DTSTAMP:20260421T065434
CREATED:20220913T104946Z
LAST-MODIFIED:20220913T104946Z
UID:48553-1663527600-1663540200@killarneyadvertiser.ie
SUMMARY:John B Keane's The Matchmaker
DESCRIPTION:Jon Kenny and Norma Sheehan star in John B Keane’s The Matchmaker when it comes to the Gleneagle INEC Arena on September 18th.  Together the duo play a myriad of characters in this hilarious and earthy dramatic comedy. The play follows the efforts of Dicky Mick Dicky O Connor to make matches for the lonely and lovelorn.   \n\n        \n            Attachments\n        4th July 2023 A3 Poster (605 kB)
URL:https://killarneyadvertiser.ie/whats-on-killarney/john-b-keanes-the-matchmaker/
LOCATION:Gleneagle INEC Arena\, Muckross Road\, Killarney\, V93 V6WF\, Ireland
CATEGORIES:Concert,Arts
ATTACH;FMTTYPE=image/jpeg:https://killarneyadvertiser.ie/wp-content/uploads/2022/09/The-Matchmaker-Web-Images-440-x-300-1.jpg
ORGANIZER;CN="Gleneagle INEC Arena":MAILTO:info@inec.ie
END:VEVENT
BEGIN:VEVENT
DTSTART;TZID=Europe/Dublin:20220918T193000
DTEND;TZID=Europe/Dublin:20220918T213000
DTSTAMP:20260421T065434
CREATED:20220810T113125Z
LAST-MODIFIED:20220908T104556Z
UID:47830-1663529400-1663536600@killarneyadvertiser.ie
SUMMARY:Live Music at Scruffy's
DESCRIPTION:Scruffy’s is a fun and happening bar in the heart of Killarney where the craic is guaranteed. \nBy day\, Scruffy’s is a casual\, fuss free spot for a few drinks and a tasty bite to eat\, with friends. By night\, the late-night venue comes alive with a party atmosphere\, welcoming live music with some of the best DJs and musicians around. \nWe offer casual street-style food from spicy wings to stack your own burgers\, loaded fries\, and BBQ ribs. Nachos are made ideal for sharing and the perfect combo to a bucket of cold beers. \n\n        \n            Attachments\n        4th July 2023 A3 Poster (605 kB)
URL:https://killarneyadvertiser.ie/whats-on-killarney/live-music-at-scruffys-2022-09-18/
LOCATION:Scruffys Bar\, Plunkett St.\, Killarney\, Co. Kerry\, Ireland
CATEGORIES:Live Music,Food & Drink
ATTACH;FMTTYPE=image/jpeg:https://killarneyadvertiser.ie/wp-content/uploads/2022/08/The-Towers-Hotel-Scruffys.jpg
END:VEVENT
BEGIN:VEVENT
DTSTART;TZID=Europe/Dublin:20220918T210000
DTEND;TZID=Europe/Dublin:20220918T233000
DTSTAMP:20260421T065434
CREATED:20220913T110056Z
LAST-MODIFIED:20220913T110056Z
UID:48562-1663534800-1663543800@killarneyadvertiser.ie
SUMMARY:Best of Friends
DESCRIPTION:Best of Friends perform in the Gleneagle Ballroom \n\n        \n            Attachments\n        4th July 2023 A3 Poster (605 kB)
URL:https://killarneyadvertiser.ie/whats-on-killarney/best-of-friends-6/
LOCATION:Gleneagle INEC Arena\, Muckross Road\, Killarney\, V93 V6WF\, Ireland
CATEGORIES:Live Music,Concert
ATTACH;FMTTYPE=image/jpeg:https://killarneyadvertiser.ie/wp-content/uploads/2022/09/The-Gleneagle-Killarney-Lake-Tours-SEM-1200-x-1200-Logo-2.jpg
ORGANIZER;CN="Gleneagle INEC Arena":MAILTO:info@inec.ie
END:VEVENT
BEGIN:VEVENT
DTSTART;TZID=Europe/Dublin:20220919T213000
DTEND;TZID=Europe/Dublin:20220919T233000
DTSTAMP:20260421T065434
CREATED:20220913T110201Z
LAST-MODIFIED:20220913T115850Z
UID:48564-1663623000-1663630200@killarneyadvertiser.ie
SUMMARY:Neily O'Connor
DESCRIPTION:Neily O’Connor performs in the Gleneagle Ballroom. \n\n        \n            Attachments\n        4th July 2023 A3 Poster (605 kB)
URL:https://killarneyadvertiser.ie/whats-on-killarney/neily-oconnor-2/
LOCATION:Gleneagle INEC Arena\, Muckross Road\, Killarney\, V93 V6WF\, Ireland
CATEGORIES:Live Music,Concert
ATTACH;FMTTYPE=image/jpeg:https://killarneyadvertiser.ie/wp-content/uploads/2022/09/The-Gleneagle-Killarney-Lake-Tours-SEM-1200-x-1200-Logo-1-1.jpg
ORGANIZER;CN="Gleneagle INEC Arena":MAILTO:info@inec.ie
END:VEVENT
BEGIN:VEVENT
DTSTART;TZID=Europe/Dublin:20220920T213000
DTEND;TZID=Europe/Dublin:20220920T233000
DTSTAMP:20260421T065434
CREATED:20220913T110611Z
LAST-MODIFIED:20220913T110611Z
UID:48567-1663709400-1663716600@killarneyadvertiser.ie
SUMMARY:Muriel O'Connor & Fran Curry
DESCRIPTION:Muriel O’Connor and Fran Curry perform in the Gleneagle Ballroom \n\n        \n            Attachments\n        4th July 2023 A3 Poster (605 kB)
URL:https://killarneyadvertiser.ie/whats-on-killarney/muriel-oconnor-fran-curry/
LOCATION:Gleneagle INEC Arena\, Muckross Road\, Killarney\, V93 V6WF\, Ireland
CATEGORIES:Live Music,Concert
ATTACH;FMTTYPE=image/jpeg:https://killarneyadvertiser.ie/wp-content/uploads/2022/09/The-Gleneagle-Killarney-Lake-Tours-SEM-1200-x-1200-Logo-1-2.jpg
ORGANIZER;CN="Gleneagle INEC Arena":MAILTO:info@inec.ie
END:VEVENT
BEGIN:VEVENT
DTSTART;TZID=Europe/Dublin:20220921T210000
DTEND;TZID=Europe/Dublin:20220921T230000
DTSTAMP:20260421T065434
CREATED:20220921T112334Z
LAST-MODIFIED:20220921T112334Z
UID:48746-1663794000-1663801200@killarneyadvertiser.ie
SUMMARY:Live Music
DESCRIPTION:Enjoy the Craic and Ceol in Scotts Courtyard with live music from 9pm with Ivan Ryan \n\n        \n            Attachments\n        4th July 2023 A3 Poster (605 kB)
URL:https://killarneyadvertiser.ie/whats-on-killarney/live-music-55/
LOCATION:Scotts Bar and Courtyard\, Scotts Street\, Killarney\, V93 CF30\, Ireland
CATEGORIES:Live Music
ATTACH;FMTTYPE=image/jpeg:https://killarneyadvertiser.ie/wp-content/uploads/2022/09/190510_HOTEL_ScottsHotel_40-scaled.jpg
ORGANIZER;CN="Scotts Bar and Courtyard":MAILTO:info@scottshotelkillarney.com
END:VEVENT
BEGIN:VEVENT
DTSTART;TZID=Europe/Dublin:20220921T213000
DTEND;TZID=Europe/Dublin:20220921T233000
DTSTAMP:20260421T065434
CREATED:20220913T110915Z
LAST-MODIFIED:20220913T110915Z
UID:48569-1663795800-1663803000@killarneyadvertiser.ie
SUMMARY:Eddie Keogh
DESCRIPTION:Eddie Keogh performs in the Gleneagle Ballroom on September 21st \n\n        \n            Attachments\n        4th July 2023 A3 Poster (605 kB)
URL:https://killarneyadvertiser.ie/whats-on-killarney/eddie-keogh-4/
LOCATION:Gleneagle INEC Arena\, Muckross Road\, Killarney\, V93 V6WF\, Ireland
CATEGORIES:Live Music,Concert
ATTACH;FMTTYPE=image/jpeg:https://killarneyadvertiser.ie/wp-content/uploads/2022/09/The-Gleneagle-Killarney-Lake-Tours-SEM-1200-x-1200-Logo-1-3.jpg
ORGANIZER;CN="Gleneagle INEC Arena":MAILTO:info@inec.ie
END:VEVENT
END:VCALENDAR