BEGIN:VCALENDAR
VERSION:2.0
PRODID:-//Killarney Advertiser - ECPv6.8.2.1//NONSGML v1.0//EN
CALSCALE:GREGORIAN
METHOD:PUBLISH
X-WR-CALNAME:Killarney Advertiser
X-ORIGINAL-URL:https://killarneyadvertiser.ie
X-WR-CALDESC:Events for Killarney Advertiser
REFRESH-INTERVAL;VALUE=DURATION:PT1H
X-Robots-Tag:noindex
X-PUBLISHED-TTL:PT1H
BEGIN:VTIMEZONE
TZID:Europe/Dublin
BEGIN:STANDARD
TZOFFSETFROM:+0000
TZOFFSETTO:+0100
TZNAME:IST
DTSTART:20220327T010000
END:STANDARD
BEGIN:DAYLIGHT
TZOFFSETFROM:+0100
TZOFFSETTO:+0000
TZNAME:GMT
DTSTART:20221030T010000
END:DAYLIGHT
END:VTIMEZONE
BEGIN:VEVENT
DTSTART;TZID=Europe/Dublin:20220428T230000
DTEND;TZID=Europe/Dublin:20220429T010000
DTSTAMP:20260421T094433
CREATED:20220421T092453Z
LAST-MODIFIED:20220421T092453Z
UID:44372-1651186800-1651194000@killarneyadvertiser.ie
SUMMARY:Curtis Magee
DESCRIPTION:Live music with Curtis Magee in the Gleneagle Ballroom \n\n        \n            Attachments\n        4th July 2023 A3 Poster (605 kB)
URL:https://killarneyadvertiser.ie/whats-on-killarney/curtis-magee-4/
LOCATION:Gleneagle INEC Arena\, Muckross Road\, Killarney\, V93 V6WF\, Ireland
CATEGORIES:Live Music
ATTACH;FMTTYPE=image/png:https://killarneyadvertiser.ie/wp-content/uploads/2022/03/inec_arena_logo_web.png
ORGANIZER;CN="Gleneagle INEC Arena":MAILTO:info@inec.ie
END:VEVENT
BEGIN:VEVENT
DTSTART;TZID=Europe/Dublin:20220428T213000
DTEND;TZID=Europe/Dublin:20220428T233000
DTSTAMP:20260421T094433
CREATED:20220425T134907Z
LAST-MODIFIED:20220425T134907Z
UID:44483-1651181400-1651188600@killarneyadvertiser.ie
SUMMARY:Live music
DESCRIPTION:Live music with Ivan Ryan in the Main Bar \n\n        \n            Attachments\n        4th July 2023 A3 Poster (605 kB)
URL:https://killarneyadvertiser.ie/whats-on-killarney/live-music-24/
LOCATION:Scotts Bar and Courtyard\, Scotts Street\, Killarney\, V93 CF30\, Ireland
CATEGORIES:Live Music
ATTACH;FMTTYPE=image/jpeg:https://killarneyadvertiser.ie/wp-content/uploads/2022/03/190510_COMMERCIAL_ScottsLowRes_47.jpg
ORGANIZER;CN="Scotts Bar and Courtyard":MAILTO:info@scottshotelkillarney.com
END:VEVENT
BEGIN:VEVENT
DTSTART;TZID=Europe/Dublin:20220428T213000
DTEND;TZID=Europe/Dublin:20220428T233000
DTSTAMP:20260421T094433
CREATED:20220421T091201Z
LAST-MODIFIED:20220421T091201Z
UID:44368-1651181400-1651188600@killarneyadvertiser.ie
SUMMARY:Robert Mizzell Dance
DESCRIPTION:Dancing with Robert Mizzell in Ballroom. Tickets available at door \n\n        \n            Attachments\n        4th July 2023 A3 Poster (605 kB)
URL:https://killarneyadvertiser.ie/whats-on-killarney/robert-mizzell-dance/
LOCATION:Gleneagle INEC Arena\, Muckross Road\, Killarney\, V93 V6WF\, Ireland
CATEGORIES:Live Music
ATTACH;FMTTYPE=image/png:https://killarneyadvertiser.ie/wp-content/uploads/2022/03/inec_arena_logo_web.png
ORGANIZER;CN="Gleneagle INEC Arena":MAILTO:info@inec.ie
END:VEVENT
BEGIN:VEVENT
DTSTART;TZID=Europe/Dublin:20220428T210000
DTEND;TZID=Europe/Dublin:20220429T020000
DTSTAMP:20260421T094433
CREATED:20220429T092049Z
LAST-MODIFIED:20220429T092049Z
UID:44595-1651179600-1651197600@killarneyadvertiser.ie
SUMMARY:Live music
DESCRIPTION:Attachments\n        4th July 2023 A3 Poster (605 kB)
URL:https://killarneyadvertiser.ie/whats-on-killarney/live-music-33/
LOCATION:McSorleys Bar & Nightclub
CATEGORIES:Live Music
ATTACH;FMTTYPE=image/png:https://killarneyadvertiser.ie/wp-content/uploads/2022/04/mcsorleys.png
END:VEVENT
BEGIN:VEVENT
DTSTART;TZID=Europe/Dublin:20220428T210000
DTEND;TZID=Europe/Dublin:20220429T020000
DTSTAMP:20260421T094433
CREATED:20220429T090301Z
LAST-MODIFIED:20220429T090301Z
UID:44589-1651179600-1651197600@killarneyadvertiser.ie
SUMMARY:Live music
DESCRIPTION:Live music with exciting acts on each evening. \n\n        \n            Attachments\n        4th July 2023 A3 Poster (605 kB)
URL:https://killarneyadvertiser.ie/whats-on-killarney/live-music-29/
LOCATION:Social15\, 15 Main Street\, Killarney\, V93 P46Y\, Ireland
CATEGORIES:Live Music
ATTACH;FMTTYPE=image/png:https://killarneyadvertiser.ie/wp-content/uploads/2022/03/social_15_logo_web.png
ORGANIZER;CN="Social15":MAILTO:info@social15.ie
END:VEVENT
BEGIN:VEVENT
DTSTART;TZID=Europe/Dublin:20220428T210000
DTEND;TZID=Europe/Dublin:20220429T010000
DTSTAMP:20260421T094433
CREATED:20220427T161545Z
LAST-MODIFIED:20220427T161545Z
UID:44545-1651179600-1651194000@killarneyadvertiser.ie
SUMMARY:Robert Mizzell followed by Curtis Magee
DESCRIPTION:Dancing in the Ballroom with Robert Mizzell and late night dancing with Curtis Magee. Tickets available at the door \n\n        \n            Attachments\n        4th July 2023 A3 Poster (605 kB)
URL:https://killarneyadvertiser.ie/whats-on-killarney/robert-mizzell-followed-by-curtis-magee/
LOCATION:Gleneagle INEC Arena\, Muckross Road\, Killarney\, V93 V6WF\, Ireland
CATEGORIES:Live Music
ATTACH;FMTTYPE=image/png:https://killarneyadvertiser.ie/wp-content/uploads/2022/03/inec_arena_logo_web.png
ORGANIZER;CN="Gleneagle INEC Arena":MAILTO:info@inec.ie
END:VEVENT
BEGIN:VEVENT
DTSTART;TZID=Europe/Dublin:20220427T233000
DTEND;TZID=Europe/Dublin:20220428T013000
DTSTAMP:20260421T094433
CREATED:20220421T090251Z
LAST-MODIFIED:20220421T090251Z
UID:44367-1651102200-1651109400@killarneyadvertiser.ie
SUMMARY:Curtis Magee
DESCRIPTION:Late night music in the Green Room with Curtis Magee \n\n        \n            Attachments\n        4th July 2023 A3 Poster (605 kB)
URL:https://killarneyadvertiser.ie/whats-on-killarney/curtis-magee-3/
LOCATION:Gleneagle INEC Arena\, Muckross Road\, Killarney\, V93 V6WF\, Ireland
CATEGORIES:Live Music
ATTACH;FMTTYPE=image/png:https://killarneyadvertiser.ie/wp-content/uploads/2022/03/inec_arena_logo_web.png
ORGANIZER;CN="Gleneagle INEC Arena":MAILTO:info@inec.ie
END:VEVENT
BEGIN:VEVENT
DTSTART;TZID=Europe/Dublin:20220427T213000
DTEND;TZID=Europe/Dublin:20220427T233000
DTSTAMP:20260421T094433
CREATED:20220421T085924Z
LAST-MODIFIED:20220421T085924Z
UID:44366-1651095000-1651102200@killarneyadvertiser.ie
SUMMARY:Declan Nerney Dance
DESCRIPTION:Dancing with Declan Nerney in the Gleneagle Ballroom. Tickets available at door. \n\n        \n            Attachments\n        4th July 2023 A3 Poster (605 kB)
URL:https://killarneyadvertiser.ie/whats-on-killarney/declan-nerney-dance/
LOCATION:Gleneagle INEC Arena\, Muckross Road\, Killarney\, V93 V6WF\, Ireland
CATEGORIES:Live Music
ATTACH;FMTTYPE=image/png:https://killarneyadvertiser.ie/wp-content/uploads/2022/03/inec_arena_logo_web.png
ORGANIZER;CN="Gleneagle INEC Arena":MAILTO:info@inec.ie
END:VEVENT
BEGIN:VEVENT
DTSTART;TZID=Europe/Dublin:20220426T233000
DTEND;TZID=Europe/Dublin:20220427T013000
DTSTAMP:20260421T094433
CREATED:20220421T085800Z
LAST-MODIFIED:20220421T085800Z
UID:44365-1651015800-1651023000@killarneyadvertiser.ie
SUMMARY:Curtis Magee
DESCRIPTION:Late night music in the Green Room with Curtis Magee \n\n        \n            Attachments\n        4th July 2023 A3 Poster (605 kB)
URL:https://killarneyadvertiser.ie/whats-on-killarney/curtis-magee-2/
LOCATION:Gleneagle INEC Arena\, Muckross Road\, Killarney\, V93 V6WF\, Ireland
CATEGORIES:Live Music
ATTACH;FMTTYPE=image/png:https://killarneyadvertiser.ie/wp-content/uploads/2022/03/inec_arena_logo_web.png
ORGANIZER;CN="Gleneagle INEC Arena":MAILTO:info@inec.ie
END:VEVENT
BEGIN:VEVENT
DTSTART;TZID=Europe/Dublin:20220426T213000
DTEND;TZID=Europe/Dublin:20220426T233000
DTSTAMP:20260421T094433
CREATED:20220421T085303Z
LAST-MODIFIED:20220421T085303Z
UID:44364-1651008600-1651015800@killarneyadvertiser.ie
SUMMARY:Michael English Dance
DESCRIPTION:Dancing with Michael English in the Gleneagle Ballroom. Available on the door \n\n        \n            Attachments\n        4th July 2023 A3 Poster (605 kB)
URL:https://killarneyadvertiser.ie/whats-on-killarney/michael-english-dance/
LOCATION:Gleneagle INEC Arena\, Muckross Road\, Killarney\, V93 V6WF\, Ireland
CATEGORIES:Live Music
ATTACH;FMTTYPE=image/png:https://killarneyadvertiser.ie/wp-content/uploads/2022/03/inec_arena_logo_web.png
ORGANIZER;CN="Gleneagle INEC Arena":MAILTO:info@inec.ie
END:VEVENT
BEGIN:VEVENT
DTSTART;TZID=Europe/Dublin:20220425T233000
DTEND;TZID=Europe/Dublin:20220426T013000
DTSTAMP:20260421T094433
CREATED:20220421T085201Z
LAST-MODIFIED:20220421T085201Z
UID:44363-1650929400-1650936600@killarneyadvertiser.ie
SUMMARY:Curtis Magee
DESCRIPTION:Late night music in the Green Room with Curtis Magee \n\n        \n            Attachments\n        4th July 2023 A3 Poster (605 kB)
URL:https://killarneyadvertiser.ie/whats-on-killarney/curtis-magee/
LOCATION:Gleneagle INEC Arena\, Muckross Road\, Killarney\, V93 V6WF\, Ireland
CATEGORIES:Live Music
ATTACH;FMTTYPE=image/png:https://killarneyadvertiser.ie/wp-content/uploads/2022/03/inec_arena_logo_web.png
ORGANIZER;CN="Gleneagle INEC Arena":MAILTO:info@inec.ie
END:VEVENT
BEGIN:VEVENT
DTSTART;TZID=Europe/Dublin:20220425T213000
DTEND;TZID=Europe/Dublin:20220425T233000
DTSTAMP:20260421T094433
CREATED:20220421T085057Z
LAST-MODIFIED:20220421T085057Z
UID:44362-1650922200-1650929400@killarneyadvertiser.ie
SUMMARY:Mick Flavin Dance
DESCRIPTION:Dancing with Mick Flavin in the Ballroom. Available on the door \n\n        \n            Attachments\n        4th July 2023 A3 Poster (605 kB)
URL:https://killarneyadvertiser.ie/whats-on-killarney/mick-flavin-dance/
LOCATION:Gleneagle INEC Arena\, Muckross Road\, Killarney\, V93 V6WF\, Ireland
CATEGORIES:Live Music
ATTACH;FMTTYPE=image/png:https://killarneyadvertiser.ie/wp-content/uploads/2022/03/inec_arena_logo_web.png
ORGANIZER;CN="Gleneagle INEC Arena":MAILTO:info@inec.ie
END:VEVENT
BEGIN:VEVENT
DTSTART;TZID=Europe/Dublin:20220424T213000
DTEND;TZID=Europe/Dublin:20220424T233000
DTSTAMP:20260421T094433
CREATED:20220421T084943Z
LAST-MODIFIED:20220421T084943Z
UID:44361-1650835800-1650843000@killarneyadvertiser.ie
SUMMARY:Stuart Moyles Dance
DESCRIPTION:Dancing with Stuart Moyles in the Ballroom. Available on the door \n\n        \n            Attachments\n        4th July 2023 A3 Poster (605 kB)
URL:https://killarneyadvertiser.ie/whats-on-killarney/stuart-moyles-dance/
LOCATION:Gleneagle INEC Arena\, Muckross Road\, Killarney\, V93 V6WF\, Ireland
CATEGORIES:Arts
ATTACH;FMTTYPE=image/png:https://killarneyadvertiser.ie/wp-content/uploads/2022/03/inec_arena_logo_web.png
ORGANIZER;CN="Gleneagle INEC Arena":MAILTO:info@inec.ie
END:VEVENT
BEGIN:VEVENT
DTSTART;TZID=Europe/Dublin:20220424T210000
DTEND;TZID=Europe/Dublin:20220424T230000
DTSTAMP:20260421T094433
CREATED:20220420T093341Z
LAST-MODIFIED:20220420T093341Z
UID:44341-1650834000-1650841200@killarneyadvertiser.ie
SUMMARY:Live Music
DESCRIPTION:Live music with Ivan Ryan in the main bar \n\n        \n            Attachments\n        4th July 2023 A3 Poster (605 kB)
URL:https://killarneyadvertiser.ie/whats-on-killarney/live-music-21/
LOCATION:Scotts Bar and Courtyard\, Scotts Street\, Killarney\, V93 CF30\, Ireland
CATEGORIES:Live Music
ATTACH;FMTTYPE=image/jpeg:https://killarneyadvertiser.ie/wp-content/uploads/2022/03/190510_COMMERCIAL_ScottsLowRes_47.jpg
ORGANIZER;CN="Scotts Bar and Courtyard":MAILTO:info@scottshotelkillarney.com
END:VEVENT
BEGIN:VEVENT
DTSTART;TZID=Europe/Dublin:20220424T190000
DTEND;TZID=Europe/Dublin:20220424T200000
DTSTAMP:20260421T094433
CREATED:20220421T084609Z
LAST-MODIFIED:20220421T084609Z
UID:44359-1650826800-1650830400@killarneyadvertiser.ie
SUMMARY:Friends the Musical Parody
DESCRIPTION:Friends! The Musical Parody takes a hilarious look and remembers the TV phenomenon that ruled the 90’s and became a cultural institution with millions of fans across the globe.  Like the original television series\, Friends! The Musical Parody follows the lives of six wacky 20-somethings and goes back in time to celebrate and poke fun at some of their most iconic moments as they navigate the pitfalls of work\, life\, and love in 1990’s Manhattan. Friends! The Musical Parody is an hilarious good-hearted romp through our favourite moments from the hit TV show in an uncensored\, hilarious\, fast-paced\, music-filled production.  \n\n        \n            Attachments\n        4th July 2023 A3 Poster (605 kB)
URL:https://killarneyadvertiser.ie/whats-on-killarney/friends-the-musical-parody/
LOCATION:Gleneagle INEC Arena\, Muckross Road\, Killarney\, V93 V6WF\, Ireland
CATEGORIES:Arts
ATTACH;FMTTYPE=image/png:https://killarneyadvertiser.ie/wp-content/uploads/2022/03/inec_arena_logo_web.png
ORGANIZER;CN="Gleneagle INEC Arena":MAILTO:info@inec.ie
END:VEVENT
BEGIN:VEVENT
DTSTART;TZID=Europe/Dublin:20220424T180000
DTEND;TZID=Europe/Dublin:20220424T233000
DTSTAMP:20260421T094433
CREATED:20220420T114442Z
LAST-MODIFIED:20220420T114442Z
UID:44348-1650823200-1650843000@killarneyadvertiser.ie
SUMMARY:All in
DESCRIPTION:Attachments\n        4th July 2023 A3 Poster (605 kB)
URL:https://killarneyadvertiser.ie/whats-on-killarney/all-in-3/
LOCATION:J.M. Reidys\, 4 Main Street\, Killarney\, V93 CC82\, Ireland
CATEGORIES:Live Music
ATTACH;FMTTYPE=image/jpeg:https://killarneyadvertiser.ie/wp-content/uploads/2022/03/JM-Reidy-1.jpeg
ORGANIZER;CN="J.M. Reidys":MAILTO:info@reidyskillarney.com
END:VEVENT
BEGIN:VEVENT
DTSTART;TZID=Europe/Dublin:20220424T130000
DTEND;TZID=Europe/Dublin:20220424T140000
DTSTAMP:20260421T094433
CREATED:20220421T084810Z
LAST-MODIFIED:20220421T084810Z
UID:44360-1650805200-1650808800@killarneyadvertiser.ie
SUMMARY:The Speks
DESCRIPTION:The Speks present a lively show of nursery rhymes and sing-along songs set to acoustic Irish music which will have adults and kids jumping in their seats! Their hand-clapping\, toe-tapping\, hearty-laughing show is all about life on Glasses Island – a magical island off the coast of Co. Clare where everybody wears glasses! \n\n        \n            Attachments\n        4th July 2023 A3 Poster (605 kB)
URL:https://killarneyadvertiser.ie/whats-on-killarney/the-speks/
LOCATION:Gleneagle INEC Arena\, Muckross Road\, Killarney\, V93 V6WF\, Ireland
CATEGORIES:Arts
ATTACH;FMTTYPE=image/png:https://killarneyadvertiser.ie/wp-content/uploads/2022/03/inec_arena_logo_web.png
ORGANIZER;CN="Gleneagle INEC Arena":MAILTO:info@inec.ie
END:VEVENT
BEGIN:VEVENT
DTSTART;TZID=Europe/Dublin:20220423T230000
DTEND;TZID=Europe/Dublin:20220424T010000
DTSTAMP:20260421T094433
CREATED:20220421T092138Z
LAST-MODIFIED:20220421T092138Z
UID:44371-1650754800-1650762000@killarneyadvertiser.ie
SUMMARY:Piano Bar with John McGann
DESCRIPTION:Late night music in the Gleneagle Ballroom with John McGann \n\n        \n            Attachments\n        4th July 2023 A3 Poster (605 kB)
URL:https://killarneyadvertiser.ie/whats-on-killarney/piano-bar-with-john-mcgann-6/
LOCATION:Gleneagle INEC Arena\, Muckross Road\, Killarney\, V93 V6WF\, Ireland
CATEGORIES:Live Music
ATTACH;FMTTYPE=image/png:https://killarneyadvertiser.ie/wp-content/uploads/2022/03/inec_arena_logo_web.png
ORGANIZER;CN="Gleneagle INEC Arena":MAILTO:info@inec.ie
END:VEVENT
BEGIN:VEVENT
DTSTART;TZID=Europe/Dublin:20220423T230000
DTEND;TZID=Europe/Dublin:20220424T010000
DTSTAMP:20260421T094433
CREATED:20220421T083945Z
LAST-MODIFIED:20220421T083945Z
UID:44358-1650754800-1650762000@killarneyadvertiser.ie
SUMMARY:Piano Bar with John McGann
DESCRIPTION:Late night music in the Gleneagle Ballroom with John McGann \n\n        \n            Attachments\n        4th July 2023 A3 Poster (605 kB)
URL:https://killarneyadvertiser.ie/whats-on-killarney/piano-bar-with-john-mcgann-4/
LOCATION:Gleneagle INEC Arena\, Muckross Road\, Killarney\, V93 V6WF\, Ireland
CATEGORIES:Live Music
ATTACH;FMTTYPE=image/png:https://killarneyadvertiser.ie/wp-content/uploads/2022/03/inec_arena_logo_web.png
ORGANIZER;CN="Gleneagle INEC Arena":MAILTO:info@inec.ie
END:VEVENT
BEGIN:VEVENT
DTSTART;TZID=Europe/Dublin:20220423T220000
DTEND;TZID=Europe/Dublin:20220424T020000
DTSTAMP:20260421T094433
CREATED:20220420T163422Z
LAST-MODIFIED:20220420T163422Z
UID:44354-1650751200-1650765600@killarneyadvertiser.ie
SUMMARY:Night Club
DESCRIPTION:Attachments\n        4th July 2023 A3 Poster (605 kB)
URL:https://killarneyadvertiser.ie/whats-on-killarney/night-club-3/
LOCATION:Social15\, 15 Main Street\, Killarney\, V93 P46Y\, Ireland
CATEGORIES:Live Music
ATTACH;FMTTYPE=image/png:https://killarneyadvertiser.ie/wp-content/uploads/2022/03/social_15_logo_web.png
ORGANIZER;CN="Social15":MAILTO:info@social15.ie
END:VEVENT
BEGIN:VEVENT
DTSTART;TZID=Europe/Dublin:20220423T210000
DTEND;TZID=Europe/Dublin:20220423T230000
DTSTAMP:20260421T094433
CREATED:20220420T093234Z
LAST-MODIFIED:20220420T093234Z
UID:44340-1650747600-1650754800@killarneyadvertiser.ie
SUMMARY:Live Music
DESCRIPTION:Live music with Zedz Dead in the Courtyard and Sharon Langston trad band in the main bar \n\n        \n            Attachments\n        4th July 2023 A3 Poster (605 kB)
URL:https://killarneyadvertiser.ie/whats-on-killarney/live-music-20/
LOCATION:Scotts Bar and Courtyard\, Scotts Street\, Killarney\, V93 CF30\, Ireland
CATEGORIES:Live Music
ATTACH;FMTTYPE=image/jpeg:https://killarneyadvertiser.ie/wp-content/uploads/2022/03/190510_COMMERCIAL_ScottsLowRes_47.jpg
ORGANIZER;CN="Scotts Bar and Courtyard":MAILTO:info@scottshotelkillarney.com
END:VEVENT
BEGIN:VEVENT
DTSTART;TZID=Europe/Dublin:20220423T190000
DTEND;TZID=Europe/Dublin:20220423T200000
DTSTAMP:20260421T094433
CREATED:20220421T083836Z
LAST-MODIFIED:20220421T083836Z
UID:44357-1650740400-1650744000@killarneyadvertiser.ie
SUMMARY:Christy Moore
DESCRIPTION:Christy Moore Plays the Gleneagle INEC Arena \n\n        \n            Attachments\n        4th July 2023 A3 Poster (605 kB)
URL:https://killarneyadvertiser.ie/whats-on-killarney/christy-moore/
LOCATION:Gleneagle INEC Arena\, Muckross Road\, Killarney\, V93 V6WF\, Ireland
CATEGORIES:Live Music,Concert
ATTACH;FMTTYPE=image/png:https://killarneyadvertiser.ie/wp-content/uploads/2022/03/inec_arena_logo_web.png
ORGANIZER;CN="Gleneagle INEC Arena":MAILTO:info@inec.ie
END:VEVENT
BEGIN:VEVENT
DTSTART;TZID=Europe/Dublin:20220423T180000
DTEND;TZID=Europe/Dublin:20220424T020000
DTSTAMP:20260421T094433
CREATED:20220420T163212Z
LAST-MODIFIED:20220420T163212Z
UID:44352-1650736800-1650765600@killarneyadvertiser.ie
SUMMARY:Marty Guilfoyle
DESCRIPTION: Live music with exciting acts on each evening including Marty Guilfoyle \n\n        \n            Attachments\n        4th July 2023 A3 Poster (605 kB)
URL:https://killarneyadvertiser.ie/whats-on-killarney/marty-guilfoyle/
LOCATION:Social15\, 15 Main Street\, Killarney\, V93 P46Y\, Ireland
CATEGORIES:Live Music
ATTACH;FMTTYPE=image/png:https://killarneyadvertiser.ie/wp-content/uploads/2022/03/social_15_logo_web.png
ORGANIZER;CN="Social15":MAILTO:info@social15.ie
END:VEVENT
BEGIN:VEVENT
DTSTART;TZID=Europe/Dublin:20220423T180000
DTEND;TZID=Europe/Dublin:20220423T233000
DTSTAMP:20260421T094433
CREATED:20220420T114254Z
LAST-MODIFIED:20220420T114257Z
UID:44347-1650736800-1650756600@killarneyadvertiser.ie
SUMMARY:Liam O'Connor
DESCRIPTION:Live music in the courtyard \n\n        \n            Attachments\n        4th July 2023 A3 Poster (605 kB)
URL:https://killarneyadvertiser.ie/whats-on-killarney/liam-oconnor-5/
LOCATION:J.M. Reidys\, 4 Main Street\, Killarney\, V93 CC82\, Ireland
CATEGORIES:Live Music
ATTACH;FMTTYPE=image/jpeg:https://killarneyadvertiser.ie/wp-content/uploads/2022/03/JM-Reidy-1.jpeg
ORGANIZER;CN="J.M. Reidys":MAILTO:info@reidyskillarney.com
END:VEVENT
BEGIN:VEVENT
DTSTART;TZID=Europe/Dublin:20220423T180000
DTEND;TZID=Europe/Dublin:20220423T233000
DTSTAMP:20260421T094433
CREATED:20220420T114206Z
LAST-MODIFIED:20220420T114206Z
UID:44346-1650736800-1650756600@killarneyadvertiser.ie
SUMMARY:Pat Hayes
DESCRIPTION:Live music in the cafe area \n\n        \n            Attachments\n        4th July 2023 A3 Poster (605 kB)
URL:https://killarneyadvertiser.ie/whats-on-killarney/pat-hayes-5/
LOCATION:J.M. Reidys\, 4 Main Street\, Killarney\, V93 CC82\, Ireland
CATEGORIES:Live Music
ATTACH;FMTTYPE=image/jpeg:https://killarneyadvertiser.ie/wp-content/uploads/2022/03/JM-Reidy-1.jpeg
ORGANIZER;CN="J.M. Reidys":MAILTO:info@reidyskillarney.com
END:VEVENT
BEGIN:VEVENT
DTSTART;TZID=Europe/Dublin:20220422T230000
DTEND;TZID=Europe/Dublin:20220423T010000
DTSTAMP:20260421T094433
CREATED:20220421T091957Z
LAST-MODIFIED:20220421T091957Z
UID:44370-1650668400-1650675600@killarneyadvertiser.ie
SUMMARY:Piano Bar with John McGann
DESCRIPTION:Late night music in the Gleneagle Ballroom with John McGann \n\n        \n            Attachments\n        4th July 2023 A3 Poster (605 kB)
URL:https://killarneyadvertiser.ie/whats-on-killarney/piano-bar-with-john-mcgann-5/
LOCATION:Gleneagle INEC Arena\, Muckross Road\, Killarney\, V93 V6WF\, Ireland
CATEGORIES:Live Music
ATTACH;FMTTYPE=image/png:https://killarneyadvertiser.ie/wp-content/uploads/2022/03/inec_arena_logo_web.png
ORGANIZER;CN="Gleneagle INEC Arena":MAILTO:info@inec.ie
END:VEVENT
BEGIN:VEVENT
DTSTART;TZID=Europe/Dublin:20220422T210000
DTEND;TZID=Europe/Dublin:20220422T230000
DTSTAMP:20260421T094433
CREATED:20220420T093131Z
LAST-MODIFIED:20220420T093131Z
UID:44339-1650661200-1650668400@killarneyadvertiser.ie
SUMMARY:Live Music
DESCRIPTION:Live music with Jeff Quirke in the Main Bar and Alan Flynn in the Courtyard \n\n        \n            Attachments\n        4th July 2023 A3 Poster (605 kB)
URL:https://killarneyadvertiser.ie/whats-on-killarney/live-music-19/
LOCATION:Scotts Bar and Courtyard\, Scotts Street\, Killarney\, V93 CF30\, Ireland
CATEGORIES:Live Music
ATTACH;FMTTYPE=image/jpeg:https://killarneyadvertiser.ie/wp-content/uploads/2022/03/190510_COMMERCIAL_ScottsLowRes_47.jpg
ORGANIZER;CN="Scotts Bar and Courtyard":MAILTO:info@scottshotelkillarney.com
END:VEVENT
BEGIN:VEVENT
DTSTART;TZID=Europe/Dublin:20220422T203000
DTEND;TZID=Europe/Dublin:20220422T223000
DTSTAMP:20260421T094433
CREATED:20220414T085307Z
LAST-MODIFIED:20220421T092225Z
UID:44206-1650659400-1650666600@killarneyadvertiser.ie
SUMMARY:Englebert Humperdinck
DESCRIPTION:Engelbert Humperdinck performs all the hits in the Gleneagle INEC Arena \n\n        \n            Attachments\n        4th July 2023 A3 Poster (605 kB)
URL:https://killarneyadvertiser.ie/whats-on-killarney/englebert-humperdinck/
LOCATION:Gleneagle INEC Arena\, Muckross Road\, Killarney\, V93 V6WF\, Ireland
CATEGORIES:Live Music
ATTACH;FMTTYPE=image/png:https://killarneyadvertiser.ie/wp-content/uploads/2022/03/inec_arena_logo_web.png
ORGANIZER;CN="Gleneagle INEC Arena":MAILTO:info@inec.ie
END:VEVENT
BEGIN:VEVENT
DTSTART;TZID=Europe/Dublin:20220422T180000
DTEND;TZID=Europe/Dublin:20220423T020000
DTSTAMP:20260421T094433
CREATED:20220420T162958Z
LAST-MODIFIED:20220420T162958Z
UID:44351-1650650400-1650679200@killarneyadvertiser.ie
SUMMARY:Live Music
DESCRIPTION:Live music with exciting acts on each evening. \n\n        \n            Attachments\n        4th July 2023 A3 Poster (605 kB)
URL:https://killarneyadvertiser.ie/whats-on-killarney/live-music-22/
LOCATION:Social15\, 15 Main Street\, Killarney\, V93 P46Y\, Ireland
CATEGORIES:Live Music
ATTACH;FMTTYPE=image/png:https://killarneyadvertiser.ie/wp-content/uploads/2022/03/social_15_logo_web.png
ORGANIZER;CN="Social15":MAILTO:info@social15.ie
END:VEVENT
BEGIN:VEVENT
DTSTART;TZID=Europe/Dublin:20220422T180000
DTEND;TZID=Europe/Dublin:20220422T233000
DTSTAMP:20260421T094433
CREATED:20220420T114114Z
LAST-MODIFIED:20220420T114114Z
UID:44345-1650650400-1650670200@killarneyadvertiser.ie
SUMMARY:Pat Hayes
DESCRIPTION:Live Music in the courtyard \n\n        \n            Attachments\n        4th July 2023 A3 Poster (605 kB)
URL:https://killarneyadvertiser.ie/whats-on-killarney/pat-hayes-4/
LOCATION:J.M. Reidys\, 4 Main Street\, Killarney\, V93 CC82\, Ireland
CATEGORIES:Live Music
ATTACH;FMTTYPE=image/jpeg:https://killarneyadvertiser.ie/wp-content/uploads/2022/03/JM-Reidy-1.jpeg
ORGANIZER;CN="J.M. Reidys":MAILTO:info@reidyskillarney.com
END:VEVENT
END:VCALENDAR