BEGIN:VCALENDAR
VERSION:2.0
PRODID:-//Killarney Advertiser - ECPv6.8.2.1//NONSGML v1.0//EN
CALSCALE:GREGORIAN
METHOD:PUBLISH
X-WR-CALNAME:Killarney Advertiser
X-ORIGINAL-URL:https://killarneyadvertiser.ie
X-WR-CALDESC:Events for Killarney Advertiser
REFRESH-INTERVAL;VALUE=DURATION:PT1H
X-Robots-Tag:noindex
X-PUBLISHED-TTL:PT1H
BEGIN:VTIMEZONE
TZID:Europe/Dublin
BEGIN:STANDARD
TZOFFSETFROM:+0000
TZOFFSETTO:+0100
TZNAME:IST
DTSTART:20230326T010000
END:STANDARD
BEGIN:DAYLIGHT
TZOFFSETFROM:+0100
TZOFFSETTO:+0000
TZNAME:GMT
DTSTART:20231029T010000
END:DAYLIGHT
END:VTIMEZONE
BEGIN:VEVENT
DTSTART;TZID=Europe/Dublin:20230316T143000
DTEND;TZID=Europe/Dublin:20230317T003000
DTSTAMP:20260421T213635
CREATED:20230310T150419Z
LAST-MODIFIED:20230314T091103Z
UID:53176-1678977000-1679013000@killarneyadvertiser.ie
SUMMARY:Live Music at Scruffys
DESCRIPTION:Scruffy’s is a fun and happening bar in the heart of Killarney where the craic is guaranteed. This late-night venue comes alive with a party atmosphere\, welcoming live music with some of the best DJs and musicians around. Experience your best St. Patrick’s Day yet at Scruffys. \n\n        \n            Attachments\n        4th July 2023 A3 Poster (605 kB)
URL:https://killarneyadvertiser.ie/whats-on-killarney/st-patricks-day-at-scruffys/
LOCATION:Scruffys Bar\, Plunkett St.\, Killarney\, Co. Kerry\, Ireland
CATEGORIES:Live Music,Food & Drink
ATTACH;FMTTYPE=image/jpeg:https://killarneyadvertiser.ie/wp-content/uploads/2023/03/ABg9kNZS-scaled.jpg
END:VEVENT
BEGIN:VEVENT
DTSTART;TZID=Europe/Dublin:20230317T150000
DTEND;TZID=Europe/Dublin:20230318T020000
DTSTAMP:20260421T213635
CREATED:20230310T150616Z
LAST-MODIFIED:20230310T150616Z
UID:53179-1679065200-1679104800@killarneyadvertiser.ie
SUMMARY:St Patricks Day at Scruffys
DESCRIPTION:Scruffy’s is a fun and happening bar in the heart of Killarney where the craic is guaranteed. This late-night venue comes alive with a party atmosphere\, welcoming live music with some of the best DJs and musicians around. Experience your best St. Patrick’s Day yet at Scruffys. \n\n        \n            Attachments\n        4th July 2023 A3 Poster (605 kB)
URL:https://killarneyadvertiser.ie/whats-on-killarney/st-patricks-day-at-scruffys-2/
LOCATION:Scruffys Bar\, Plunkett St.\, Killarney\, Co. Kerry\, Ireland
CATEGORIES:Live Music,Food & Drink
ATTACH;FMTTYPE=image/jpeg:https://killarneyadvertiser.ie/wp-content/uploads/2023/03/ABg9kNZS-1-scaled.jpg
END:VEVENT
BEGIN:VEVENT
DTSTART;TZID=Europe/Dublin:20230317T213000
DTEND;TZID=Europe/Dublin:20230318T233000
DTSTAMP:20260421T213635
CREATED:20230310T145216Z
LAST-MODIFIED:20230310T153226Z
UID:53163-1679088600-1679182200@killarneyadvertiser.ie
SUMMARY:St. Patricks Day at O’Donoghue Public House
DESCRIPTION:Steeped in history and tradition\, we’re bringing back old pub ways to Killarney town for you to experience the authentic traditional Irish pub life. Pull up a stool at the bar\, or relax into a cosy corner in one of our snugs while you enjoy craic agus ceol this St. Patrick’s Day. \n\n        \n            Attachments\n        4th July 2023 A3 Poster (605 kB)
URL:https://killarneyadvertiser.ie/whats-on-killarney/st-patricks-day-at-odonoghue-public-house/
LOCATION:O’Donoghue Public House\, O'Donoghue Public House\, College St\, Killarney\, Co. Kerry\, V93 HP7A\, Ireland
CATEGORIES:Live Music,Food & Drink
ATTACH;FMTTYPE=image/jpeg:https://killarneyadvertiser.ie/wp-content/uploads/2023/03/y7u8RQaL-scaled.jpg
END:VEVENT
END:VCALENDAR