BEGIN:VCALENDAR
VERSION:2.0
PRODID:-//Killarney Advertiser - ECPv6.8.2.1//NONSGML v1.0//EN
CALSCALE:GREGORIAN
METHOD:PUBLISH
X-ORIGINAL-URL:https://killarneyadvertiser.ie
X-WR-CALDESC:Events for Killarney Advertiser
REFRESH-INTERVAL;VALUE=DURATION:PT1H
X-Robots-Tag:noindex
X-PUBLISHED-TTL:PT1H
BEGIN:VTIMEZONE
TZID:Europe/Dublin
BEGIN:STANDARD
TZOFFSETFROM:+0000
TZOFFSETTO:+0100
TZNAME:IST
DTSTART:20230326T010000
END:STANDARD
BEGIN:DAYLIGHT
TZOFFSETFROM:+0100
TZOFFSETTO:+0000
TZNAME:GMT
DTSTART:20231029T010000
END:DAYLIGHT
END:VTIMEZONE
BEGIN:VEVENT
DTSTART;TZID=Europe/Dublin:20230312T160000
DTEND;TZID=Europe/Dublin:20230312T180000
DTSTAMP:20260421T195622
CREATED:20230310T152223Z
LAST-MODIFIED:20230310T152223Z
UID:53201-1678636800-1678644000@killarneyadvertiser.ie
SUMMARY:Sunday Sessions at Scruffys
DESCRIPTION:Scruffy’s is a fun and happening bar in the heart of Killarney where the craic is guaranteed. This late-night venue comes alive with a party atmosphere\, welcoming live music with some of the best DJs and musicians around. \n\n        \n            Attachments\n        4th July 2023 A3 Poster (605 kB)
URL:https://killarneyadvertiser.ie/whats-on-killarney/sunday-sessions-at-scruffys/
LOCATION:Scruffys Bar\, Plunkett St.\, Killarney\, Co. Kerry\, Ireland
CATEGORIES:Live Music,Food & Drink
ATTACH;FMTTYPE=image/jpeg:https://killarneyadvertiser.ie/wp-content/uploads/2023/03/YYff71ON-2-scaled.jpg
END:VEVENT
END:VCALENDAR