BEGIN:VCALENDAR
VERSION:2.0
PRODID:-//Killarney Advertiser - ECPv6.8.2.1//NONSGML v1.0//EN
CALSCALE:GREGORIAN
METHOD:PUBLISH
X-ORIGINAL-URL:https://killarneyadvertiser.ie
X-WR-CALDESC:Events for Killarney Advertiser
REFRESH-INTERVAL;VALUE=DURATION:PT1H
X-Robots-Tag:noindex
X-PUBLISHED-TTL:PT1H
BEGIN:VTIMEZONE
TZID:Europe/Dublin
BEGIN:STANDARD
TZOFFSETFROM:+0000
TZOFFSETTO:+0100
TZNAME:IST
DTSTART:20220327T010000
END:STANDARD
BEGIN:DAYLIGHT
TZOFFSETFROM:+0100
TZOFFSETTO:+0000
TZNAME:GMT
DTSTART:20221030T010000
END:DAYLIGHT
END:VTIMEZONE
BEGIN:VEVENT
DTSTART;TZID=Europe/Dublin:20221203T193000
DTEND;TZID=Europe/Dublin:20221203T233000
DTSTAMP:20260421T095128
CREATED:20221014T142716Z
LAST-MODIFIED:20221014T142716Z
UID:49340-1670095800-1670110200@killarneyadvertiser.ie
SUMMARY:Gavin James
DESCRIPTION:Gavin James\, whose songcraft has been the key to unlocking 1.5 billion streams\, 6 million monthly listeners at Spotify\, 32 Platinum and Gold records across the globe\, has just announced his Irish headline tour to coincide with release of his upcoming 3rd studio album. \n From previous hits such as ‘Always’ and ‘Nervous’ to his more recent releases ‘Sober’ and his brand new single ‘Greatest Hits’\, which is currently in the top 5 radio airplay charts in Ireland\, playlisted on BBC Radio 2 and been championed at radio worldwide in Brazil\, Switzerland\, Portugal\, Belgium\, France\, Germany\, and Japan. \nGavin’s talents have been embraced by countless big names. He has played shows with Niall Horan\, Ed Sheeran\, and Sam Smith\, as well as his own sold-out world tour which started in 2019 and ended with a sold-out 3Arena Dublin show\, one of the last shows in Ireland before lockdown. Since then\, he’s released his number 1 Irish album and airplay-charting ‘Boxes’ EP.\nDubliner\, Gavin James has come a long way from his early days busking on Grafton Street. His international touring has resulted in 250\,000 ticket sales for his headline shows across the world\, including two nights at Dublin’s 13\,000-capacity 3Arena. Last month\, he made a triumphant return to the live arena\, when he played to 40\,000 people in Switzerland. Gavin is currently finishing his 3rd album and he kicks off 2022 by headlining the New Year’s Days festival at Dublin Castle on New Years Day and he will be joining James Blunt on his UK Arena tour staring on Feb 3rd followed by his Irish headline tour dates in April. \n\n        \n            Attachments\n        4th July 2023 A3 Poster (605 kB)
URL:https://killarneyadvertiser.ie/whats-on-killarney/gavin-james/
LOCATION:Gleneagle INEC Arena\, Muckross Road\, Killarney\, V93 V6WF\, Ireland
CATEGORIES:Live Music,Concert
ATTACH;FMTTYPE=image/jpeg:https://killarneyadvertiser.ie/wp-content/uploads/2022/10/Gavin-James-April-2022-Web-Image-440x300-1.jpg
ORGANIZER;CN="Gleneagle INEC Arena":MAILTO:info@inec.ie
END:VEVENT
END:VCALENDAR