BEGIN:VCALENDAR
VERSION:2.0
PRODID:-//Killarney Advertiser - ECPv6.8.2.1//NONSGML v1.0//EN
CALSCALE:GREGORIAN
METHOD:PUBLISH
X-WR-CALNAME:Killarney Advertiser
X-ORIGINAL-URL:https://killarneyadvertiser.ie
X-WR-CALDESC:Events for Killarney Advertiser
REFRESH-INTERVAL;VALUE=DURATION:PT1H
X-Robots-Tag:noindex
X-PUBLISHED-TTL:PT1H
BEGIN:VTIMEZONE
TZID:Europe/Dublin
BEGIN:STANDARD
TZOFFSETFROM:+0000
TZOFFSETTO:+0100
TZNAME:IST
DTSTART:20220327T010000
END:STANDARD
BEGIN:DAYLIGHT
TZOFFSETFROM:+0100
TZOFFSETTO:+0000
TZNAME:GMT
DTSTART:20221030T010000
END:DAYLIGHT
END:VTIMEZONE
BEGIN:VEVENT
DTSTART;TZID=Europe/Dublin:20221202T193000
DTEND;TZID=Europe/Dublin:20221202T223000
DTSTAMP:20260421T094737
CREATED:20221014T142054Z
LAST-MODIFIED:20221014T142054Z
UID:49338-1670009400-1670020200@killarneyadvertiser.ie
SUMMARY:Tommy Tiernan 'Tomfoolery'
DESCRIPTION:“Tiernan can drop in turns of phrase so exquisite that you could call them a sound installation and enter them for the Turner prize.”- The Times \nTOMMY TIERNAN’S brand new show ‘tomfoolery’ sees the now 50-year-old comedian back onstage with an exhilarating mix of the highly personal and flamboyant storytelling that audiences have come to love. Renowned for his no holds barred approach to the art of stand-up\, this promises to be a delightful trip through the mouth and mind of one the world’s most respected comic performers. \nAge has not dulled him\, In fact he seems more full of fire and mischief now than he ever was. He wonders aloud about God\, sex and family in a way that seems equally sacred and profane at the same time. His stories and ideas are as full of drama as they are of wit and fun. \nHis legendary record-breaking ticket sales extend across the world. The Star of Channel 4’s hit show Derry Girls and Live at the Apollo (BBC) and the host of his own highly critically praised improvised chat show on Ireland’s RTE 1 \n\n        \n            Attachments\n        4th July 2023 A3 Poster (605 kB)
URL:https://killarneyadvertiser.ie/whats-on-killarney/tommy-tiernan-tomfoolery-2/
LOCATION:Gleneagle INEC Arena\, Muckross Road\, Killarney\, V93 V6WF\, Ireland
CATEGORIES:Live Music,Concert
ATTACH;FMTTYPE=image/jpeg:https://killarneyadvertiser.ie/wp-content/uploads/2022/10/Tommy-Tiernan-Web-Images-440-x-300.jpg
ORGANIZER;CN="Gleneagle INEC Arena":MAILTO:info@inec.ie
END:VEVENT
BEGIN:VEVENT
DTSTART;TZID=Europe/Dublin:20221202T210000
DTEND;TZID=Europe/Dublin:20221203T000000
DTSTAMP:20260421T094737
CREATED:20221128T112009Z
LAST-MODIFIED:20221128T112009Z
UID:50636-1670014800-1670025600@killarneyadvertiser.ie
SUMMARY:Live Music
DESCRIPTION:Join us and enjoy the festive spirit with live music in the Courtyard from 9pm with Alan Flynn and in the main bar from 10pm with Ivan Ryan \n\n        \n            Attachments\n        4th July 2023 A3 Poster (605 kB)
URL:https://killarneyadvertiser.ie/whats-on-killarney/live-music-73/
LOCATION:Scotts Bar and Courtyard\, Scotts Street\, Killarney\, V93 CF30\, Ireland
CATEGORIES:Live Music
ATTACH;FMTTYPE=image/jpeg:https://killarneyadvertiser.ie/wp-content/uploads/2022/11/70119826_10158008857204903_5309266291587022848_n-1.jpg
ORGANIZER;CN="Scotts Bar and Courtyard":MAILTO:info@scottshotelkillarney.com
END:VEVENT
END:VCALENDAR