BEGIN:VCALENDAR
VERSION:2.0
PRODID:-//Killarney Advertiser - ECPv6.8.2.1//NONSGML v1.0//EN
CALSCALE:GREGORIAN
METHOD:PUBLISH
X-WR-CALNAME:Killarney Advertiser
X-ORIGINAL-URL:https://killarneyadvertiser.ie
X-WR-CALDESC:Events for Killarney Advertiser
REFRESH-INTERVAL;VALUE=DURATION:PT1H
X-Robots-Tag:noindex
X-PUBLISHED-TTL:PT1H
BEGIN:VTIMEZONE
TZID:Europe/Dublin
BEGIN:STANDARD
TZOFFSETFROM:+0000
TZOFFSETTO:+0100
TZNAME:IST
DTSTART:20220327T010000
END:STANDARD
BEGIN:DAYLIGHT
TZOFFSETFROM:+0100
TZOFFSETTO:+0000
TZNAME:GMT
DTSTART:20221030T010000
END:DAYLIGHT
END:VTIMEZONE
BEGIN:VEVENT
DTSTART;TZID=Europe/Dublin:20221126T180000
DTEND;TZID=Europe/Dublin:20221126T190000
DTSTAMP:20260421T094732
CREATED:20221027T131922Z
LAST-MODIFIED:20221108T103838Z
UID:49668-1669485600-1669489200@killarneyadvertiser.ie
SUMMARY:Magic Parades
DESCRIPTION:Experience the magic of Christmas in Killarney with a series of festive parades every Saturday until Christmas. 26th November 3rd December 10th December 17th December For more details visit www.christmasinkillarney.com \n\n        \n            Attachments\n        4th July 2023 A3 Poster (605 kB)
URL:https://killarneyadvertiser.ie/whats-on-killarney/magic-parades/2022-11-26/
ATTACH;FMTTYPE=image/jpeg:https://killarneyadvertiser.ie/wp-content/uploads/2022/10/CIK_Fav_Fairy-scaled.jpg
END:VEVENT
END:VCALENDAR