BEGIN:VCALENDAR
VERSION:2.0
PRODID:-//Killarney Advertiser - ECPv6.8.2.1//NONSGML v1.0//EN
CALSCALE:GREGORIAN
METHOD:PUBLISH
X-ORIGINAL-URL:https://killarneyadvertiser.ie
X-WR-CALDESC:Events for Killarney Advertiser
REFRESH-INTERVAL;VALUE=DURATION:PT1H
X-Robots-Tag:noindex
X-PUBLISHED-TTL:PT1H
BEGIN:VTIMEZONE
TZID:Europe/Dublin
BEGIN:STANDARD
TZOFFSETFROM:+0000
TZOFFSETTO:+0100
TZNAME:IST
DTSTART:20220327T010000
END:STANDARD
BEGIN:DAYLIGHT
TZOFFSETFROM:+0100
TZOFFSETTO:+0000
TZNAME:GMT
DTSTART:20221030T010000
END:DAYLIGHT
END:VTIMEZONE
BEGIN:VEVENT
DTSTART;TZID=Europe/Dublin:20221125T193000
DTEND;TZID=Europe/Dublin:20221125T223000
DTSTAMP:20260421T095130
CREATED:20221014T141838Z
LAST-MODIFIED:20221014T141838Z
UID:49336-1669404600-1669415400@killarneyadvertiser.ie
SUMMARY:The Drifters Tribute
DESCRIPTION:After a fantastic night of entertainment at The INEC Arena in November 2021\, The Music of The Drifters (one of the UK’s No.1 Tribute Shows) are back again in November 2022. Join them as they perform with a live band all the chart-topping greatest hits from the iconic band The Drifters. Special guest is Desi Egan who has worked alongside some of the greats of show business like Joe Dolan\, Roger Whittaker\, Tony Christie\, Brendan Grace\, Ray Lynam and Dickie Rock to name a few. This will be a memorable night of great music so don’t miss it. \n\n        \n            Attachments\n        4th July 2023 A3 Poster (605 kB)
URL:https://killarneyadvertiser.ie/whats-on-killarney/the-drifters-tribute/
LOCATION:Gleneagle INEC Arena\, Muckross Road\, Killarney\, V93 V6WF\, Ireland
CATEGORIES:Live Music,Concert
ATTACH;FMTTYPE=image/jpeg:https://killarneyadvertiser.ie/wp-content/uploads/2022/10/The-Drifters-INEC-Club-Nov-2022-440-x-300.jpg
ORGANIZER;CN="Gleneagle INEC Arena":MAILTO:info@inec.ie
END:VEVENT
END:VCALENDAR