BEGIN:VCALENDAR
VERSION:2.0
PRODID:-//Killarney Advertiser - ECPv6.8.2.1//NONSGML v1.0//EN
CALSCALE:GREGORIAN
METHOD:PUBLISH
X-ORIGINAL-URL:https://killarneyadvertiser.ie
X-WR-CALDESC:Events for Killarney Advertiser
REFRESH-INTERVAL;VALUE=DURATION:PT1H
X-Robots-Tag:noindex
X-PUBLISHED-TTL:PT1H
BEGIN:VTIMEZONE
TZID:Europe/Dublin
BEGIN:STANDARD
TZOFFSETFROM:+0000
TZOFFSETTO:+0100
TZNAME:IST
DTSTART:20220327T010000
END:STANDARD
BEGIN:DAYLIGHT
TZOFFSETFROM:+0100
TZOFFSETTO:+0000
TZNAME:GMT
DTSTART:20221030T010000
END:DAYLIGHT
END:VTIMEZONE
BEGIN:VEVENT
DTSTART;VALUE=DATE:20221117
DTEND;VALUE=DATE:20221118
DTSTAMP:20260421T095034
CREATED:20221028T110643Z
LAST-MODIFIED:20221028T110643Z
UID:49801-1668643200-1668729599@killarneyadvertiser.ie
SUMMARY:Dine in Killarney
DESCRIPTION:Come and dine in Killarney with participating restaurants offering a special 3-course menu for just Eur30 on Thursday 17th and 24th of November. \nBook directly with your restaurant of choice quoting ‘Dine in Killarney’ \nChoose from Bricin\, Cronins Restauran\, Garret’s\, Hannigan’s @ The International Hotel\, Harrow\, Hilliard’s\, Kayne’s Bar & Brasserie\, Murphy Brownes\, Murphy’s\, O’Donoghue Public House\, The Arbutus Hotel\, The Candle Room @ Killarney Royal\, The Flesk Restaurant (Main Street)\, The Garden Room @ Great Southern Killarney\, The Mill Bar & Brasserie @ Heights Hotel\, The Porterhouse Killarney \nDine in Killarney is part of the annual Christmas in Killarney Festival 2022. \n\n        \n            Attachments\n        4th July 2023 A3 Poster (605 kB)
URL:https://killarneyadvertiser.ie/whats-on-killarney/dine-in-killarney/2022-11-17/
CATEGORIES:Food & Drink
ATTACH;FMTTYPE=image/jpeg:https://killarneyadvertiser.ie/wp-content/uploads/2022/10/Christmas-Dining.jpg
END:VEVENT
END:VCALENDAR