BEGIN:VCALENDAR
VERSION:2.0
PRODID:-//Killarney Advertiser - ECPv6.8.2.1//NONSGML v1.0//EN
CALSCALE:GREGORIAN
METHOD:PUBLISH
X-ORIGINAL-URL:https://killarneyadvertiser.ie
X-WR-CALDESC:Events for Killarney Advertiser
REFRESH-INTERVAL;VALUE=DURATION:PT1H
X-Robots-Tag:noindex
X-PUBLISHED-TTL:PT1H
BEGIN:VTIMEZONE
TZID:Europe/Dublin
BEGIN:STANDARD
TZOFFSETFROM:+0000
TZOFFSETTO:+0100
TZNAME:IST
DTSTART:20220327T010000
END:STANDARD
BEGIN:DAYLIGHT
TZOFFSETFROM:+0100
TZOFFSETTO:+0000
TZNAME:GMT
DTSTART:20221030T010000
END:DAYLIGHT
END:VTIMEZONE
BEGIN:VEVENT
DTSTART;TZID=Europe/Dublin:20221105T210000
DTEND;TZID=Europe/Dublin:20221105T230000
DTSTAMP:20260421T081816
CREATED:20220706T115528Z
LAST-MODIFIED:20221104T102235Z
UID:47962-1667682000-1667689200@killarneyadvertiser.ie
SUMMARY:Café Du Parc at Dark
DESCRIPTION:Come and sit with friends in the warm relaxed atmosphere of the Cafe du Parc bar. From 5pm daily enjoy uncomplicated yet moreish dishes from our bar bites menu. Share food with friends and enjoy seasonal cocktails in an intimate and funky setting. Our dj’s play a mix of old school jams and funky beats and the best of local talent plays live on a regular basis. We have a great selection of seasonal cocktails as well as craft beers\, gins and whiskeys. \n\n        \n            Attachments\n        4th July 2023 A3 Poster (605 kB)
URL:https://killarneyadvertiser.ie/whats-on-killarney/cafe-du-parc-at-dark-2022-11-05/
LOCATION:Café Du Parc\, Killarney Plaza Hotel & Spa\, Kenmare Place\, Killarney\, Co. Kerry\, V93X3VW\, Ireland
CATEGORIES:Food & Drink
ATTACH;FMTTYPE=image/jpeg:https://killarneyadvertiser.ie/wp-content/uploads/2022/07/IMG_5331.jpg
END:VEVENT
END:VCALENDAR