BEGIN:VCALENDAR
VERSION:2.0
PRODID:-//Killarney Advertiser - ECPv6.8.2.1//NONSGML v1.0//EN
CALSCALE:GREGORIAN
METHOD:PUBLISH
X-WR-CALNAME:Killarney Advertiser
X-ORIGINAL-URL:https://killarneyadvertiser.ie
X-WR-CALDESC:Events for Killarney Advertiser
REFRESH-INTERVAL;VALUE=DURATION:PT1H
X-Robots-Tag:noindex
X-PUBLISHED-TTL:PT1H
BEGIN:VTIMEZONE
TZID:Europe/Dublin
BEGIN:STANDARD
TZOFFSETFROM:+0000
TZOFFSETTO:+0100
TZNAME:IST
DTSTART:20220327T010000
END:STANDARD
BEGIN:DAYLIGHT
TZOFFSETFROM:+0100
TZOFFSETTO:+0000
TZNAME:GMT
DTSTART:20221030T010000
END:DAYLIGHT
END:VTIMEZONE
BEGIN:VEVENT
DTSTART;TZID=Europe/Dublin:20221030T193000
DTEND;TZID=Europe/Dublin:20221030T223000
DTSTAMP:20260421T094738
CREATED:20221014T140053Z
LAST-MODIFIED:20221014T161905Z
UID:49325-1667158200-1667169000@killarneyadvertiser.ie
SUMMARY:Ryan McMullan
DESCRIPTION:Ryan McMullan is an acoustic singer-songwriter from Portaferry\, Northern Ireland. He released several EPs before dropping his debut album\, ‘The “Debut” Mixtape’\, in 2021. As well as headlining his own shows across the world\, his touring history also boasts support slots with the likes of Foy Vance and Ed Sheeran. \n\n        \n            Attachments\n        4th July 2023 A3 Poster (605 kB)
URL:https://killarneyadvertiser.ie/whats-on-killarney/ryan-mcmullan/
LOCATION:Gleneagle INEC Arena\, Muckross Road\, Killarney\, V93 V6WF\, Ireland
ATTACH;FMTTYPE=image/jpeg:https://killarneyadvertiser.ie/wp-content/uploads/2022/10/Ryan-McMullan-Dec-2021-Web-Image-440x300-1.jpg
ORGANIZER;CN="Gleneagle INEC Arena":MAILTO:info@inec.ie
END:VEVENT
BEGIN:VEVENT
DTSTART;TZID=Europe/Dublin:20221030T230000
DTEND;TZID=Europe/Dublin:20221031T010000
DTSTAMP:20260421T094738
CREATED:20221019T142408Z
LAST-MODIFIED:20221019T143426Z
UID:49396-1667170800-1667178000@killarneyadvertiser.ie
SUMMARY:Dreams of Freedom
DESCRIPTION:Dreams Of Freedom are a Ballad Folk and Rebel band who hail from Co Kerry in the southwest of Ireland. Dreams Of Freedom strive on their commitment to carrying on the proud culture and traditions of Ireland through songs and stories. Having a great time and enjoying the experience of one of our gigs is very much our number one priority. Dreams Of Freedom work hard promoting the culture of Ireland through songs and music. This is one of their passions\, telling the story of Irish history through song and music and in their own small part trying to preserve the long history of Ireland\, from Famines and Rebellions to old stories and songs. When you step into a Dreams Of Freedom gig you will be met with instant energy and desire\, you will feel the true spirit of Ireland’s songs and music and you will see what bringing these songs to you means too them. So go find a Dreams Of Freedom gig and experience the excitement for yourself. See them perform in the INEC Backstage Bar \n\n        \n            Attachments\n        4th July 2023 A3 Poster (605 kB)
URL:https://killarneyadvertiser.ie/whats-on-killarney/dreams-of-freedom/
LOCATION:Gleneagle INEC Arena\, Muckross Road\, Killarney\, V93 V6WF\, Ireland
CATEGORIES:Live Music,Sport
ATTACH;FMTTYPE=image/jpeg:https://killarneyadvertiser.ie/wp-content/uploads/2022/10/The-Gleneagle-Killarney-Lake-Tours-SEM-1200-x-1200-Logo-1-10.jpg
ORGANIZER;CN="Gleneagle INEC Arena":MAILTO:info@inec.ie
END:VEVENT
END:VCALENDAR