BEGIN:VCALENDAR
VERSION:2.0
PRODID:-//Killarney Advertiser - ECPv6.8.2.1//NONSGML v1.0//EN
CALSCALE:GREGORIAN
METHOD:PUBLISH
X-WR-CALNAME:Killarney Advertiser
X-ORIGINAL-URL:https://killarneyadvertiser.ie
X-WR-CALDESC:Events for Killarney Advertiser
REFRESH-INTERVAL;VALUE=DURATION:PT1H
X-Robots-Tag:noindex
X-PUBLISHED-TTL:PT1H
BEGIN:VTIMEZONE
TZID:Europe/Dublin
BEGIN:STANDARD
TZOFFSETFROM:+0000
TZOFFSETTO:+0100
TZNAME:IST
DTSTART:20220327T010000
END:STANDARD
BEGIN:DAYLIGHT
TZOFFSETFROM:+0100
TZOFFSETTO:+0000
TZNAME:GMT
DTSTART:20221030T010000
END:DAYLIGHT
END:VTIMEZONE
BEGIN:VEVENT
DTSTART;TZID=Europe/Dublin:20221029T193000
DTEND;TZID=Europe/Dublin:20221029T223000
DTSTAMP:20260421T094738
CREATED:20221014T135420Z
LAST-MODIFIED:20221014T135420Z
UID:49321-1667071800-1667082600@killarneyadvertiser.ie
SUMMARY:Abbaesque
DESCRIPTION:ABBAesque are undoubtedly Ireland’s number one tribute show ever! Their success over the past 21 years has been phenomenal making them without question Ireland’s most successful tribute show performing in excess of 150 sell out concerts each year. \nOften Copied..\n..but Never Equalled!! \n\n        \n            Attachments\n        4th July 2023 A3 Poster (605 kB)
URL:https://killarneyadvertiser.ie/whats-on-killarney/abbaesque-3/
LOCATION:Gleneagle INEC Arena\, Muckross Road\, Killarney\, V93 V6WF\, Ireland
CATEGORIES:Live Music,Concert
ATTACH;FMTTYPE=image/jpeg:https://killarneyadvertiser.ie/wp-content/uploads/2022/10/Abbaesque-440-x-300.jpg
ORGANIZER;CN="Gleneagle INEC Arena":MAILTO:info@inec.ie
END:VEVENT
BEGIN:VEVENT
DTSTART;TZID=Europe/Dublin:20221029T193000
DTEND;TZID=Europe/Dublin:20221029T223000
DTSTAMP:20260421T094738
CREATED:20221014T135630Z
LAST-MODIFIED:20221014T135630Z
UID:49323-1667071800-1667082600@killarneyadvertiser.ie
SUMMARY:John Spillane
DESCRIPTION:John Spillane is a musician\, songwriter\, performer\, recording artist\, storyteller\, poet and dreamer. Rooted in people\, place and story\, his music transports the listener and his live performances captivate audiences around the world. \nAfter his acclaimed release of 100 Snow White Horses in 2021\, in October 2022\, John will release ‘In Another Light’ a career spanning album recorded live at the Right Here Right Now Festival recorded at Cork Opera House in November 2021. \n\n        \n            Attachments\n        4th July 2023 A3 Poster (605 kB)
URL:https://killarneyadvertiser.ie/whats-on-killarney/john-spillane/
LOCATION:Gleneagle INEC Arena\, Muckross Road\, Killarney\, V93 V6WF\, Ireland
CATEGORIES:Live Music,Concert
ATTACH;FMTTYPE=image/jpeg:https://killarneyadvertiser.ie/wp-content/uploads/2022/10/John-Spillane-Web-Images-440-x-300.jpg
ORGANIZER;CN="Gleneagle INEC Arena":MAILTO:info@inec.ie
END:VEVENT
BEGIN:VEVENT
DTSTART;TZID=Europe/Dublin:20221029T203000
DTEND;TZID=Europe/Dublin:20221029T233000
DTSTAMP:20260421T094738
CREATED:20221014T140337Z
LAST-MODIFIED:20221014T140337Z
UID:49327-1667075400-1667086200@killarneyadvertiser.ie
SUMMARY:Mike Denver Dance with Ashling Rafferty
DESCRIPTION:Dance the night away with Mike Denver Dance with Ashling Rafferty in the Gleneagle Ballroom \n\n        \n            Attachments\n        4th July 2023 A3 Poster (605 kB)
URL:https://killarneyadvertiser.ie/whats-on-killarney/mike-denver-dance-with-ashling-rafferty/
LOCATION:Gleneagle INEC Arena\, Muckross Road\, Killarney\, V93 V6WF\, Ireland
CATEGORIES:Live Music,Concert
ATTACH;FMTTYPE=image/jpeg:https://killarneyadvertiser.ie/wp-content/uploads/2022/10/Mike-Denver-Web-Images-440-x-300.jpg
ORGANIZER;CN="Gleneagle INEC Arena":MAILTO:info@inec.ie
END:VEVENT
END:VCALENDAR