BEGIN:VCALENDAR
VERSION:2.0
PRODID:-//Killarney Advertiser - ECPv6.8.2.1//NONSGML v1.0//EN
CALSCALE:GREGORIAN
METHOD:PUBLISH
X-ORIGINAL-URL:https://killarneyadvertiser.ie
X-WR-CALDESC:Events for Killarney Advertiser
REFRESH-INTERVAL;VALUE=DURATION:PT1H
X-Robots-Tag:noindex
X-PUBLISHED-TTL:PT1H
BEGIN:VTIMEZONE
TZID:Europe/Dublin
BEGIN:STANDARD
TZOFFSETFROM:+0000
TZOFFSETTO:+0100
TZNAME:IST
DTSTART:20220327T010000
END:STANDARD
BEGIN:DAYLIGHT
TZOFFSETFROM:+0100
TZOFFSETTO:+0000
TZNAME:GMT
DTSTART:20221030T010000
END:DAYLIGHT
END:VTIMEZONE
BEGIN:VEVENT
DTSTART;TZID=Europe/Dublin:20221027T193000
DTEND;TZID=Europe/Dublin:20221027T223000
DTSTAMP:20260421T081816
CREATED:20221014T135024Z
LAST-MODIFIED:20221014T135024Z
UID:49319-1666899000-1666909800@killarneyadvertiser.ie
SUMMARY:Susan McCann - String of Diamonds Tour
DESCRIPTION:International award winning Susan McCann has never been far away from centre stage for most of the last 50 years. ‘String of Diamonds’ was one of her major hit records\, originally released in 1994 and selling over half a million albums. The String of Diamonds brand has been synonymous with Susan not only for music but branching out to her own range of jewellery and make up. Weekend festivals under the banner of ‘String of Diamonds’ sold out\, with fans travelling from as far away as Belgium and Scotland. Her show in The INEC CLUb will be a unique opportunity for you to hear her in fine voice performing all her hits like ‘The Old Man On The Porch’\, ‘Penny Arcade’\, ‘When the Sun Says Goodbye To The Mountains’\, ’Broken Speed’ and of course her precious ‘String of Diamonds’ medleys. \n\n        \n            Attachments\n        4th July 2023 A3 Poster (605 kB)
URL:https://killarneyadvertiser.ie/whats-on-killarney/susan-mccann-string-of-diamonds-tour/
LOCATION:Gleneagle INEC Arena\, Muckross Road\, Killarney\, V93 V6WF\, Ireland
CATEGORIES:Live Music,Concert
ATTACH;FMTTYPE=image/jpeg:https://killarneyadvertiser.ie/wp-content/uploads/2022/10/Susan-McCann-Web-Images-440-x-300.jpg
ORGANIZER;CN="Gleneagle INEC Arena":MAILTO:info@inec.ie
END:VEVENT
BEGIN:VEVENT
DTSTART;TZID=Europe/Dublin:20221027T213000
DTEND;TZID=Europe/Dublin:20221027T233000
DTSTAMP:20260421T081816
CREATED:20221019T141050Z
LAST-MODIFIED:20221019T141050Z
UID:49394-1666906200-1666913400@killarneyadvertiser.ie
SUMMARY:Checkers
DESCRIPTION:Dance with Checkers in the Gleneagle Ballroom. \n\n        \n            Attachments\n        4th July 2023 A3 Poster (605 kB)
URL:https://killarneyadvertiser.ie/whats-on-killarney/checkers/
LOCATION:Gleneagle INEC Arena\, Muckross Road\, Killarney\, V93 V6WF\, Ireland
ATTACH;FMTTYPE=image/jpeg:https://killarneyadvertiser.ie/wp-content/uploads/2022/10/The-Gleneagle-Killarney-Lake-Tours-SEM-1200-x-1200-Logo-1-9.jpg
ORGANIZER;CN="Gleneagle INEC Arena":MAILTO:info@inec.ie
END:VEVENT
END:VCALENDAR