BEGIN:VCALENDAR
VERSION:2.0
PRODID:-//Killarney Advertiser - ECPv6.8.2.1//NONSGML v1.0//EN
CALSCALE:GREGORIAN
METHOD:PUBLISH
X-ORIGINAL-URL:https://killarneyadvertiser.ie
X-WR-CALDESC:Events for Killarney Advertiser
REFRESH-INTERVAL;VALUE=DURATION:PT1H
X-Robots-Tag:noindex
X-PUBLISHED-TTL:PT1H
BEGIN:VTIMEZONE
TZID:Europe/Dublin
BEGIN:STANDARD
TZOFFSETFROM:+0000
TZOFFSETTO:+0100
TZNAME:IST
DTSTART:20220327T010000
END:STANDARD
BEGIN:DAYLIGHT
TZOFFSETFROM:+0100
TZOFFSETTO:+0000
TZNAME:GMT
DTSTART:20221030T010000
END:DAYLIGHT
END:VTIMEZONE
BEGIN:VEVENT
DTSTART;TZID=Europe/Dublin:20221015T194500
DTEND;TZID=Europe/Dublin:20221016T020000
DTSTAMP:20260421T081705
CREATED:20220729T084706Z
LAST-MODIFIED:20221011T092406Z
UID:48204-1665863100-1665885600@killarneyadvertiser.ie
SUMMARY:Rocking Jimmy & Tracey - Live Irish Folk Music
DESCRIPTION:Steeped in history and tradition\, we’re bringing back old pub ways to Killarney town for you to experience authentic traditional Irish pub life. Pull up a stool at the bar\, or relax into a cozy corner in one of our snugs. \nTradition is craft and design passed through the generations\, and we’re honoring that by serving you dishes as they were intended to be made and enjoyed. Underneath it all\, O’Donoghue Public House is a place to enjoy a creamy pint after an exhilarating day\, and we haven’t forgotten about the craft of draught. Guinness is what we’re good at\, and we hear it’s good for you too. \nEnjoy Live Irish Folk Music 7 nights a week with us! \n\n        \n            Attachments\n        4th July 2023 A3 Poster (605 kB)
URL:https://killarneyadvertiser.ie/whats-on-killarney/live-irish-folk-music-2022-10-15/
LOCATION:O’Donoghue Public House\, O'Donoghue Public House\, College St\, Killarney\, Co. Kerry\, V93 HP7A\, Ireland
CATEGORIES:Live Music
ATTACH;FMTTYPE=image/jpeg:https://killarneyadvertiser.ie/wp-content/uploads/2022/07/ODonoghue-Public-House-00001-1.jpg
END:VEVENT
BEGIN:VEVENT
DTSTART;TZID=Europe/Dublin:20221016T110000
DTEND;TZID=Europe/Dublin:20221016T150000
DTSTAMP:20260421T081705
CREATED:20220810T133240Z
LAST-MODIFIED:20221013T153023Z
UID:48014-1665918000-1665932400@killarneyadvertiser.ie
SUMMARY:Funky Brunch
DESCRIPTION:Cafe du Parc has become a renowned destination in Killarney town for our funky brunch. Listen to soulful tunes by our resident dj (11am – 3pm) while enjoying an extensive brunch menu including pancakes\, Eggs Benedict\, along with coffees\, juices\, mimosas and much more. Make your time with us more special by trying our bottomless brunch available from 12pm to 2pm. A great place to wind down the weekend or ‘something different’ as a special occasion. \n\n        \n            Attachments\n        4th July 2023 A3 Poster (605 kB)
URL:https://killarneyadvertiser.ie/whats-on-killarney/funky-brunch-2022-10-16/
LOCATION:Café Du Parc\, Killarney Plaza Hotel & Spa\, Kenmare Place\, Killarney\, Co. Kerry\, V93X3VW\, Ireland
CATEGORIES:Live Music,Food & Drink
ATTACH;FMTTYPE=image/jpeg:https://killarneyadvertiser.ie/wp-content/uploads/2022/08/IMG_5369-1.jpg
END:VEVENT
BEGIN:VEVENT
DTSTART;TZID=Europe/Dublin:20221016T173000
DTEND;TZID=Europe/Dublin:20221016T230000
DTSTAMP:20260421T081705
CREATED:20220729T084706Z
LAST-MODIFIED:20221011T092452Z
UID:48423-1665941400-1665961200@killarneyadvertiser.ie
SUMMARY:Rocking Jimmy & Tracey - Live Irish Folk Music
DESCRIPTION:Steeped in history and tradition\, we’re bringing back old pub ways to Killarney town for you to experience authentic traditional Irish pub life. Pull up a stool at the bar\, or relax into a cozy corner in one of our snugs. \nTradition is craft and design passed through the generations\, and we’re honoring that by serving you dishes as they were intended to be made and enjoyed. Underneath it all\, O’Donoghue Public House is a place to enjoy a creamy pint after an exhilarating day\, and we haven’t forgotten about the craft of draught. Guinness is what we’re good at\, and we hear it’s good for you too. \nEnjoy Live Irish Folk Music 7 nights a week with us! \n\n        \n            Attachments\n        4th July 2023 A3 Poster (605 kB)
URL:https://killarneyadvertiser.ie/whats-on-killarney/live-irish-folk-music-2022-10-16/
LOCATION:O’Donoghue Public House\, O'Donoghue Public House\, College St\, Killarney\, Co. Kerry\, V93 HP7A\, Ireland
CATEGORIES:Live Music
ATTACH;FMTTYPE=image/jpeg:https://killarneyadvertiser.ie/wp-content/uploads/2022/07/ODonoghue-Public-House-00001-1.jpg
END:VEVENT
BEGIN:VEVENT
DTSTART;TZID=Europe/Dublin:20221016T193000
DTEND;TZID=Europe/Dublin:20221016T223000
DTSTAMP:20260421T081705
CREATED:20221014T134336Z
LAST-MODIFIED:20221014T134336Z
UID:49312-1665948600-1665959400@killarneyadvertiser.ie
SUMMARY:Brad Heidi
DESCRIPTION:Galway based singer-songwriter Brad Heidi\, is fast becoming the next Irish singer song writer to break through. After quitting school Brad’s been travelling around Ireland busking with just his acoustic guitar and a suitcase full of heartfelt songs. \nBrad has now gone from busking on the streets to selling out his first headline Irish tour as well as releasing his debut EP. The self released “EP” qualified for the official Irish Charts\, reaching No.2 on the Independent album Charts and No.1 on iTunes. 2021. \nBrad has also recently supported Blanks\, James Blunt\, Lucy Blue\, Lisa Hannigan and toured with Gavin James in addition Brad’s consistency reaching No.1 on TikTok live streams. \n\n        \n            Attachments\n        4th July 2023 A3 Poster (605 kB)
URL:https://killarneyadvertiser.ie/whats-on-killarney/brad-heidi/
LOCATION:Gleneagle INEC Arena\, Muckross Road\, Killarney\, V93 V6WF\, Ireland
CATEGORIES:Live Music,Concert
ATTACH;FMTTYPE=image/jpeg:https://killarneyadvertiser.ie/wp-content/uploads/2022/10/Brad-Heidi-Web-Images-440-x-300.jpg
ORGANIZER;CN="Gleneagle INEC Arena":MAILTO:info@inec.ie
END:VEVENT
END:VCALENDAR