BEGIN:VCALENDAR
VERSION:2.0
PRODID:-//Killarney Advertiser - ECPv6.8.2.1//NONSGML v1.0//EN
CALSCALE:GREGORIAN
METHOD:PUBLISH
X-WR-CALNAME:Killarney Advertiser
X-ORIGINAL-URL:https://killarneyadvertiser.ie
X-WR-CALDESC:Events for Killarney Advertiser
REFRESH-INTERVAL;VALUE=DURATION:PT1H
X-Robots-Tag:noindex
X-PUBLISHED-TTL:PT1H
BEGIN:VTIMEZONE
TZID:Europe/Dublin
BEGIN:STANDARD
TZOFFSETFROM:+0000
TZOFFSETTO:+0100
TZNAME:IST
DTSTART:20220327T010000
END:STANDARD
BEGIN:DAYLIGHT
TZOFFSETFROM:+0100
TZOFFSETTO:+0000
TZNAME:GMT
DTSTART:20221030T010000
END:DAYLIGHT
END:VTIMEZONE
BEGIN:VEVENT
DTSTART;TZID=Europe/Dublin:20221014T080000
DTEND;TZID=Europe/Dublin:20221014T170000
DTSTAMP:20260421T094736
CREATED:20221003T103102Z
LAST-MODIFIED:20221003T103102Z
UID:48995-1665734400-1665766800@killarneyadvertiser.ie
SUMMARY:Tony Sings
DESCRIPTION:Tony Sings performs in the Backstage Bar. \n\n        \n            Attachments\n        4th July 2023 A3 Poster (605 kB)
URL:https://killarneyadvertiser.ie/whats-on-killarney/tony-sings-2/
LOCATION:Gleneagle INEC Arena\, Muckross Road\, Killarney\, V93 V6WF\, Ireland
CATEGORIES:Live Music
ATTACH;FMTTYPE=image/jpeg:https://killarneyadvertiser.ie/wp-content/uploads/2022/10/The-Gleneagle-Killarney-Lake-Tours-SEM-1200-x-1200-Logo-1-5.jpg
ORGANIZER;CN="Gleneagle INEC Arena":MAILTO:info@inec.ie
END:VEVENT
BEGIN:VEVENT
DTSTART;TZID=Europe/Dublin:20221014T210000
DTEND;TZID=Europe/Dublin:20221014T230000
DTSTAMP:20260421T094736
CREATED:20220706T115528Z
LAST-MODIFIED:20221013T152855Z
UID:47952-1665781200-1665788400@killarneyadvertiser.ie
SUMMARY:Café Du Parc at Dark
DESCRIPTION:Come and sit with friends in the warm relaxed atmosphere of the Cafe du Parc bar. From 5pm daily enjoy uncomplicated yet moreish dishes from our bar bites menu. Share food with friends and enjoy seasonal cocktails in an intimate and funky setting. Our dj’s play a mix of old school jams and funky beats and the best of local talent plays live on a regular basis. We have a great selection of seasonal cocktails as well as craft beers\, gins and whiskeys. \n\n        \n            Attachments\n        4th July 2023 A3 Poster (605 kB)
URL:https://killarneyadvertiser.ie/whats-on-killarney/cafe-du-parc-at-dark-2022-10-14/
LOCATION:Café Du Parc\, Killarney Plaza Hotel & Spa\, Kenmare Place\, Killarney\, Co. Kerry\, V93X3VW\, Ireland
CATEGORIES:Food & Drink
ATTACH;FMTTYPE=image/jpeg:https://killarneyadvertiser.ie/wp-content/uploads/2022/07/IMG_5331.jpg
END:VEVENT
BEGIN:VEVENT
DTSTART;TZID=Europe/Dublin:20221014T220000
DTEND;TZID=Europe/Dublin:20221015T003000
DTSTAMP:20260421T094736
CREATED:20220729T084706Z
LAST-MODIFIED:20221011T092335Z
UID:48203-1665784800-1665793800@killarneyadvertiser.ie
SUMMARY:Rocking Jimmy & Tracey - Live Irish Folk Music
DESCRIPTION:Steeped in history and tradition\, we’re bringing back old pub ways to Killarney town for you to experience authentic traditional Irish pub life. Pull up a stool at the bar\, or relax into a cozy corner in one of our snugs. \nTradition is craft and design passed through the generations\, and we’re honoring that by serving you dishes as they were intended to be made and enjoyed. Underneath it all\, O’Donoghue Public House is a place to enjoy a creamy pint after an exhilarating day\, and we haven’t forgotten about the craft of draught. Guinness is what we’re good at\, and we hear it’s good for you too. \nEnjoy Live Irish Folk Music 7 nights a week with us! \n\n        \n            Attachments\n        4th July 2023 A3 Poster (605 kB)
URL:https://killarneyadvertiser.ie/whats-on-killarney/live-irish-folk-music-2022-10-14/
LOCATION:O’Donoghue Public House\, O'Donoghue Public House\, College St\, Killarney\, Co. Kerry\, V93 HP7A\, Ireland
CATEGORIES:Live Music
ATTACH;FMTTYPE=image/jpeg:https://killarneyadvertiser.ie/wp-content/uploads/2022/07/ODonoghue-Public-House-00001-1.jpg
END:VEVENT
END:VCALENDAR