BEGIN:VCALENDAR
VERSION:2.0
PRODID:-//Killarney Advertiser - ECPv6.8.2.1//NONSGML v1.0//EN
CALSCALE:GREGORIAN
METHOD:PUBLISH
X-WR-CALNAME:Killarney Advertiser
X-ORIGINAL-URL:https://killarneyadvertiser.ie
X-WR-CALDESC:Events for Killarney Advertiser
REFRESH-INTERVAL;VALUE=DURATION:PT1H
X-Robots-Tag:noindex
X-PUBLISHED-TTL:PT1H
BEGIN:VTIMEZONE
TZID:Europe/Dublin
BEGIN:STANDARD
TZOFFSETFROM:+0000
TZOFFSETTO:+0100
TZNAME:IST
DTSTART:20220327T010000
END:STANDARD
BEGIN:DAYLIGHT
TZOFFSETFROM:+0100
TZOFFSETTO:+0000
TZNAME:GMT
DTSTART:20221030T010000
END:DAYLIGHT
END:VTIMEZONE
BEGIN:VEVENT
DTSTART;TZID=Europe/Dublin:20221007T194500
DTEND;TZID=Europe/Dublin:20221008T003000
DTSTAMP:20260421T094737
CREATED:20220729T084706Z
LAST-MODIFIED:20221004T082043Z
UID:48200-1665171900-1665189000@killarneyadvertiser.ie
SUMMARY:Cathal Flaherty and Rocking Jimmy & Daraghn - Live Irish Folk Music
DESCRIPTION:Steeped in history and tradition\, we’re bringing back old pub ways to Killarney town for you to experience authentic traditional Irish pub life. Pull up a stool at the bar\, or relax into a cozy corner in one of our snugs. \nTradition is craft and design passed through the generations\, and we’re honoring that by serving you dishes as they were intended to be made and enjoyed. Underneath it all\, O’Donoghue Public House is a place to enjoy a creamy pint after an exhilarating day\, and we haven’t forgotten about the craft of draught. Guinness is what we’re good at\, and we hear it’s good for you too. \nEnjoy Live Irish Folk Music 7 nights a week with us! \n\n        \n            Attachments\n        4th July 2023 A3 Poster (605 kB)
URL:https://killarneyadvertiser.ie/whats-on-killarney/live-irish-folk-music-2022-10-07/
LOCATION:O’Donoghue Public House\, O'Donoghue Public House\, College St\, Killarney\, Co. Kerry\, V93 HP7A\, Ireland
CATEGORIES:Live Music
ATTACH;FMTTYPE=image/jpeg:https://killarneyadvertiser.ie/wp-content/uploads/2022/07/ODonoghue-Public-House-00001-1.jpg
END:VEVENT
BEGIN:VEVENT
DTSTART;TZID=Europe/Dublin:20221007T200000
DTEND;TZID=Europe/Dublin:20221007T230000
DTSTAMP:20260421T094737
CREATED:20221003T102132Z
LAST-MODIFIED:20221003T112752Z
UID:48985-1665172800-1665183600@killarneyadvertiser.ie
SUMMARY:Susan O'Neill
DESCRIPTION:Susan O’Neill performs in the INEC Club. Having just has just released a brand new EP ‘Now You See It’. The EP is a startlingly beautiful collection of songs that showcase Susan’s inimitable vocals\, intuitive musicianship\, and ever-expanding songwriting. \n\n        \n            Attachments\n        4th July 2023 A3 Poster (605 kB)
URL:https://killarneyadvertiser.ie/whats-on-killarney/susan-oneill/
LOCATION:Gleneagle INEC Arena\, Muckross Road\, Killarney\, V93 V6WF\, Ireland
CATEGORIES:Concert
ATTACH;FMTTYPE=image/jpeg:https://killarneyadvertiser.ie/wp-content/uploads/2022/10/Susan-ONeill-Web-Images-420-x-273-1.jpg
ORGANIZER;CN="Gleneagle INEC Arena":MAILTO:info@inec.ie
END:VEVENT
BEGIN:VEVENT
DTSTART;TZID=Europe/Dublin:20221007T210000
DTEND;TZID=Europe/Dublin:20221008T000000
DTSTAMP:20260421T094737
CREATED:20221005T112700Z
LAST-MODIFIED:20221005T112700Z
UID:49100-1665176400-1665187200@killarneyadvertiser.ie
SUMMARY:Live Music
DESCRIPTION:Live music in the Courtyard from 9pm with Alan Flynn and in the main bar from 10pm with Ivan Ryan \n\n        \n            Attachments\n        4th July 2023 A3 Poster (605 kB)
URL:https://killarneyadvertiser.ie/whats-on-killarney/live-music-67/
LOCATION:Scotts Bar and Courtyard\, Scotts Street\, Killarney\, V93 CF30\, Ireland
CATEGORIES:Live Music
ATTACH;FMTTYPE=image/jpeg:https://killarneyadvertiser.ie/wp-content/uploads/2022/10/190129_COMMERCIAL_ScottsHotel_11-scaled.jpg
ORGANIZER;CN="Scotts Bar and Courtyard":MAILTO:info@scottshotelkillarney.com
END:VEVENT
END:VCALENDAR