BEGIN:VCALENDAR
VERSION:2.0
PRODID:-//Killarney Advertiser - ECPv6.8.2.1//NONSGML v1.0//EN
CALSCALE:GREGORIAN
METHOD:PUBLISH
X-ORIGINAL-URL:https://killarneyadvertiser.ie
X-WR-CALDESC:Events for Killarney Advertiser
REFRESH-INTERVAL;VALUE=DURATION:PT1H
X-Robots-Tag:noindex
X-PUBLISHED-TTL:PT1H
BEGIN:VTIMEZONE
TZID:Europe/Dublin
BEGIN:STANDARD
TZOFFSETFROM:+0000
TZOFFSETTO:+0100
TZNAME:IST
DTSTART:20220327T010000
END:STANDARD
BEGIN:DAYLIGHT
TZOFFSETFROM:+0100
TZOFFSETTO:+0000
TZNAME:GMT
DTSTART:20221030T010000
END:DAYLIGHT
END:VTIMEZONE
BEGIN:VEVENT
DTSTART;TZID=Europe/Dublin:20220811T203000
DTEND;TZID=Europe/Dublin:20220811T230000
DTSTAMP:20260421T051446
CREATED:20220701T142727Z
LAST-MODIFIED:20220701T142727Z
UID:45987-1660249800-1660258800@killarneyadvertiser.ie
SUMMARY:Derek Ryan Dance
DESCRIPTION:Dancing tonight with Derek Ryan as part of Live at the Gleneagle Killarney.  Derek also performs on August 11th and 18th. \n\n        \n            Attachments\n        4th July 2023 A3 Poster (605 kB)
URL:https://killarneyadvertiser.ie/whats-on-killarney/derek-ryan-dance-2/
CATEGORIES:Live Music,Concert
ATTACH;FMTTYPE=image/jpeg:https://killarneyadvertiser.ie/wp-content/uploads/2022/07/Derek-Ryan-Live-at-The-Gleneagle-440-x-300-1.jpg
ORGANIZER;CN="Gleneagle INEC Arena":MAILTO:info@inec.ie
END:VEVENT
BEGIN:VEVENT
DTSTART;TZID=Europe/Dublin:20220811T233000
DTEND;TZID=Europe/Dublin:20220812T010000
DTSTAMP:20260421T051446
CREATED:20220809T102010Z
LAST-MODIFIED:20220809T102010Z
UID:46962-1660260600-1660266000@killarneyadvertiser.ie
SUMMARY:Late Night Piano Bar
DESCRIPTION:Late night piano bar with JOhn McGann in the Gleneagle Hotel \n\n        \n            Attachments\n        4th July 2023 A3 Poster (605 kB)
URL:https://killarneyadvertiser.ie/whats-on-killarney/late-night-piano-bar-10/
LOCATION:Gleneagle INEC Arena\, Muckross Road\, Killarney\, V93 V6WF\, Ireland
CATEGORIES:Live Music
ATTACH;FMTTYPE=image/jpeg:https://killarneyadvertiser.ie/wp-content/uploads/2022/08/The-Gleneagle-Killarney-Lake-Tours-SEM-1200-x-1200-Logo-1.jpg
ORGANIZER;CN="Gleneagle INEC Arena":MAILTO:info@inec.ie
END:VEVENT
END:VCALENDAR