BEGIN:VCALENDAR
VERSION:2.0
PRODID:-//Killarney Advertiser - ECPv6.8.2.1//NONSGML v1.0//EN
CALSCALE:GREGORIAN
METHOD:PUBLISH
X-ORIGINAL-URL:https://killarneyadvertiser.ie
X-WR-CALDESC:Events for Killarney Advertiser
REFRESH-INTERVAL;VALUE=DURATION:PT1H
X-Robots-Tag:noindex
X-PUBLISHED-TTL:PT1H
BEGIN:VTIMEZONE
TZID:Europe/Dublin
BEGIN:STANDARD
TZOFFSETFROM:+0000
TZOFFSETTO:+0100
TZNAME:IST
DTSTART:20220327T010000
END:STANDARD
BEGIN:DAYLIGHT
TZOFFSETFROM:+0100
TZOFFSETTO:+0000
TZNAME:GMT
DTSTART:20221030T010000
END:DAYLIGHT
END:VTIMEZONE
BEGIN:VEVENT
DTSTART;TZID=Europe/Dublin:20220803T090000
DTEND;TZID=Europe/Dublin:20220803T230000
DTSTAMP:20260421T051445
CREATED:20220803T092625Z
LAST-MODIFIED:20220803T092625Z
UID:46753-1659517200-1659567600@killarneyadvertiser.ie
SUMMARY:Live Music
DESCRIPTION:Live music in the Courtyard with Spaílpín  \n\n        \n            Attachments\n        4th July 2023 A3 Poster (605 kB)
URL:https://killarneyadvertiser.ie/whats-on-killarney/live-music-47/
LOCATION:Scotts Bar and Courtyard\, Scotts Street\, Killarney\, V93 CF30\, Ireland
CATEGORIES:Live Music
ORGANIZER;CN="Scotts Bar and Courtyard":MAILTO:info@scottshotelkillarney.com
END:VEVENT
END:VCALENDAR