BEGIN:VCALENDAR
VERSION:2.0
PRODID:-//Killarney Advertiser - ECPv6.8.2.1//NONSGML v1.0//EN
CALSCALE:GREGORIAN
METHOD:PUBLISH
X-ORIGINAL-URL:https://killarneyadvertiser.ie
X-WR-CALDESC:Events for Killarney Advertiser
REFRESH-INTERVAL;VALUE=DURATION:PT1H
X-Robots-Tag:noindex
X-PUBLISHED-TTL:PT1H
BEGIN:VTIMEZONE
TZID:Europe/Dublin
BEGIN:STANDARD
TZOFFSETFROM:+0000
TZOFFSETTO:+0100
TZNAME:IST
DTSTART:20220327T010000
END:STANDARD
BEGIN:DAYLIGHT
TZOFFSETFROM:+0100
TZOFFSETTO:+0000
TZNAME:GMT
DTSTART:20221030T010000
END:DAYLIGHT
END:VTIMEZONE
BEGIN:VEVENT
DTSTART;TZID=Europe/Dublin:20220722T233000
DTEND;TZID=Europe/Dublin:20220723T010000
DTSTAMP:20260421T033602
CREATED:20220719T143239Z
LAST-MODIFIED:20220719T143239Z
UID:46410-1658532600-1658538000@killarneyadvertiser.ie
SUMMARY:Late Night Piano Bar
DESCRIPTION:John McGann plays the Gleneagle Hotel Green Room \n\n        \n            Attachments\n        4th July 2023 A3 Poster (605 kB)
URL:https://killarneyadvertiser.ie/whats-on-killarney/late-night-piano-bar-5/2022-07-22/
LOCATION:Gleneagle INEC Arena\, Muckross Road\, Killarney\, V93 V6WF\, Ireland
CATEGORIES:Live Music,Concert
ATTACH;FMTTYPE=image/jpeg:https://killarneyadvertiser.ie/wp-content/uploads/2022/07/The-Gleneagle-Killarney-Lake-Tours-SEM-1200-x-1200-Logo-1-1.jpg
ORGANIZER;CN="Gleneagle INEC Arena":MAILTO:info@inec.ie
END:VEVENT
BEGIN:VEVENT
DTSTART;TZID=Europe/Dublin:20220723T203000
DTEND;TZID=Europe/Dublin:20220723T233000
DTSTAMP:20260421T033602
CREATED:20220719T142002Z
LAST-MODIFIED:20220719T142002Z
UID:46404-1658608200-1658619000@killarneyadvertiser.ie
SUMMARY:The Joe Dolan Show
DESCRIPTION:The Dolan Family return with their show\, Remembering Joe – The Original Joe Dolan Show\, to The Gleneagle Hotel\, Killarney as part of Live at the Gleneagle Killarney on July 23rd and August 6th Throughout his singing career\, Joe Dolan’s energetic and charismatic stage performances thrilled audiences around the world. Since his passing in 2007 Joe’s music lives on and is as popular as ever. Most recently Robbie Williams revealed that singing one of Joe’s songs in Dublin was one of the highlights of his career. ‘I did Good Looking Woman in the Aviva and the place went off. It was a proper moment I’ll never forget’\, he said. The Dolan Family will celebrate Joe’s musical legacy at The Gleneagle with their show\, ‘Remembering Joe’ – The Original Joe Dolan Show. The Gleneagle Hotel was always a popular venue to see The Joe Dolan Show. Joe’s brother Ben\, with whom he shared the stage for over 47years will be joined by Joe’s nephews Adrian and Ray\, Niece Sandra\, and Karen Carroll\, also featuring members of Joe’s original band. ’No Show Like A Joe Show’ was the catchphrase used to describe Joe’s live shows and how they used to put people in a happy mood. Relive the Shows with Joe at – ‘Remembering Joe’ The Original Joe Dolan Show – you will be singing along to all those famous Joe hits! \n\n        \n            Attachments\n        4th July 2023 A3 Poster (605 kB)
URL:https://killarneyadvertiser.ie/whats-on-killarney/the-joe-dolan-show/
LOCATION:Gleneagle INEC Arena\, Muckross Road\, Killarney\, V93 V6WF\, Ireland
CATEGORIES:Live Music,Concert
ATTACH;FMTTYPE=image/jpeg:https://killarneyadvertiser.ie/wp-content/uploads/2022/07/The-Joe-Dolan-Show-Live-at-The-Gleneagle-440-x-300.jpg
ORGANIZER;CN="Gleneagle INEC Arena":MAILTO:info@inec.ie
END:VEVENT
END:VCALENDAR