BEGIN:VCALENDAR
VERSION:2.0
PRODID:-//Killarney Advertiser - ECPv6.8.2.1//NONSGML v1.0//EN
CALSCALE:GREGORIAN
METHOD:PUBLISH
X-ORIGINAL-URL:https://killarneyadvertiser.ie
X-WR-CALDESC:Events for Killarney Advertiser
REFRESH-INTERVAL;VALUE=DURATION:PT1H
X-Robots-Tag:noindex
X-PUBLISHED-TTL:PT1H
BEGIN:VTIMEZONE
TZID:Europe/Dublin
BEGIN:STANDARD
TZOFFSETFROM:+0000
TZOFFSETTO:+0100
TZNAME:IST
DTSTART:20220327T010000
END:STANDARD
BEGIN:DAYLIGHT
TZOFFSETFROM:+0100
TZOFFSETTO:+0000
TZNAME:GMT
DTSTART:20221030T010000
END:DAYLIGHT
END:VTIMEZONE
BEGIN:VEVENT
DTSTART;TZID=Europe/Dublin:20220721T203000
DTEND;TZID=Europe/Dublin:20220721T233000
DTSTAMP:20260421T033436
CREATED:20220719T141318Z
LAST-MODIFIED:20220719T141318Z
UID:46400-1658435400-1658446200@killarneyadvertiser.ie
SUMMARY:All Folk'd Up
DESCRIPTION:All Folk’d Up offer fans an eclectic mix of classic sounds from Irish Folk and Rock music traditions\, while still sprinkling their own unique\, modern twist. Fans have become accustomed to hearing bouncing melodies\, enticing lyrical stories\, vintage Celtic-Rock sounds with jaw-dropping banjo progressions classic dance medleys  \n\n        \n            Attachments\n        4th July 2023 A3 Poster (605 kB)
URL:https://killarneyadvertiser.ie/whats-on-killarney/all-folkd-up/
LOCATION:Gleneagle INEC Arena\, Muckross Road\, Killarney\, V93 V6WF\, Ireland
CATEGORIES:Live Music,Concert
ATTACH;FMTTYPE=image/jpeg:https://killarneyadvertiser.ie/wp-content/uploads/2022/07/All-Folkd-Up-Web-Images-440-x-300.jpg
ORGANIZER;CN="Gleneagle INEC Arena":MAILTO:info@inec.ie
END:VEVENT
BEGIN:VEVENT
DTSTART;TZID=Europe/Dublin:20220721T233000
DTEND;TZID=Europe/Dublin:20220722T010000
DTSTAMP:20260421T033436
CREATED:20220719T143003Z
LAST-MODIFIED:20220719T143003Z
UID:46408-1658446200-1658451600@killarneyadvertiser.ie
SUMMARY:Late Night Piano Bar
DESCRIPTION:Late night Piano Bar with John McGann in the Gleneagle Hotel Green Room \n\n        \n            Attachments\n        4th July 2023 A3 Poster (605 kB)
URL:https://killarneyadvertiser.ie/whats-on-killarney/late-night-piano-bar-4/
LOCATION:Gleneagle INEC Arena\, Muckross Road\, Killarney\, V93 V6WF\, Ireland
CATEGORIES:Live Music,Concert
ATTACH;FMTTYPE=image/jpeg:https://killarneyadvertiser.ie/wp-content/uploads/2022/07/The-Gleneagle-Killarney-Lake-Tours-SEM-1200-x-1200-Logo-1.jpg
ORGANIZER;CN="Gleneagle INEC Arena":MAILTO:info@inec.ie
END:VEVENT
END:VCALENDAR