BEGIN:VCALENDAR
VERSION:2.0
PRODID:-//Killarney Advertiser - ECPv6.8.2.1//NONSGML v1.0//EN
CALSCALE:GREGORIAN
METHOD:PUBLISH
X-WR-CALNAME:Killarney Advertiser
X-ORIGINAL-URL:https://killarneyadvertiser.ie
X-WR-CALDESC:Events for Killarney Advertiser
REFRESH-INTERVAL;VALUE=DURATION:PT1H
X-Robots-Tag:noindex
X-PUBLISHED-TTL:PT1H
BEGIN:VTIMEZONE
TZID:Europe/Dublin
BEGIN:STANDARD
TZOFFSETFROM:+0000
TZOFFSETTO:+0100
TZNAME:IST
DTSTART:20220327T010000
END:STANDARD
BEGIN:DAYLIGHT
TZOFFSETFROM:+0100
TZOFFSETTO:+0000
TZNAME:GMT
DTSTART:20221030T010000
END:DAYLIGHT
END:VTIMEZONE
BEGIN:VEVENT
DTSTART;TZID=Europe/Dublin:20220716T210000
DTEND;TZID=Europe/Dublin:20220717T120000
DTSTAMP:20260421T033111
CREATED:20220713T145705Z
LAST-MODIFIED:20220713T145705Z
UID:46306-1658005200-1658059200@killarneyadvertiser.ie
SUMMARY:Live Music
DESCRIPTION:Live music from 9pm to 11pm in the Courtyard with Rouge and Trad Session in the main bar from 10pm \n\n        \n            Attachments\n        4th July 2023 A3 Poster (605 kB)
URL:https://killarneyadvertiser.ie/whats-on-killarney/live-music-43/
LOCATION:Scotts Bar and Courtyard\, Scotts Street\, Killarney\, V93 CF30\, Ireland
ORGANIZER;CN="Scotts Bar and Courtyard":MAILTO:info@scottshotelkillarney.com
END:VEVENT
BEGIN:VEVENT
DTSTART;TZID=Europe/Dublin:20220716T233000
DTEND;TZID=Europe/Dublin:20220717T233000
DTSTAMP:20260421T033111
CREATED:20220711T154334Z
LAST-MODIFIED:20220711T154334Z
UID:46299-1658014200-1658100600@killarneyadvertiser.ie
SUMMARY:Late Night Piano Bar
DESCRIPTION:Late Night Piano Bar with John McGann in the Gleneagle Green Room \n\n        \n            Attachments\n        4th July 2023 A3 Poster (605 kB)
URL:https://killarneyadvertiser.ie/whats-on-killarney/late-night-piano-bar-3/
LOCATION:Gleneagle INEC Arena\, Muckross Road\, Killarney\, V93 V6WF\, Ireland
CATEGORIES:Live Music,Concert
ATTACH;FMTTYPE=image/jpeg:https://killarneyadvertiser.ie/wp-content/uploads/2022/07/The-Gleneagle-Killarney-Lake-Tours-SEM-1200-x-1200-Logo.jpg
ORGANIZER;CN="Gleneagle INEC Arena":MAILTO:info@inec.ie
END:VEVENT
BEGIN:VEVENT
DTSTART;TZID=Europe/Dublin:20220717T200000
DTEND;TZID=Europe/Dublin:20220717T230000
DTSTAMP:20260421T033111
CREATED:20220713T150650Z
LAST-MODIFIED:20220713T150650Z
UID:46309-1658088000-1658098800@killarneyadvertiser.ie
SUMMARY:Live Music
DESCRIPTION:Live Music in the Courtyard from 8pm with Alan Flynn and from 9pm in the Main Bar with Ivan Ryan \n\n        \n            Attachments\n        4th July 2023 A3 Poster (605 kB)
URL:https://killarneyadvertiser.ie/whats-on-killarney/live-music-46/
LOCATION:Scotts Bar and Courtyard\, Scotts Street\, Killarney\, V93 CF30\, Ireland
ORGANIZER;CN="Scotts Bar and Courtyard":MAILTO:info@scottshotelkillarney.com
END:VEVENT
BEGIN:VEVENT
DTSTART;TZID=Europe/Dublin:20220717T203000
DTEND;TZID=Europe/Dublin:20220717T233000
DTSTAMP:20260421T033111
CREATED:20220711T154710Z
LAST-MODIFIED:20220711T154710Z
UID:46301-1658089800-1658100600@killarneyadvertiser.ie
SUMMARY:Dan McCabe
DESCRIPTION:Dan McCabe performs in the Gleneagle Ballroom as part of the Sunday Sessions at Live at the Gleneagle Killarney.   \nComing from a long lineage of folk musicians Dan started out his career in live music at an early age. Dan would go from strength to strength in this side of the industry and music soon became his full time job.  \nDue to the Covid 19 lockdown and lack of opportunity for live music performances\, Dan turned his focus to posting videos on social media platforms merely as a bit of fun and to escape the hardship and gloom of the pandemic. Little did he know that these recordings would be viewed over 12 million times online and would catch the attention of Senior producers at RTE \n\n        \n            Attachments\n        4th July 2023 A3 Poster (605 kB)
URL:https://killarneyadvertiser.ie/whats-on-killarney/dan-mccabe/
LOCATION:Gleneagle INEC Arena\, Muckross Road\, Killarney\, V93 V6WF\, Ireland
CATEGORIES:Live Music,Concert
ATTACH;FMTTYPE=image/jpeg:https://killarneyadvertiser.ie/wp-content/uploads/2022/07/Dan-McCabe-Web-Images-440-x-300.jpg
ORGANIZER;CN="Gleneagle INEC Arena":MAILTO:info@inec.ie
END:VEVENT
END:VCALENDAR