BEGIN:VCALENDAR
VERSION:2.0
PRODID:-//Killarney Advertiser - ECPv6.8.2.1//NONSGML v1.0//EN
CALSCALE:GREGORIAN
METHOD:PUBLISH
X-ORIGINAL-URL:https://killarneyadvertiser.ie
X-WR-CALDESC:Events for Killarney Advertiser
REFRESH-INTERVAL;VALUE=DURATION:PT1H
X-Robots-Tag:noindex
X-PUBLISHED-TTL:PT1H
BEGIN:VTIMEZONE
TZID:Europe/Dublin
BEGIN:STANDARD
TZOFFSETFROM:+0000
TZOFFSETTO:+0100
TZNAME:IST
DTSTART:20220327T010000
END:STANDARD
BEGIN:DAYLIGHT
TZOFFSETFROM:+0100
TZOFFSETTO:+0000
TZNAME:GMT
DTSTART:20221030T010000
END:DAYLIGHT
END:VTIMEZONE
BEGIN:VEVENT
DTSTART;TZID=Europe/Dublin:20220708T210000
DTEND;TZID=Europe/Dublin:20220709T003000
DTSTAMP:20260421T033453
CREATED:20220706T115528Z
LAST-MODIFIED:20220901T111303Z
UID:46069-1657314000-1657326600@killarneyadvertiser.ie
SUMMARY:Café Du Parc at Dark
DESCRIPTION:Come and sit with friends in the warm relaxed atmosphere of the Cafe du Parc bar. From 5pm daily enjoy uncomplicated yet moreish dishes from our bar bites menu. Share food with friends and enjoy seasonal cocktails in an intimate and funky setting. Our dj’s play a mix of old school jams and funky beats and the best of local talent plays live on a regular basis. We have a great selection of seasonal cocktails as well as craft beers\, gins and whiskeys. \n\n        \n            Attachments\n        4th July 2023 A3 Poster (605 kB)
URL:https://killarneyadvertiser.ie/whats-on-killarney/cafe-du-parc-at-dark/2022-07-08/
LOCATION:Café Du Parc\, Killarney Plaza Hotel & Spa\, Kenmare Place\, Killarney\, Co. Kerry\, V93X3VW\, Ireland
CATEGORIES:Food & Drink
ATTACH;FMTTYPE=image/jpeg:https://killarneyadvertiser.ie/wp-content/uploads/2022/07/IMG_5331.jpg
END:VEVENT
BEGIN:VEVENT
DTSTART;TZID=Europe/Dublin:20220709T203000
DTEND;TZID=Europe/Dublin:20220709T233000
DTSTAMP:20260421T033453
CREATED:20220706T125427Z
LAST-MODIFIED:20220706T131525Z
UID:46104-1657398600-1657409400@killarneyadvertiser.ie
SUMMARY:The Legend of Luke Kelly
DESCRIPTION:The Legend of Luke Kelly is an authentic show celebrating the life and songs of Ireland’s most iconic and greatest folk singer. Created and performed by the renowned Chris Kavanagh the show is not a tribute but a journey through Luke’s music that has received rave reviews in Ireland. Don’t miss this show July 8th as part of live at the Gleneagle Killarney. \n\n        \n            Attachments\n        4th July 2023 A3 Poster (605 kB)
URL:https://killarneyadvertiser.ie/whats-on-killarney/the-legend-of-luke-kelly/
LOCATION:Gleneagle INEC Arena\, Muckross Road\, Killarney\, V93 V6WF\, Ireland
CATEGORIES:Live Music,Concert
ATTACH;FMTTYPE=image/jpeg:https://killarneyadvertiser.ie/wp-content/uploads/2022/07/Legend-of-Luke-Kelly-Live-At-The-Gleneagle-440-x-300.jpg
ORGANIZER;CN="Gleneagle INEC Arena":MAILTO:info@inec.ie
END:VEVENT
BEGIN:VEVENT
DTSTART;TZID=Europe/Dublin:20220709T210000
DTEND;TZID=Europe/Dublin:20220709T230000
DTSTAMP:20260421T033453
CREATED:20220706T120347Z
LAST-MODIFIED:20220901T111955Z
UID:46081-1657400400-1657407600@killarneyadvertiser.ie
SUMMARY:Local Pianist
DESCRIPTION:Plaza’s Piano Bar brings class and warmth to any party or event. With beautiful interiors\, and views of Killarney National Park\, enjoy melodies from our Resident Piano Bar player as you enjoy our carefully selected drink options. The Piano Bar can accommodate events for up to 100 guests. \n\n        \n            Attachments\n        4th July 2023 A3 Poster (605 kB)
URL:https://killarneyadvertiser.ie/whats-on-killarney/local-pianist/2022-07-09/
CATEGORIES:Live Music
ATTACH;FMTTYPE=image/jpeg:https://killarneyadvertiser.ie/wp-content/uploads/2022/07/download-3.jpg
END:VEVENT
END:VCALENDAR