BEGIN:VCALENDAR
VERSION:2.0
PRODID:-//Killarney Advertiser - ECPv6.8.2.1//NONSGML v1.0//EN
CALSCALE:GREGORIAN
METHOD:PUBLISH
X-ORIGINAL-URL:https://killarneyadvertiser.ie
X-WR-CALDESC:Events for Killarney Advertiser
REFRESH-INTERVAL;VALUE=DURATION:PT1H
X-Robots-Tag:noindex
X-PUBLISHED-TTL:PT1H
BEGIN:VTIMEZONE
TZID:Europe/Dublin
BEGIN:STANDARD
TZOFFSETFROM:+0000
TZOFFSETTO:+0100
TZNAME:IST
DTSTART:20220327T010000
END:STANDARD
BEGIN:DAYLIGHT
TZOFFSETFROM:+0100
TZOFFSETTO:+0000
TZNAME:GMT
DTSTART:20221030T010000
END:DAYLIGHT
END:VTIMEZONE
BEGIN:VEVENT
DTSTART;TZID=Europe/Dublin:20220513T223000
DTEND;TZID=Europe/Dublin:20220514T003000
DTSTAMP:20260421T065123
CREATED:20220510T094842Z
LAST-MODIFIED:20220510T094842Z
UID:44813-1652481000-1652488200@killarneyadvertiser.ie
SUMMARY:Johnny Brady Dance
DESCRIPTION:Dance with Johnny Brady in the Gleneagle Ballroom \n\n        \n            Attachments\n        4th July 2023 A3 Poster (605 kB)
URL:https://killarneyadvertiser.ie/whats-on-killarney/johnny-brady-dance/
LOCATION:Gleneagle INEC Arena\, Muckross Road\, Killarney\, V93 V6WF\, Ireland
CATEGORIES:Live Music
ATTACH;FMTTYPE=image/png:https://killarneyadvertiser.ie/wp-content/uploads/2022/03/inec_arena_logo_web.png
ORGANIZER;CN="Gleneagle INEC Arena":MAILTO:info@inec.ie
END:VEVENT
BEGIN:VEVENT
DTSTART;TZID=Europe/Dublin:20220513T235500
DTEND;TZID=Europe/Dublin:20220514T020000
DTSTAMP:20260421T065123
CREATED:20220510T094956Z
LAST-MODIFIED:20220510T094956Z
UID:44814-1652486100-1652493600@killarneyadvertiser.ie
SUMMARY:Carmel McLoughlin
DESCRIPTION:Carmel McLoughlin plays in the Green Room \n\n        \n            Attachments\n        4th July 2023 A3 Poster (605 kB)
URL:https://killarneyadvertiser.ie/whats-on-killarney/carmel-mcloughlin/
LOCATION:Gleneagle INEC Arena\, Muckross Road\, Killarney\, V93 V6WF\, Ireland
CATEGORIES:Live Music
ATTACH;FMTTYPE=image/png:https://killarneyadvertiser.ie/wp-content/uploads/2022/03/inec_arena_logo_web.png
ORGANIZER;CN="Gleneagle INEC Arena":MAILTO:info@inec.ie
END:VEVENT
BEGIN:VEVENT
DTSTART;TZID=Europe/Dublin:20220514T210000
DTEND;TZID=Europe/Dublin:20220514T230000
DTSTAMP:20260421T065123
CREATED:20220510T095912Z
LAST-MODIFIED:20220510T095912Z
UID:44817-1652562000-1652569200@killarneyadvertiser.ie
SUMMARY:Piano Bar with John McGann
DESCRIPTION:Piano Bar with John McGann in the Backstage bar \n\n        \n            Attachments\n        4th July 2023 A3 Poster (605 kB)
URL:https://killarneyadvertiser.ie/whats-on-killarney/piano-bar-with-john-mcgann-9/
LOCATION:Gleneagle INEC Arena\, Muckross Road\, Killarney\, V93 V6WF\, Ireland
CATEGORIES:Live Music
ATTACH;FMTTYPE=image/png:https://killarneyadvertiser.ie/wp-content/uploads/2022/03/inec_arena_logo_web.png
ORGANIZER;CN="Gleneagle INEC Arena":MAILTO:info@inec.ie
END:VEVENT
BEGIN:VEVENT
DTSTART;TZID=Europe/Dublin:20220514T210000
DTEND;TZID=Europe/Dublin:20220514T233000
DTSTAMP:20260421T065123
CREATED:20220510T095412Z
LAST-MODIFIED:20220510T095412Z
UID:44815-1652562000-1652571000@killarneyadvertiser.ie
SUMMARY:Nathan Carter Concert
DESCRIPTION:Cabaret style concert with Nathan Carter and Special Guests Cliona Hagan & Philomena Begley \n\n        \n            Attachments\n        4th July 2023 A3 Poster (605 kB)
URL:https://killarneyadvertiser.ie/whats-on-killarney/nathan-carter-concert-2/
LOCATION:Gleneagle INEC Arena\, Muckross Road\, Killarney\, V93 V6WF\, Ireland
CATEGORIES:Concert
ATTACH;FMTTYPE=image/png:https://killarneyadvertiser.ie/wp-content/uploads/2022/03/inec_arena_logo_web.png
ORGANIZER;CN="Gleneagle INEC Arena":MAILTO:info@inec.ie
END:VEVENT
BEGIN:VEVENT
DTSTART;TZID=Europe/Dublin:20220514T233000
DTEND;TZID=Europe/Dublin:20220515T020000
DTSTAMP:20260421T065123
CREATED:20220510T095702Z
LAST-MODIFIED:20220510T095702Z
UID:44816-1652571000-1652580000@killarneyadvertiser.ie
SUMMARY:Dancing with Joe and Declan McShane
DESCRIPTION:Dancing in the Gleneagle Ballroom with Joe and Declan McShane \n\n        \n            Attachments\n        4th July 2023 A3 Poster (605 kB)
URL:https://killarneyadvertiser.ie/whats-on-killarney/dancing-with-joe-and-declan-mcshane/
LOCATION:Gleneagle INEC Arena\, Muckross Road\, Killarney\, V93 V6WF\, Ireland
CATEGORIES:Live Music
ATTACH;FMTTYPE=image/png:https://killarneyadvertiser.ie/wp-content/uploads/2022/03/inec_arena_logo_web.png
ORGANIZER;CN="Gleneagle INEC Arena":MAILTO:info@inec.ie
END:VEVENT
END:VCALENDAR