BEGIN:VCALENDAR
VERSION:2.0
PRODID:-//Killarney Advertiser - ECPv6.8.2.1//NONSGML v1.0//EN
CALSCALE:GREGORIAN
METHOD:PUBLISH
X-ORIGINAL-URL:https://killarneyadvertiser.ie
X-WR-CALDESC:Events for Killarney Advertiser
REFRESH-INTERVAL;VALUE=DURATION:PT1H
X-Robots-Tag:noindex
X-PUBLISHED-TTL:PT1H
BEGIN:VTIMEZONE
TZID:Europe/Dublin
BEGIN:STANDARD
TZOFFSETFROM:+0000
TZOFFSETTO:+0100
TZNAME:IST
DTSTART:20220327T010000
END:STANDARD
BEGIN:DAYLIGHT
TZOFFSETFROM:+0100
TZOFFSETTO:+0000
TZNAME:GMT
DTSTART:20221030T010000
END:DAYLIGHT
END:VTIMEZONE
BEGIN:VEVENT
DTSTART;TZID=Europe/Dublin:20220325T210000
DTEND;TZID=Europe/Dublin:20220326T010000
DTSTAMP:20260421T095128
CREATED:20220322T150750Z
LAST-MODIFIED:20220322T150750Z
UID:43559-1648242000-1648256400@killarneyadvertiser.ie
SUMMARY:No Strings Attached
DESCRIPTION:Attachments\n        4th July 2023 A3 Poster (605 kB)
URL:https://killarneyadvertiser.ie/whats-on-killarney/no-strings-attached/
LOCATION:J.M. Reidys\, 4 Main Street\, Killarney\, V93 CC82\, Ireland
CATEGORIES:Live Music
ATTACH;FMTTYPE=image/jpeg:https://killarneyadvertiser.ie/wp-content/uploads/2022/03/JM-Reidy-1.jpeg
ORGANIZER;CN="J.M. Reidys":MAILTO:info@reidyskillarney.com
END:VEVENT
BEGIN:VEVENT
DTSTART;TZID=Europe/Dublin:20220325T210000
DTEND;TZID=Europe/Dublin:20220326T010000
DTSTAMP:20260421T095128
CREATED:20220322T151831Z
LAST-MODIFIED:20220322T151831Z
UID:43563-1648242000-1648256400@killarneyadvertiser.ie
SUMMARY:Aidan Moynihan
DESCRIPTION:Attachments\n        4th July 2023 A3 Poster (605 kB)
URL:https://killarneyadvertiser.ie/whats-on-killarney/aidan-moynihan-2/
LOCATION:J.M. Reidys\, 4 Main Street\, Killarney\, V93 CC82\, Ireland
CATEGORIES:Live Music
ATTACH;FMTTYPE=image/jpeg:https://killarneyadvertiser.ie/wp-content/uploads/2022/03/JM-Reidy-1.jpeg
ORGANIZER;CN="J.M. Reidys":MAILTO:info@reidyskillarney.com
END:VEVENT
BEGIN:VEVENT
DTSTART;TZID=Europe/Dublin:20220326T180000
DTEND;TZID=Europe/Dublin:20220326T203000
DTSTAMP:20260421T095128
CREATED:20220322T152250Z
LAST-MODIFIED:20220322T152250Z
UID:43566-1648317600-1648326600@killarneyadvertiser.ie
SUMMARY:Liam O'Connor
DESCRIPTION:Attachments\n        4th July 2023 A3 Poster (605 kB)
URL:https://killarneyadvertiser.ie/whats-on-killarney/liam-oconnor-3/
LOCATION:J.M. Reidys\, 4 Main Street\, Killarney\, V93 CC82\, Ireland
CATEGORIES:Live Music
ATTACH;FMTTYPE=image/jpeg:https://killarneyadvertiser.ie/wp-content/uploads/2022/03/JM-Reidy-1.jpeg
ORGANIZER;CN="J.M. Reidys":MAILTO:info@reidyskillarney.com
END:VEVENT
BEGIN:VEVENT
DTSTART;TZID=Europe/Dublin:20220326T200000
DTEND;TZID=Europe/Dublin:20220326T223000
DTSTAMP:20260421T095128
CREATED:20220322T150256Z
LAST-MODIFIED:20220322T150256Z
UID:43558-1648324800-1648333800@killarneyadvertiser.ie
SUMMARY:Mike Denver with Philomena Begley\, Brendan Shine and Ray Lynam
DESCRIPTION:Fully seated concert in the Gleneagle INEC Arena with Mike Denver\, Philomena Begley\, Brendan Shine and Ray Lynam. \n\n        \n            Attachments\n        4th July 2023 A3 Poster (605 kB)
URL:https://killarneyadvertiser.ie/whats-on-killarney/mike-denver-with-philomena-begley-brendan-shine-and-ray-lynam/
LOCATION:Gleneagle INEC Arena\, Muckross Road\, Killarney\, V93 V6WF\, Ireland
CATEGORIES:Concert
ATTACH;FMTTYPE=image/jpeg:https://killarneyadvertiser.ie/wp-content/uploads/2022/03/INEC-Ticketmaster-Logo-720x405-1-e1647251187524.jpeg
ORGANIZER;CN="Gleneagle INEC Arena":MAILTO:info@inec.ie
END:VEVENT
BEGIN:VEVENT
DTSTART;TZID=Europe/Dublin:20220326T203000
DTEND;TZID=Europe/Dublin:20220326T223000
DTSTAMP:20260421T095128
CREATED:20220322T151213Z
LAST-MODIFIED:20220322T151213Z
UID:43560-1648326600-1648333800@killarneyadvertiser.ie
SUMMARY:Greywind
DESCRIPTION:Greywind perform their hometown Debut in the Gleneagle INEC Club. \n\n        \n            Attachments\n        4th July 2023 A3 Poster (605 kB)
URL:https://killarneyadvertiser.ie/whats-on-killarney/greywind/
LOCATION:Gleneagle INEC Arena\, Muckross Road\, Killarney\, V93 V6WF\, Ireland
CATEGORIES:Live Music
ATTACH;FMTTYPE=image/jpeg:https://killarneyadvertiser.ie/wp-content/uploads/2022/03/INEC-Ticketmaster-Logo-720x405-1-e1647251187524.jpeg
ORGANIZER;CN="Gleneagle INEC Arena":MAILTO:info@inec.ie
END:VEVENT
BEGIN:VEVENT
DTSTART;TZID=Europe/Dublin:20220326T210000
DTEND;TZID=Europe/Dublin:20220326T230000
DTSTAMP:20260421T095128
CREATED:20220324T152419Z
LAST-MODIFIED:20220324T152541Z
UID:43623-1648328400-1648335600@killarneyadvertiser.ie
SUMMARY:Zed Dead
DESCRIPTION:Courtyard \n\n        \n            Attachments\n        4th July 2023 A3 Poster (605 kB)
URL:https://killarneyadvertiser.ie/whats-on-killarney/zed-dead/
LOCATION:Scotts Bar and Courtyard\, Scotts Street\, Killarney\, V93 CF30\, Ireland
CATEGORIES:Live Music
ATTACH;FMTTYPE=image/jpeg:https://killarneyadvertiser.ie/wp-content/uploads/2022/03/190510_COMMERCIAL_ScottsLowRes_47.jpg
ORGANIZER;CN="Scotts Bar and Courtyard":MAILTO:info@scottshotelkillarney.com
END:VEVENT
BEGIN:VEVENT
DTSTART;TZID=Europe/Dublin:20220326T210000
DTEND;TZID=Europe/Dublin:20220327T010000
DTSTAMP:20260421T095128
CREATED:20220322T152008Z
LAST-MODIFIED:20220322T152008Z
UID:43564-1648328400-1648342800@killarneyadvertiser.ie
SUMMARY:Seamus Harty
DESCRIPTION:Attachments\n        4th July 2023 A3 Poster (605 kB)
URL:https://killarneyadvertiser.ie/whats-on-killarney/seamus-harty/
LOCATION:J.M. Reidys\, 4 Main Street\, Killarney\, V93 CC82\, Ireland
CATEGORIES:Live Music
ATTACH;FMTTYPE=image/jpeg:https://killarneyadvertiser.ie/wp-content/uploads/2022/03/JM-Reidy-1.jpeg
ORGANIZER;CN="J.M. Reidys":MAILTO:info@reidyskillarney.com
END:VEVENT
BEGIN:VEVENT
DTSTART;TZID=Europe/Dublin:20220326T210000
DTEND;TZID=Europe/Dublin:20220327T010000
DTSTAMP:20260421T095128
CREATED:20220322T152143Z
LAST-MODIFIED:20220322T152143Z
UID:43565-1648328400-1648342800@killarneyadvertiser.ie
SUMMARY:No Strings Attached
DESCRIPTION:Attachments\n        4th July 2023 A3 Poster (605 kB)
URL:https://killarneyadvertiser.ie/whats-on-killarney/no-strings-attached-2/
LOCATION:J.M. Reidys\, 4 Main Street\, Killarney\, V93 CC82\, Ireland
CATEGORIES:Live Music
ATTACH;FMTTYPE=image/jpeg:https://killarneyadvertiser.ie/wp-content/uploads/2022/03/JM-Reidy-1.jpeg
ORGANIZER;CN="J.M. Reidys":MAILTO:info@reidyskillarney.com
END:VEVENT
BEGIN:VEVENT
DTSTART;TZID=Europe/Dublin:20220326T220000
DTEND;TZID=Europe/Dublin:20220327T000000
DTSTAMP:20260421T095128
CREATED:20220322T151348Z
LAST-MODIFIED:20220322T151348Z
UID:43561-1648332000-1648339200@killarneyadvertiser.ie
SUMMARY:Late night Piano bar with John McGann
DESCRIPTION:Late night Piano bar with John McGann. \n\n        \n            Attachments\n        4th July 2023 A3 Poster (605 kB)
URL:https://killarneyadvertiser.ie/whats-on-killarney/late-night-piano-bar-with-john-mcgann/
LOCATION:Gleneagle INEC Arena\, Muckross Road\, Killarney\, V93 V6WF\, Ireland
CATEGORIES:Live Music
ATTACH;FMTTYPE=image/jpeg:https://killarneyadvertiser.ie/wp-content/uploads/2022/03/INEC-Ticketmaster-Logo-720x405-1-e1647251187524.jpeg
ORGANIZER;CN="Gleneagle INEC Arena":MAILTO:info@inec.ie
END:VEVENT
BEGIN:VEVENT
DTSTART;TZID=Europe/Dublin:20220326T220000
DTEND;TZID=Europe/Dublin:20220327T000000
DTSTAMP:20260421T095128
CREATED:20220324T152209Z
LAST-MODIFIED:20220324T152209Z
UID:43622-1648332000-1648339200@killarneyadvertiser.ie
SUMMARY:Sharon Langston Trad Band
DESCRIPTION:Main Bar \n\n        \n            Attachments\n        4th July 2023 A3 Poster (605 kB)
URL:https://killarneyadvertiser.ie/whats-on-killarney/sharon-langston-trad-band/
LOCATION:Scotts Bar and Courtyard\, Scotts Street\, Killarney\, V93 CF30\, Ireland
CATEGORIES:Live Music
ATTACH;FMTTYPE=image/jpeg:https://killarneyadvertiser.ie/wp-content/uploads/2022/03/190510_COMMERCIAL_ScottsLowRes_47.jpg
ORGANIZER;CN="Scotts Bar and Courtyard":MAILTO:info@scottshotelkillarney.com
END:VEVENT
BEGIN:VEVENT
DTSTART;TZID=Europe/Dublin:20220326T230000
DTEND;TZID=Europe/Dublin:20220327T010000
DTSTAMP:20260421T095128
CREATED:20220322T151453Z
LAST-MODIFIED:20220322T151453Z
UID:43562-1648335600-1648342800@killarneyadvertiser.ie
SUMMARY:Sabrina Fallon
DESCRIPTION:Late night entertainment with Sabrina Fallon in the Ballroom. \n\n        \n            Attachments\n        4th July 2023 A3 Poster (605 kB)
URL:https://killarneyadvertiser.ie/whats-on-killarney/sabrina-fallon/
LOCATION:Gleneagle INEC Arena\, Muckross Road\, Killarney\, V93 V6WF\, Ireland
CATEGORIES:Live Music
ATTACH;FMTTYPE=image/jpeg:https://killarneyadvertiser.ie/wp-content/uploads/2022/03/INEC-Ticketmaster-Logo-720x405-1-e1647251187524.jpeg
ORGANIZER;CN="Gleneagle INEC Arena":MAILTO:info@inec.ie
END:VEVENT
END:VCALENDAR