BEGIN:VCALENDAR
VERSION:2.0
PRODID:-//Killarney Advertiser - ECPv6.8.2.1//NONSGML v1.0//EN
CALSCALE:GREGORIAN
METHOD:PUBLISH
X-WR-CALNAME:Killarney Advertiser
X-ORIGINAL-URL:https://killarneyadvertiser.ie
X-WR-CALDESC:Events for Killarney Advertiser
REFRESH-INTERVAL;VALUE=DURATION:PT1H
X-Robots-Tag:noindex
X-PUBLISHED-TTL:PT1H
BEGIN:VTIMEZONE
TZID:Europe/Dublin
BEGIN:STANDARD
TZOFFSETFROM:+0000
TZOFFSETTO:+0100
TZNAME:IST
DTSTART:20220327T010000
END:STANDARD
BEGIN:DAYLIGHT
TZOFFSETFROM:+0100
TZOFFSETTO:+0000
TZNAME:GMT
DTSTART:20221030T010000
END:DAYLIGHT
END:VTIMEZONE
BEGIN:VEVENT
DTSTART;TZID=Europe/Dublin:20220317T180000
DTEND;TZID=Europe/Dublin:20220318T020000
DTSTAMP:20260421T094808
CREATED:20220315T094102Z
LAST-MODIFIED:20220315T094102Z
UID:43406-1647540000-1647568800@killarneyadvertiser.ie
SUMMARY:DJ Derek Hegarty
DESCRIPTION:Main Bar \n\n        \n            Attachments\n        4th July 2023 A3 Poster (605 kB)
URL:https://killarneyadvertiser.ie/whats-on-killarney/dj-derek-hegarty/
LOCATION:Social15\, 15 Main Street\, Killarney\, V93 P46Y\, Ireland
CATEGORIES:Live Music
ATTACH;FMTTYPE=image/png:https://killarneyadvertiser.ie/wp-content/uploads/2022/03/Screen-Shot-2022-03-15-at-09.34.31-1.png
ORGANIZER;CN="Social15":MAILTO:info@social15.ie
END:VEVENT
BEGIN:VEVENT
DTSTART;TZID=Europe/Dublin:20220317T180000
DTEND;TZID=Europe/Dublin:20220318T020000
DTSTAMP:20260421T094808
CREATED:20220315T094242Z
LAST-MODIFIED:20220315T094242Z
UID:43407-1647540000-1647568800@killarneyadvertiser.ie
SUMMARY:DJ Ray Stack
DESCRIPTION:Night Club \n\n        \n            Attachments\n        4th July 2023 A3 Poster (605 kB)
URL:https://killarneyadvertiser.ie/whats-on-killarney/dj-ray-stack/
LOCATION:Social15\, 15 Main Street\, Killarney\, V93 P46Y\, Ireland
CATEGORIES:Live Music
ATTACH;FMTTYPE=image/png:https://killarneyadvertiser.ie/wp-content/uploads/2022/03/Screen-Shot-2022-03-15-at-09.34.31-1.png
ORGANIZER;CN="Social15":MAILTO:info@social15.ie
END:VEVENT
BEGIN:VEVENT
DTSTART;TZID=Europe/Dublin:20220317T200000
DTEND;TZID=Europe/Dublin:20220318T020000
DTSTAMP:20260421T094808
CREATED:20220314T085458Z
LAST-MODIFIED:20220314T102221Z
UID:43340-1647547200-1647568800@killarneyadvertiser.ie
SUMMARY:Billy Morrissey St Patrick's Night Dance
DESCRIPTION:Gerry Gutherie and his band with early dancing to Donie O. \n\n        \n            Attachments\n        4th July 2023 A3 Poster (605 kB)
URL:https://killarneyadvertiser.ie/whats-on-killarney/billy-morrissey-st-patricks-night-dance/
LOCATION:Gleneagle INEC Arena\, Muckross Road\, Killarney\, V93 V6WF\, Ireland
CATEGORIES:Live Music
ATTACH;FMTTYPE=image/jpeg:https://killarneyadvertiser.ie/wp-content/uploads/2022/03/INEC-Ticketmaster-Logo-720x405-1-e1647251187524.jpeg
ORGANIZER;CN="Gleneagle INEC Arena":MAILTO:info@inec.ie
END:VEVENT
BEGIN:VEVENT
DTSTART;VALUE=DATE:20220318
DTEND;VALUE=DATE:20220319
DTSTAMP:20260421T094808
CREATED:20220315T095936Z
LAST-MODIFIED:20220315T095936Z
UID:43416-1647561600-1647647999@killarneyadvertiser.ie
SUMMARY:Rachel O'Shaughnessy
DESCRIPTION:Attachments\n        4th July 2023 A3 Poster (605 kB)
URL:https://killarneyadvertiser.ie/whats-on-killarney/rachel-oshaughnessy/
LOCATION:J.M. Reidys\, 4 Main Street\, Killarney\, V93 CC82\, Ireland
CATEGORIES:Live Music
ATTACH;FMTTYPE=image/png:https://killarneyadvertiser.ie/wp-content/uploads/2022/03/Screen-Shot-2022-03-15-at-09.51.47.png
ORGANIZER;CN="J.M. Reidys":MAILTO:info@reidyskillarney.com
END:VEVENT
BEGIN:VEVENT
DTSTART;VALUE=DATE:20220318
DTEND;VALUE=DATE:20220319
DTSTAMP:20260421T094808
CREATED:20220315T100041Z
LAST-MODIFIED:20220315T100041Z
UID:43417-1647561600-1647647999@killarneyadvertiser.ie
SUMMARY:Darren Griffen
DESCRIPTION:Attachments\n        4th July 2023 A3 Poster (605 kB)
URL:https://killarneyadvertiser.ie/whats-on-killarney/darren-griffen-2/
LOCATION:J.M. Reidys\, 4 Main Street\, Killarney\, V93 CC82\, Ireland
CATEGORIES:Live Music
ATTACH;FMTTYPE=image/png:https://killarneyadvertiser.ie/wp-content/uploads/2022/03/Screen-Shot-2022-03-15-at-09.51.47.png
ORGANIZER;CN="J.M. Reidys":MAILTO:info@reidyskillarney.com
END:VEVENT
BEGIN:VEVENT
DTSTART;VALUE=DATE:20220318
DTEND;VALUE=DATE:20220319
DTSTAMP:20260421T094808
CREATED:20220315T100126Z
LAST-MODIFIED:20220315T100126Z
UID:43418-1647561600-1647647999@killarneyadvertiser.ie
SUMMARY:Pat Hayes
DESCRIPTION:Attachments\n        4th July 2023 A3 Poster (605 kB)
URL:https://killarneyadvertiser.ie/whats-on-killarney/pat-hayes-2/
LOCATION:J.M. Reidys\, 4 Main Street\, Killarney\, V93 CC82\, Ireland
CATEGORIES:Live Music
ATTACH;FMTTYPE=image/png:https://killarneyadvertiser.ie/wp-content/uploads/2022/03/Screen-Shot-2022-03-15-at-09.51.47.png
ORGANIZER;CN="J.M. Reidys":MAILTO:info@reidyskillarney.com
END:VEVENT
BEGIN:VEVENT
DTSTART;TZID=Europe/Dublin:20220318T080000
DTEND;TZID=Europe/Dublin:20220319T170000
DTSTAMP:20260421T094808
CREATED:20220315T094405Z
LAST-MODIFIED:20220315T094405Z
UID:43408-1647590400-1647709200@killarneyadvertiser.ie
SUMMARY:DJ Derek Hegarty
DESCRIPTION:Attachments\n        4th July 2023 A3 Poster (605 kB)
URL:https://killarneyadvertiser.ie/whats-on-killarney/dj-derek-hegarty-2/
LOCATION:Social15\, 15 Main Street\, Killarney\, V93 P46Y\, Ireland
CATEGORIES:Live Music
ATTACH;FMTTYPE=image/png:https://killarneyadvertiser.ie/wp-content/uploads/2022/03/Screen-Shot-2022-03-15-at-09.34.31-1.png
ORGANIZER;CN="Social15":MAILTO:info@social15.ie
END:VEVENT
BEGIN:VEVENT
DTSTART;TZID=Europe/Dublin:20220318T200000
DTEND;TZID=Europe/Dublin:20220319T020000
DTSTAMP:20260421T094808
CREATED:20220314T085928Z
LAST-MODIFIED:20220314T102511Z
UID:43342-1647633600-1647655200@killarneyadvertiser.ie
SUMMARY:Billy Morrissey Country Music Dancing Weekend
DESCRIPTION:Trudi Lalor\, John Hogan\, Paddy O’Brien\, David James with early dancing to Donie O. \n\n        \n            Attachments\n        4th July 2023 A3 Poster (605 kB)
URL:https://killarneyadvertiser.ie/whats-on-killarney/billy-morrissey-country-music-dancing-weekend/
LOCATION:Gleneagle INEC Arena\, Muckross Road\, Killarney\, V93 V6WF\, Ireland
CATEGORIES:Live Music
ATTACH;FMTTYPE=image/jpeg:https://killarneyadvertiser.ie/wp-content/uploads/2022/03/INEC-Ticketmaster-Logo-720x405-1-e1647251187524.jpeg
ORGANIZER;CN="Gleneagle INEC Arena":MAILTO:info@inec.ie
END:VEVENT
BEGIN:VEVENT
DTSTART;TZID=Europe/Dublin:20220318T210000
DTEND;TZID=Europe/Dublin:20220318T230000
DTSTAMP:20260421T094808
CREATED:20220314T104626Z
LAST-MODIFIED:20220314T104626Z
UID:43371-1647637200-1647644400@killarneyadvertiser.ie
SUMMARY:Alan Flynn
DESCRIPTION:Music in the Courtyard. \n\n        \n            Attachments\n        4th July 2023 A3 Poster (605 kB)
URL:https://killarneyadvertiser.ie/whats-on-killarney/alan-flynn-3/
LOCATION:Scotts Bar and Courtyard\, Scotts Street\, Killarney\, V93 CF30\, Ireland
CATEGORIES:Live Music
ATTACH;FMTTYPE=image/png:https://killarneyadvertiser.ie/wp-content/uploads/2022/03/scotts_bcy_logo-black-on-gray-swirls-2.png
ORGANIZER;CN="Scotts Bar and Courtyard":MAILTO:info@scottshotelkillarney.com
END:VEVENT
BEGIN:VEVENT
DTSTART;TZID=Europe/Dublin:20220318T220000
DTEND;TZID=Europe/Dublin:20220319T000000
DTSTAMP:20260421T094808
CREATED:20220314T105005Z
LAST-MODIFIED:20220314T105005Z
UID:43372-1647640800-1647648000@killarneyadvertiser.ie
SUMMARY:Ivan Ryan
DESCRIPTION:Music in the Main Bar. \n\n        \n            Attachments\n        4th July 2023 A3 Poster (605 kB)
URL:https://killarneyadvertiser.ie/whats-on-killarney/ivan-ryan-2/
LOCATION:Scotts Bar and Courtyard\, Scotts Street\, Killarney\, V93 CF30\, Ireland
CATEGORIES:Live Music
ATTACH;FMTTYPE=image/png:https://killarneyadvertiser.ie/wp-content/uploads/2022/03/scotts_bcy_logo-black-on-gray-swirls-2.png
ORGANIZER;CN="Scotts Bar and Courtyard":MAILTO:info@scottshotelkillarney.com
END:VEVENT
BEGIN:VEVENT
DTSTART;TZID=Europe/Dublin:20220318T230000
DTEND;TZID=Europe/Dublin:20220319T010000
DTSTAMP:20260421T094808
CREATED:20220314T085641Z
LAST-MODIFIED:20220314T102455Z
UID:43341-1647644400-1647651600@killarneyadvertiser.ie
SUMMARY:Ceol in the Backstage Bar
DESCRIPTION:CEOL is a new ballad band from all over Ireland with a passion for folk music. Founded and managed by Nathan Carter and Liam McKenna Taking inspiration from The Dubliners\, The Chieftans\, Mumford and Sons\, and many other great Irish and international artists before them\, Ceol aim to bring folk music to a new generation. \n\n        \n            Attachments\n        4th July 2023 A3 Poster (605 kB)
URL:https://killarneyadvertiser.ie/whats-on-killarney/ceol-in-the-backstage-bar/
LOCATION:Gleneagle INEC Arena\, Muckross Road\, Killarney\, V93 V6WF\, Ireland
CATEGORIES:Live Music
ATTACH;FMTTYPE=image/jpeg:https://killarneyadvertiser.ie/wp-content/uploads/2022/03/INEC-Ticketmaster-Logo-720x405-1-e1647251187524.jpeg
ORGANIZER;CN="Gleneagle INEC Arena":MAILTO:info@inec.ie
END:VEVENT
END:VCALENDAR