BEGIN:VCALENDAR
VERSION:2.0
PRODID:-//Killarney Advertiser - ECPv6.8.2.1//NONSGML v1.0//EN
CALSCALE:GREGORIAN
METHOD:PUBLISH
X-ORIGINAL-URL:https://killarneyadvertiser.ie
X-WR-CALDESC:Events for Killarney Advertiser
REFRESH-INTERVAL;VALUE=DURATION:PT1H
X-Robots-Tag:noindex
X-PUBLISHED-TTL:PT1H
BEGIN:VTIMEZONE
TZID:Europe/Dublin
BEGIN:STANDARD
TZOFFSETFROM:+0000
TZOFFSETTO:+0100
TZNAME:IST
DTSTART:20220327T010000
END:STANDARD
BEGIN:DAYLIGHT
TZOFFSETFROM:+0100
TZOFFSETTO:+0000
TZNAME:GMT
DTSTART:20221030T010000
END:DAYLIGHT
END:VTIMEZONE
BEGIN:VEVENT
DTSTART;TZID=Europe/Dublin:20220310T183000
DTEND;TZID=Europe/Dublin:20220311T020000
DTSTAMP:20260421T095128
CREATED:20220311T151611Z
LAST-MODIFIED:20220311T151611Z
UID:43320-1646937000-1646964000@killarneyadvertiser.ie
SUMMARY:Jameson and Coocktail promotion and Dj Derek Hegarty
DESCRIPTION:Attachments\n        4th July 2023 A3 Poster (605 kB)
URL:https://killarneyadvertiser.ie/whats-on-killarney/jameson-and-coocktail-promotion-and-dj-derek-hegarty/
LOCATION:Social15\, 15 Main Street\, Killarney\, V93 P46Y\, Ireland
CATEGORIES:Live Music
ORGANIZER;CN="Social15":MAILTO:info@social15.ie
END:VEVENT
BEGIN:VEVENT
DTSTART;TZID=Europe/Dublin:20220311T180000
DTEND;TZID=Europe/Dublin:20220312T020000
DTSTAMP:20260421T095128
CREATED:20220311T151842Z
LAST-MODIFIED:20220311T152139Z
UID:43321-1647021600-1647050400@killarneyadvertiser.ie
SUMMARY:DJ Derek Hegarty (Main Bar)
DESCRIPTION:Attachments\n        4th July 2023 A3 Poster (605 kB)
URL:https://killarneyadvertiser.ie/whats-on-killarney/dj-derek-hegarty-main-bar/
LOCATION:Social15\, 15 Main Street\, Killarney\, V93 P46Y\, Ireland
CATEGORIES:Live Music
ORGANIZER;CN="Social15":MAILTO:info@social15.ie
END:VEVENT
END:VCALENDAR