BEGIN:VCALENDAR
VERSION:2.0
PRODID:-//Killarney Advertiser - ECPv6.8.2.1//NONSGML v1.0//EN
CALSCALE:GREGORIAN
METHOD:PUBLISH
X-WR-CALNAME:Killarney Advertiser
X-ORIGINAL-URL:https://killarneyadvertiser.ie
X-WR-CALDESC:Events for Killarney Advertiser
REFRESH-INTERVAL;VALUE=DURATION:PT1H
X-Robots-Tag:noindex
X-PUBLISHED-TTL:PT1H
BEGIN:VTIMEZONE
TZID:Europe/Dublin
BEGIN:STANDARD
TZOFFSETFROM:+0000
TZOFFSETTO:+0100
TZNAME:IST
DTSTART:20220327T010000
END:STANDARD
BEGIN:DAYLIGHT
TZOFFSETFROM:+0100
TZOFFSETTO:+0000
TZNAME:GMT
DTSTART:20221030T010000
END:DAYLIGHT
END:VTIMEZONE
BEGIN:VEVENT
DTSTART;TZID=Europe/Dublin:20220401T210000
DTEND;TZID=Europe/Dublin:20220402T010000
DTSTAMP:20260421T112519
CREATED:20220330T104205Z
LAST-MODIFIED:20220330T104205Z
UID:43790-1648846800-1648861200@killarneyadvertiser.ie
SUMMARY:Lisdoonvarna Reunion weekend
DESCRIPTION:Lisdoonvarna reunion weekend with Eddie Keogh and Joe Davitt. Tickets available on the door.
URL:https://killarneyadvertiser.ie/whats-on-killarney/lisdoonvarna-reunion-weekend/
LOCATION:Gleneagle INEC Arena\, Muckross Road\, Killarney\, V93 V6WF\, Ireland
CATEGORIES:Community
ATTACH;FMTTYPE=image/jpeg:https://killarneyadvertiser.ie/wp-content/uploads/2022/03/INEC-Ticketmaster-Logo-720x405-1-e1647251187524.jpeg
ORGANIZER;CN="Gleneagle INEC Arena":MAILTO:info@inec.ie
END:VEVENT
BEGIN:VEVENT
DTSTART;TZID=Europe/Dublin:20220331T200000
DTEND;TZID=Europe/Dublin:20220331T230000
DTSTAMP:20260421T112519
CREATED:20220330T110749Z
LAST-MODIFIED:20220330T110749Z
UID:43799-1648756800-1648767600@killarneyadvertiser.ie
SUMMARY:Liam O'Connor
DESCRIPTION:
URL:https://killarneyadvertiser.ie/whats-on-killarney/liam-oconnor-4/
LOCATION:Gleneagle INEC Arena\, Muckross Road\, Killarney\, V93 V6WF\, Ireland
CATEGORIES:Live Music
ATTACH;FMTTYPE=image/jpeg:https://killarneyadvertiser.ie/wp-content/uploads/2022/03/JM-Reidy-1.jpeg
ORGANIZER;CN="Gleneagle INEC Arena":MAILTO:info@inec.ie
END:VEVENT
BEGIN:VEVENT
DTSTART;TZID=Europe/Dublin:20220331T100000
DTEND;TZID=Europe/Dublin:20220401T000000
DTSTAMP:20260421T112519
CREATED:20220330T103525Z
LAST-MODIFIED:20220330T103525Z
UID:43788-1648720800-1648771200@killarneyadvertiser.ie
SUMMARY:Traffic
DESCRIPTION:Traffic play the Gleneagle Backstage Bar.
URL:https://killarneyadvertiser.ie/whats-on-killarney/traffic/
LOCATION:Gleneagle INEC Arena\, Muckross Road\, Killarney\, V93 V6WF\, Ireland
CATEGORIES:Live Music
ATTACH;FMTTYPE=image/jpeg:https://killarneyadvertiser.ie/wp-content/uploads/2022/03/INEC-Ticketmaster-Logo-720x405-1-e1647251187524.jpeg
ORGANIZER;CN="Gleneagle INEC Arena":MAILTO:info@inec.ie
END:VEVENT
BEGIN:VEVENT
DTSTART;TZID=Europe/Dublin:20220330T213000
DTEND;TZID=Europe/Dublin:20220330T230000
DTSTAMP:20260421T112519
CREATED:20220330T102748Z
LAST-MODIFIED:20220330T102748Z
UID:43787-1648675800-1648681200@killarneyadvertiser.ie
SUMMARY:Jimmy G
DESCRIPTION:Jimmy G plays the Gleneagle Backstage Bar.
URL:https://killarneyadvertiser.ie/whats-on-killarney/jimmy-g/
LOCATION:Gleneagle INEC Arena\, Muckross Road\, Killarney\, V93 V6WF\, Ireland
CATEGORIES:Live Music
ATTACH;FMTTYPE=image/jpeg:https://killarneyadvertiser.ie/wp-content/uploads/2022/03/INEC-Ticketmaster-Logo-720x405-1-e1647251187524.jpeg
ORGANIZER;CN="Gleneagle INEC Arena":MAILTO:info@inec.ie
END:VEVENT
BEGIN:VEVENT
DTSTART;TZID=Europe/Dublin:20220330T200000
DTEND;TZID=Europe/Dublin:20220330T230000
DTSTAMP:20260421T112519
CREATED:20220330T110658Z
LAST-MODIFIED:20220330T110658Z
UID:43798-1648670400-1648681200@killarneyadvertiser.ie
SUMMARY:Darren Griffin
DESCRIPTION:
URL:https://killarneyadvertiser.ie/whats-on-killarney/darren-griffin/
LOCATION:Gleneagle INEC Arena\, Muckross Road\, Killarney\, V93 V6WF\, Ireland
CATEGORIES:Live Music
ATTACH;FMTTYPE=image/jpeg:https://killarneyadvertiser.ie/wp-content/uploads/2022/03/JM-Reidy-1.jpeg
ORGANIZER;CN="Gleneagle INEC Arena":MAILTO:info@inec.ie
END:VEVENT
BEGIN:VEVENT
DTSTART;TZID=Europe/Dublin:20220329T213000
DTEND;TZID=Europe/Dublin:20220329T230000
DTSTAMP:20260421T112519
CREATED:20220330T102309Z
LAST-MODIFIED:20220330T102309Z
UID:43786-1648589400-1648594800@killarneyadvertiser.ie
SUMMARY:Barry McGrath
DESCRIPTION:Barry McGrath plays the Gleneagle Backstage Bar.
URL:https://killarneyadvertiser.ie/whats-on-killarney/barry-mcgrath/
LOCATION:Gleneagle INEC Arena\, Muckross Road\, Killarney\, V93 V6WF\, Ireland
CATEGORIES:Live Music
ATTACH;FMTTYPE=image/jpeg:https://killarneyadvertiser.ie/wp-content/uploads/2022/03/INEC-Ticketmaster-Logo-720x405-1-e1647251187524.jpeg
ORGANIZER;CN="Gleneagle INEC Arena":MAILTO:info@inec.ie
END:VEVENT
BEGIN:VEVENT
DTSTART;TZID=Europe/Dublin:20220326T230000
DTEND;TZID=Europe/Dublin:20220327T010000
DTSTAMP:20260421T112519
CREATED:20220322T151453Z
LAST-MODIFIED:20220322T151453Z
UID:43562-1648335600-1648342800@killarneyadvertiser.ie
SUMMARY:Sabrina Fallon
DESCRIPTION:Late night entertainment with Sabrina Fallon in the Ballroom.
URL:https://killarneyadvertiser.ie/whats-on-killarney/sabrina-fallon/
LOCATION:Gleneagle INEC Arena\, Muckross Road\, Killarney\, V93 V6WF\, Ireland
CATEGORIES:Live Music
ATTACH;FMTTYPE=image/jpeg:https://killarneyadvertiser.ie/wp-content/uploads/2022/03/INEC-Ticketmaster-Logo-720x405-1-e1647251187524.jpeg
ORGANIZER;CN="Gleneagle INEC Arena":MAILTO:info@inec.ie
END:VEVENT
BEGIN:VEVENT
DTSTART;TZID=Europe/Dublin:20220326T220000
DTEND;TZID=Europe/Dublin:20220327T000000
DTSTAMP:20260421T112519
CREATED:20220322T151348Z
LAST-MODIFIED:20220322T151348Z
UID:43561-1648332000-1648339200@killarneyadvertiser.ie
SUMMARY:Late night Piano bar with John McGann
DESCRIPTION:Late night Piano bar with John McGann.
URL:https://killarneyadvertiser.ie/whats-on-killarney/late-night-piano-bar-with-john-mcgann/
LOCATION:Gleneagle INEC Arena\, Muckross Road\, Killarney\, V93 V6WF\, Ireland
CATEGORIES:Live Music
ATTACH;FMTTYPE=image/jpeg:https://killarneyadvertiser.ie/wp-content/uploads/2022/03/INEC-Ticketmaster-Logo-720x405-1-e1647251187524.jpeg
ORGANIZER;CN="Gleneagle INEC Arena":MAILTO:info@inec.ie
END:VEVENT
BEGIN:VEVENT
DTSTART;TZID=Europe/Dublin:20220326T203000
DTEND;TZID=Europe/Dublin:20220326T223000
DTSTAMP:20260421T112519
CREATED:20220322T151213Z
LAST-MODIFIED:20220322T151213Z
UID:43560-1648326600-1648333800@killarneyadvertiser.ie
SUMMARY:Greywind
DESCRIPTION:Greywind perform their hometown Debut in the Gleneagle INEC Club.
URL:https://killarneyadvertiser.ie/whats-on-killarney/greywind/
LOCATION:Gleneagle INEC Arena\, Muckross Road\, Killarney\, V93 V6WF\, Ireland
CATEGORIES:Live Music
ATTACH;FMTTYPE=image/jpeg:https://killarneyadvertiser.ie/wp-content/uploads/2022/03/INEC-Ticketmaster-Logo-720x405-1-e1647251187524.jpeg
ORGANIZER;CN="Gleneagle INEC Arena":MAILTO:info@inec.ie
END:VEVENT
BEGIN:VEVENT
DTSTART;TZID=Europe/Dublin:20220326T200000
DTEND;TZID=Europe/Dublin:20220326T223000
DTSTAMP:20260421T112519
CREATED:20220322T150256Z
LAST-MODIFIED:20220322T150256Z
UID:43558-1648324800-1648333800@killarneyadvertiser.ie
SUMMARY:Mike Denver with Philomena Begley\, Brendan Shine and Ray Lynam
DESCRIPTION:Fully seated concert in the Gleneagle INEC Arena with Mike Denver\, Philomena Begley\, Brendan Shine and Ray Lynam.
URL:https://killarneyadvertiser.ie/whats-on-killarney/mike-denver-with-philomena-begley-brendan-shine-and-ray-lynam/
LOCATION:Gleneagle INEC Arena\, Muckross Road\, Killarney\, V93 V6WF\, Ireland
CATEGORIES:Concert
ATTACH;FMTTYPE=image/jpeg:https://killarneyadvertiser.ie/wp-content/uploads/2022/03/INEC-Ticketmaster-Logo-720x405-1-e1647251187524.jpeg
ORGANIZER;CN="Gleneagle INEC Arena":MAILTO:info@inec.ie
END:VEVENT
BEGIN:VEVENT
DTSTART;TZID=Europe/Dublin:20220324T223000
DTEND;TZID=Europe/Dublin:20220324T223000
DTSTAMP:20260421T112519
CREATED:20220322T145652Z
LAST-MODIFIED:20220322T145652Z
UID:43556-1648161000-1648161000@killarneyadvertiser.ie
SUMMARY:Neily O'Connor
DESCRIPTION:Dancing with Neily O’Connor in the Gleneagle Ballroom.
URL:https://killarneyadvertiser.ie/whats-on-killarney/neily-oconnor/
LOCATION:Gleneagle INEC Arena\, Muckross Road\, Killarney\, V93 V6WF\, Ireland
CATEGORIES:Live Music
ATTACH;FMTTYPE=image/jpeg:https://killarneyadvertiser.ie/wp-content/uploads/2022/03/INEC-Ticketmaster-Logo-720x405-1-e1647251187524.jpeg
ORGANIZER;CN="Gleneagle INEC Arena":MAILTO:info@inec.ie
END:VEVENT
BEGIN:VEVENT
DTSTART;TZID=Europe/Dublin:20220324T210000
DTEND;TZID=Europe/Dublin:20220324T230000
DTSTAMP:20260421T112519
CREATED:20220322T145153Z
LAST-MODIFIED:20220322T145153Z
UID:43554-1648155600-1648162800@killarneyadvertiser.ie
SUMMARY:Dancing with Checkers
DESCRIPTION:Social Dancing in the Gleneagle Ballroom with Checkers.
URL:https://killarneyadvertiser.ie/whats-on-killarney/dancing-with-checkers/
LOCATION:Gleneagle INEC Arena\, Muckross Road\, Killarney\, V93 V6WF\, Ireland
CATEGORIES:Live Music
ATTACH;FMTTYPE=image/jpeg:https://killarneyadvertiser.ie/wp-content/uploads/2022/03/INEC-Ticketmaster-Logo-720x405-1-e1647251187524.jpeg
ORGANIZER;CN="Gleneagle INEC Arena":MAILTO:info@inec.ie
END:VEVENT
BEGIN:VEVENT
DTSTART;TZID=Europe/Dublin:20220324T200000
DTEND;TZID=Europe/Dublin:20220324T223000
DTSTAMP:20260421T112519
CREATED:20220322T145506Z
LAST-MODIFIED:20220322T145506Z
UID:43555-1648152000-1648161000@killarneyadvertiser.ie
SUMMARY:Puccini's Madama Butterfly
DESCRIPTION:Senbla presents Opera International’s award-winning Ellen Kent Production featuring the Ukrainian National Municipal Opera Kyiv\, with international soloists\, highly-praised chorus and full orchestra. One of the world’s most popular operas\, Puccini’s Madama Butterfly tells the heart-breaking story of the beautiful young Japanese girl who falls in love with an American naval lieutenant – with dramatic results. Highlights include the melodic ‘Humming Chorus’\, the moving aria ‘One Fine Day’ and the unforgettable ‘Love Duet’. Sung in Italian with English surtitles.
URL:https://killarneyadvertiser.ie/whats-on-killarney/puccinis-madama-butterfly/
LOCATION:Gleneagle INEC Arena\, Muckross Road\, Killarney\, V93 V6WF\, Ireland
CATEGORIES:Live Music
ATTACH;FMTTYPE=image/jpeg:https://killarneyadvertiser.ie/wp-content/uploads/2022/03/INEC-Ticketmaster-Logo-720x405-1-e1647251187524.jpeg
ORGANIZER;CN="Gleneagle INEC Arena":MAILTO:info@inec.ie
END:VEVENT
BEGIN:VEVENT
DTSTART;TZID=Europe/Dublin:20220324T200000
DTEND;TZID=Europe/Dublin:20220324T220000
DTSTAMP:20260421T112519
CREATED:20220322T150029Z
LAST-MODIFIED:20220322T150029Z
UID:43557-1648152000-1648159200@killarneyadvertiser.ie
SUMMARY:Weight Watching - A Comedy play by Ray O'Sullivan
DESCRIPTION:Weight Watching is the latest original play by renowned playwright and actor Ray O’Sullivan and tells the hilarious but real-to-life story of Donie and Kissandra\, two  characters who appear to have nothing in common except a desire to shed pounds. But temptation and life’s cruel hand throw a spanner in the mix\, leaving Donie and Kissandra  with much more on their plate than they could have ever imagined.
URL:https://killarneyadvertiser.ie/whats-on-killarney/weight-watching-a-comedy-play-by-ray-osullivan/
LOCATION:Gleneagle INEC Arena\, Muckross Road\, Killarney\, V93 V6WF\, Ireland
CATEGORIES:Arts
ATTACH;FMTTYPE=image/jpeg:https://killarneyadvertiser.ie/wp-content/uploads/2022/03/INEC-Ticketmaster-Logo-720x405-1-e1647251187524.jpeg
ORGANIZER;CN="Gleneagle INEC Arena":MAILTO:info@inec.ie
END:VEVENT
BEGIN:VEVENT
DTSTART;TZID=Europe/Dublin:20220323T210000
DTEND;TZID=Europe/Dublin:20220323T230000
DTSTAMP:20260421T112519
CREATED:20220322T144602Z
LAST-MODIFIED:20220322T144602Z
UID:43552-1648069200-1648076400@killarneyadvertiser.ie
SUMMARY:Dancing with Peter Burke
DESCRIPTION:Social Dancing in the Gleneagle Ballroom with Peter Burke.
URL:https://killarneyadvertiser.ie/whats-on-killarney/dancing-with-peter-burke/
LOCATION:Gleneagle INEC Arena\, Muckross Road\, Killarney\, V93 V6WF\, Ireland
CATEGORIES:Live Music
ATTACH;FMTTYPE=image/jpeg:https://killarneyadvertiser.ie/wp-content/uploads/2022/03/INEC-Ticketmaster-Logo-720x405-1-e1647251187524.jpeg
ORGANIZER;CN="Gleneagle INEC Arena":MAILTO:info@inec.ie
END:VEVENT
BEGIN:VEVENT
DTSTART;TZID=Europe/Dublin:20220322T210000
DTEND;TZID=Europe/Dublin:20220322T233000
DTSTAMP:20260421T112519
CREATED:20220314T091340Z
LAST-MODIFIED:20220314T102238Z
UID:43348-1647982800-1647991800@killarneyadvertiser.ie
SUMMARY:Michael Collins
DESCRIPTION:Dancing in the Gleneagle Ballroom.
URL:https://killarneyadvertiser.ie/whats-on-killarney/michael-collins/
LOCATION:Gleneagle INEC Arena\, Muckross Road\, Killarney\, V93 V6WF\, Ireland
CATEGORIES:Live Music
ATTACH;FMTTYPE=image/jpeg:https://killarneyadvertiser.ie/wp-content/uploads/2022/03/INEC-Ticketmaster-Logo-720x405-1-e1647251187524.jpeg
ORGANIZER;CN="Gleneagle INEC Arena":MAILTO:info@inec.ie
END:VEVENT
BEGIN:VEVENT
DTSTART;TZID=Europe/Dublin:20220321T213000
DTEND;TZID=Europe/Dublin:20220321T233000
DTSTAMP:20260421T112519
CREATED:20220314T091154Z
LAST-MODIFIED:20220314T102307Z
UID:43347-1647898200-1647905400@killarneyadvertiser.ie
SUMMARY:The Singing Jarvey
DESCRIPTION:Dancing in the Gleneagle Ballroom.
URL:https://killarneyadvertiser.ie/whats-on-killarney/the-singing-jarvey/
LOCATION:Gleneagle INEC Arena\, Muckross Road\, Killarney\, V93 V6WF\, Ireland
CATEGORIES:Live Music
ATTACH;FMTTYPE=image/jpeg:https://killarneyadvertiser.ie/wp-content/uploads/2022/03/INEC-Ticketmaster-Logo-720x405-1-e1647251187524.jpeg
ORGANIZER;CN="Gleneagle INEC Arena":MAILTO:info@inec.ie
END:VEVENT
BEGIN:VEVENT
DTSTART;TZID=Europe/Dublin:20220320T023000
DTEND;TZID=Europe/Dublin:20220320T170000
DTSTAMP:20260421T112519
CREATED:20220314T090904Z
LAST-MODIFIED:20220314T102327Z
UID:43346-1647743400-1647795600@killarneyadvertiser.ie
SUMMARY:Billy Morrissey Country Music dancing Weekend
DESCRIPTION:Afternoon dancing with Patrick O’Sullivan.
URL:https://killarneyadvertiser.ie/whats-on-killarney/billy-morrissey-country-music-dancing-weekend-3/
LOCATION:Gleneagle INEC Arena\, Muckross Road\, Killarney\, V93 V6WF\, Ireland
CATEGORIES:Live Music
ATTACH;FMTTYPE=image/jpeg:https://killarneyadvertiser.ie/wp-content/uploads/2022/03/INEC-Ticketmaster-Logo-720x405-1-e1647251187524.jpeg
ORGANIZER;CN="Gleneagle INEC Arena":MAILTO:info@inec.ie
END:VEVENT
BEGIN:VEVENT
DTSTART;TZID=Europe/Dublin:20220319T233000
DTEND;TZID=Europe/Dublin:20220320T013000
DTSTAMP:20260421T112519
CREATED:20220314T090736Z
LAST-MODIFIED:20220314T102347Z
UID:43345-1647732600-1647739800@killarneyadvertiser.ie
SUMMARY:Sax and DJ in the Backstage Bar
DESCRIPTION:DJ & Saxophone players that will ensure that you have the perfect music for your night out! Everyone on the floor partying until the night ends…
URL:https://killarneyadvertiser.ie/whats-on-killarney/sax-and-dj-in-the-backstage-bar/
LOCATION:Gleneagle INEC Arena\, Muckross Road\, Killarney\, V93 V6WF\, Ireland
CATEGORIES:Live Music
ATTACH;FMTTYPE=image/jpeg:https://killarneyadvertiser.ie/wp-content/uploads/2022/03/INEC-Ticketmaster-Logo-720x405-1-e1647251187524.jpeg
ORGANIZER;CN="Gleneagle INEC Arena":MAILTO:info@inec.ie
END:VEVENT
BEGIN:VEVENT
DTSTART;TZID=Europe/Dublin:20220319T200000
DTEND;TZID=Europe/Dublin:20220320T013000
DTSTAMP:20260421T112519
CREATED:20220314T090356Z
LAST-MODIFIED:20220314T102403Z
UID:43344-1647720000-1647739800@killarneyadvertiser.ie
SUMMARY:Billy Morrissey Country Music dancing Weekend
DESCRIPTION:Mick Flavin\, Sandy Kelly\, Trudi Lalor\, Hugo Duncan with early dancing to Finbarr and Chloe Dennehy.
URL:https://killarneyadvertiser.ie/whats-on-killarney/billy-morrissey-country-music-dancing-weekend-2/
LOCATION:Gleneagle INEC Arena\, Muckross Road\, Killarney\, V93 V6WF\, Ireland
CATEGORIES:Live Music
ATTACH;FMTTYPE=image/jpeg:https://killarneyadvertiser.ie/wp-content/uploads/2022/03/INEC-Ticketmaster-Logo-720x405-1-e1647251187524.jpeg
ORGANIZER;CN="Gleneagle INEC Arena":MAILTO:info@inec.ie
END:VEVENT
BEGIN:VEVENT
DTSTART;TZID=Europe/Dublin:20220319T180000
DTEND;TZID=Europe/Dublin:20220320T000000
DTSTAMP:20260421T112519
CREATED:20220314T090211Z
LAST-MODIFIED:20220314T102436Z
UID:43343-1647712800-1647734400@killarneyadvertiser.ie
SUMMARY:Biggest 90s/00s Concert & Disco
DESCRIPTION:A trip down memory lane\, with performers from the ’90s and ’00s who dominated the music industry of those times! During a 6hr concert in the fabulous INEC Arena on 19th March 2022 you will hear all your favourite hits\, in one night from: Vengaboys Dj Alice Ian Van Dahl Dario G Cappella N-Trance Nightcrawlers’s Black Box Whigfield Phats Small (Line up is subject to change).
URL:https://killarneyadvertiser.ie/whats-on-killarney/biggest-90s-00s-concert-disco/
LOCATION:Gleneagle INEC Arena\, Muckross Road\, Killarney\, V93 V6WF\, Ireland
CATEGORIES:Live Music
ATTACH;FMTTYPE=image/jpeg:https://killarneyadvertiser.ie/wp-content/uploads/2022/03/INEC-Ticketmaster-Logo-720x405-1-e1647251187524.jpeg
ORGANIZER;CN="Gleneagle INEC Arena":MAILTO:info@inec.ie
END:VEVENT
BEGIN:VEVENT
DTSTART;TZID=Europe/Dublin:20220318T230000
DTEND;TZID=Europe/Dublin:20220319T010000
DTSTAMP:20260421T112519
CREATED:20220314T085641Z
LAST-MODIFIED:20220314T102455Z
UID:43341-1647644400-1647651600@killarneyadvertiser.ie
SUMMARY:Ceol in the Backstage Bar
DESCRIPTION:CEOL is a new ballad band from all over Ireland with a passion for folk music. Founded and managed by Nathan Carter and Liam McKenna Taking inspiration from The Dubliners\, The Chieftans\, Mumford and Sons\, and many other great Irish and international artists before them\, Ceol aim to bring folk music to a new generation.
URL:https://killarneyadvertiser.ie/whats-on-killarney/ceol-in-the-backstage-bar/
LOCATION:Gleneagle INEC Arena\, Muckross Road\, Killarney\, V93 V6WF\, Ireland
CATEGORIES:Live Music
ATTACH;FMTTYPE=image/jpeg:https://killarneyadvertiser.ie/wp-content/uploads/2022/03/INEC-Ticketmaster-Logo-720x405-1-e1647251187524.jpeg
ORGANIZER;CN="Gleneagle INEC Arena":MAILTO:info@inec.ie
END:VEVENT
BEGIN:VEVENT
DTSTART;TZID=Europe/Dublin:20220318T200000
DTEND;TZID=Europe/Dublin:20220319T020000
DTSTAMP:20260421T112519
CREATED:20220314T085928Z
LAST-MODIFIED:20220314T102511Z
UID:43342-1647633600-1647655200@killarneyadvertiser.ie
SUMMARY:Billy Morrissey Country Music Dancing Weekend
DESCRIPTION:Trudi Lalor\, John Hogan\, Paddy O’Brien\, David James with early dancing to Donie O.
URL:https://killarneyadvertiser.ie/whats-on-killarney/billy-morrissey-country-music-dancing-weekend/
LOCATION:Gleneagle INEC Arena\, Muckross Road\, Killarney\, V93 V6WF\, Ireland
CATEGORIES:Live Music
ATTACH;FMTTYPE=image/jpeg:https://killarneyadvertiser.ie/wp-content/uploads/2022/03/INEC-Ticketmaster-Logo-720x405-1-e1647251187524.jpeg
ORGANIZER;CN="Gleneagle INEC Arena":MAILTO:info@inec.ie
END:VEVENT
BEGIN:VEVENT
DTSTART;TZID=Europe/Dublin:20220317T200000
DTEND;TZID=Europe/Dublin:20220318T020000
DTSTAMP:20260421T112519
CREATED:20220314T085458Z
LAST-MODIFIED:20220314T102221Z
UID:43340-1647547200-1647568800@killarneyadvertiser.ie
SUMMARY:Billy Morrissey St Patrick's Night Dance
DESCRIPTION:Gerry Gutherie and his band with early dancing to Donie O.
URL:https://killarneyadvertiser.ie/whats-on-killarney/billy-morrissey-st-patricks-night-dance/
LOCATION:Gleneagle INEC Arena\, Muckross Road\, Killarney\, V93 V6WF\, Ireland
CATEGORIES:Live Music
ATTACH;FMTTYPE=image/jpeg:https://killarneyadvertiser.ie/wp-content/uploads/2022/03/INEC-Ticketmaster-Logo-720x405-1-e1647251187524.jpeg
ORGANIZER;CN="Gleneagle INEC Arena":MAILTO:info@inec.ie
END:VEVENT
END:VCALENDAR